Workbook

Sheet Cover
B2: Bob Evans Financial Model
B3: May 1st, 2014

Sheet Summary
B2: Bob Evans Farms, Inc.
B3: Summary
B4: 41760
B6: Trading Data | G6: Summary Financials
B7: Current Price as of: | C7: =B4 -> 41760 | E7: 50.35 | G7: (FY End: April) | H7: 2010 | I7: =H7+1 -> 2011 | J7: =I7+1 -> 2012 | K7: =J7+1 -> 2013 | L7: =K7+1 -> 2014 | M7: =L7+1 -> 2015 | N7: =M7+1 -> 2016 | O7: =N7+1 -> 2017
B8: Shares Outstanding (m) | E8: 23.6 | G8: Revenue | H8: =IS!C7 -> 1726.804 | I8: =IS!D7 -> 1676.906 | J8: =IS!E7 -> 1654.413 | K8: =IS!F7 -> 1350.194 | L8: =IS!G7 -> 1328.552 | M8: =IS!H7 -> 1339.3941 | N8: =IS!I7 -> 1361.3811 | O8: =IS!J7 -> 1366.7957
B9: Market Capitalization | E9: =E7*E8 -> 1188.26 | G9: Growth y/y% | H9: 0.119 | I9: =I8/H8-1 -> -0.028896157 | J9: =J8/I8-1 -> -0.013413393 | K9: =K8/J8-1 -> -0.18388335 | L9: =L8/K8-1 -> -0.016028808 | M9: =M8/L8-1 -> 0.0081608097 | N9: =N8/M8-1 -> 0.016415657 | O9: =O8/N8-1 -> 0.0039772662
B10: Cash & Short-Term Investments | E10: =BS!AG8 -> 3.737 | G10: Adjusted EBITDA | H10: =IS!C25 -> 190.22 | I10: =IS!D25 -> 181.628 | J10: =IS!E25 -> 197.387 | K10: =IS!F25 -> 210.71714 | L10: =IS!G25 -> 128.13117 | M10: =IS!H25 -> 141.16118 | N10: =IS!I25 -> 171.64071 | O10: =IS!J25 -> 180.9547
B11: Total Debt | E11: =BS!AH40 -> 472.19648 | G11: Growth y/y% | H11: -0.003 | I11: =I10/H10-1 -> -0.045168752 | J11: =J10/I10-1 -> 0.086765256 | K11: =K10/J10-1 -> 0.06753301 | L11: =L10/K10-1 -> -0.39192809 | M11: =M10/L10-1 -> 0.10169275 | N11: =N10/M10-1 -> 0.21592002 | O11: =O10/N10-1 -> 0.054264471
B12: Total Enterprise Value | E12: =E9-E10+E11 -> 1656.7195 | G12: Margin % | H12: =H10/H8 -> 0.11015726 | I12: =I10/I8 -> 0.10831138 | J12: =J10/J8 -> 0.11930939 | K12: =K10/K8 -> 0.15606434 | L12: =L10/L8 -> 0.096444228 | M12: =M10/M8 -> 0.10539182 | N12: =N10/N8 -> 0.12607837 | O12: =O10/O8 -> 0.13239338
B13: Book Value of Common Equity | E13: 374 | G13: Adjusted EPS | H13: =IS!C34 -> 2.289746 | I13: =IS!D34 -> 2.1496466 | J13: =IS!E34 -> 2.419802 | K13: =IS!F34 -> 2.3910703 | L13: =IS!G34 -> 1.410458 | M13: =IS!H34 -> 1.6504539 | N13: =IS!I34 -> 1.869719 | O13: =IS!J34 -> 2.0423254
B14: Total Debt | E14: =E11 -> 472.19648 | G14: Growth y/y% | H14: 0.301 | I14: =I13/H13-1 -> -0.061185552 | J14: =J13/I13-1 -> 0.12567429 | K14: =K13/J13-1 -> -0.011873566 | L14: =L13/K13-1 -> -0.41011436 | M14: =M13/L13-1 -> 0.17015458 | N14: =N13/M13-1 -> 0.13285142 | O14: =O13/N13-1 -> 0.092316751
B15: Total Capital | E15: =SUM(E13:E14) -> 846.19648 | G15: Free Cash Flow | H15: =CF!C31 -> 105.383 | I15: =CF!D31 -> 76.978 | J15: =CF!E31 -> 55.676 | K15: =CF!F31 -> -199.212 | L15: =CF!G31 -> -55.94 | M15: =CF!H31 -> 5.2786554 | N15: =CF!I31 -> 32.635813 | O15: =CF!J31 -> 36.680659
G16: FCF Yield% | L16: 0 | M16: =M15/$E$8/$E$7 -> 0.0044423404 | N16: =N15/$E$8/$E$7 -> 0.027465212 | O16: =O15/$E$8/$E$7 -> 0.03086922
B17: Liquidity | G17: EV / EBITDA | L17: =$E$12/L10 -> 12.929871 | M17: =$E$12/M10 -> 11.736367 | N17: =$E$12/N10 -> 9.6522525 | O17: =$E$12/O10 -> 9.1554375
B18: Net Debt / TTM EBITDA | E18: =BS!AG44 -> 4.1107421 | G18: EV / Sales | L18: =$E$12/L8 -> 1.2470114 | M18: =$E$12/M8 -> 1.2369171 | N18: =$E$12/N8 -> 1.2169403 | O18: =$E$12/O8 -> 1.2121193
B19: EBITDA / Interest Expense | E19: =BS!AG47 -> 13.944621 | G19: P / E | L19: =$E$7/L13 -> 35.697624 | M19: =$E$7/M13 -> 30.506759 | N19: =$E$7/N13 -> 26.92918 | O19: =$E$7/O13 -> 24.65327

Sheet IS
L1: 40025 | M1: =EOMONTH(L1,3) -> 40117 | N1: =EOMONTH(M1,3) -> 40209 | O1: =EOMONTH(N1,3) -> 40298 | P1: =EOMONTH(O1,3) -> 40390 | Q1: =EOMONTH(P1,3) -> 40482 | R1: =EOMONTH(Q1,3) -> 40574 | S1: =EOMONTH(R1,3) -> 40663 | T1: =EOMONTH(S1,3) -> 40755 | ... AQ1: =EOMONTH(AP1,3) -> 42855
B2: Bob Evans Farms, Inc.
B3: Consolidated Income Statement
B4: $000's, Except Where Noted
C5: Annual Summary | L5: 2010 | P5: =L5+1 -> 2011 | T5: =P5+1 -> 2012 | X5: =T5+1 -> 2013 | AB5: =X5+1 -> 2014 | AF5: =AB5+1 -> 2015 | AJ5: =AF5+1 -> 2016 | AN5: =AJ5+1 -> 2017
C6: 2010 | D6: =C6+1 -> 2011 | E6: =D6+1 -> 2012 | F6: =E6+1 -> 2013 | G6: =F6+1 -> 2014 | H6: =G6+1 -> 2015 | I6: =H6+1 -> 2016 | J6: =I6+1 -> 2017 | L6: 1 | M6: =L6+1 -> 2 | N6: =M6+1 -> 3 | O6: =N6+1 -> 4 | P6: 1 | Q6: =P6+1 -> 2 | R6: =Q6+1 -> 3 | S6: =R6+1 -> 4 | T6: 1 | U6: =T6+1 -> 2 | V6: =U6+1 -> 3 | W6: =V6+1 -> 4 | X6: 1 | Y6: =X6+1 -> 2 | Z6: =Y6+1 -> 3 | AA6: =Z6+1 -> 4 | AB6: 1 | AC6: =AB6+1 -> 2 | AD6: =AC6+1 -> 3 | AE6: =AD6+1 -> 4 | AF6: 1 | AG6: =AF6+1 -> 2 | AH6: =AG6+1 -> 3 | AI6: =AH6+1 -> 4 | AJ6: 1 | AK6: =AJ6+1 -> 2 | AL6: =AK6+1 -> 3 | AM6: =AL6+1 -> 4 | AN6: 1 | AO6: =AN6+1 -> 2 | AP6: =AO6+1 -> 3 | AQ6: =AP6+1 -> 4
B7: Net Sales | C7: =SUM(L7:O7) -> 1726.804 | D7: =SUM(P7:S7) -> 1676.906 | E7: =SUM(T7:W7) -> 1654.413 | F7: =SUM(X7:AA7) -> 1350.194 | G7: =SUM(AB7:AE7) -> 1328.552 | H7: =SUM(AF7:AI7) -> 1339.3941 | I7: =SUM(AJ7:AM7) -> 1361.3811 | J7: =SUM(AK7:AN7) -> 1366.7957 | L7: =L9+L11+L13 -> 429.48 | M7: =M9+M11+M13 -> 424.847 | N7: =N9+N11+N13 -> 429.823 | O7: =O9+O11+O13 -> 442.654 | P7: =P9+P11+P13 -> 412.566 | Q7: =Q9+Q11+Q13 -> 417.046 | R7: =R9+R11+R13 -> 428.594 | S7: =S9+S11+S13 -> 418.7 | ... AQ7: =AQ9+AQ11+AQ13 -> 343.94985
B8: % Growth | C8: -0.014 | D8: =D7/C7-1 -> -0.028896157 | E8: =E7/D7-1 -> -0.013413393 | F8: =F7/E7-1 -> -0.18388335 | G8: =G7/F7-1 -> -0.016028808 | H8: =H7/G7-1 -> 0.0081608097 | I8: =I7/H7-1 -> 0.016415657 | J8: =J7/I7-1 -> 0.0039772662 | L8: -0.039 | M8: -0.018 | N8: -0.003 | O8: -0.054 | P8: =P7/L7-1 -> -0.039382509 | Q8: =Q7/M7-1 -> -0.018361904 | R8: =R7/N7-1 -> -0.0028593165 | S8: =S7/O7-1 -> -0.0541145 | T8: =T7/P7-1 -> -0.017463872 | U8: =U7/Q7-1 -> -0.023644874 | V8: =V7/R7-1 -> -0.00059496866 | W8: =W7/S7-1 -> -0.01235252 | ... AQ8: =AQ7/AM7-1 -> 0.016465832
B9: Restaurant Operations | C9: =SUM(L9:O9) -> 1411.092 | D9: =SUM(P9:S9) -> 1356.933 | E9: =SUM(T9:W9) -> 1339.693 | F9: =SUM(X9:AA9) -> 1001.386 | G9: =SUM(AB9:AE9) -> 956.579 | H9: =SUM(AF9:AI9) -> 962.20956 | I9: =SUM(AJ9:AM9) -> 976.6427 | J9: =SUM(AK9:AN9) -> 980.299 | L9: 359.815 | M9: 345.385 | N9: 343.037 | O9: 362.855 | P9: 343.085 | Q9: 338.079 | R9: 337.694 | S9: 338.075 | T9: 333.153 | U9: 328.873 | V9: 337.308 | W9: 340.359 | X9: 247.966 | Y9: 246.302 | Z9: 245.494 | AA9: 261.624 | AB9: 244.551 | AC9: 240.5 | AD9: 240.506 | AE9: 231.022 | AF9: 240.151 | AG9: 241.1 | AH9: ='Segments+SG&A'!V9 -> 245.31612 | AI9: ='Segments+SG&A'!W9 -> 235.64244 | AJ9: ='Segments+SG&A'!X9 -> 243.75326 | AK9: ='Segments+SG&A'!Y9 -> 244.7165 | AL9: ='Segments+SG&A'!Z9 -> 248.99586 | AM9: ='Segments+SG&A'!AA9 -> 239.17708 | AN9: ='Segments+SG&A'!AB9 -> 247.40956 | AO9: ='Segments+SG&A'!AC9 -> 248.38725 | ... AQ9: ='Segments+SG&A'!AE9 -> 242.76473
B10: % Growth | C10: -0.019 | D10: =D9/C9-1 -> -0.038380914 | E10: =E9/D9-1 -> -0.012705123 | F10: =F9/E9-1 -> -0.25252577 | G10: =G9/F9-1 -> -0.044744983 | H10: =H9/G9-1 -> 0.0058861422 | I10: =I9/H9-1 -> 0.015 | J10: =J9/I9-1 -> 0.0037437427 | L10: -0.046 | M10: -0.021 | N10: -0.016 | O10: -0.068 | P10: =P9/L9-1 -> -0.046496116 | Q10: =Q9/M9-1 -> -0.021153206 | R10: =R9/N9-1 -> -0.015575579 | S10: =S9/O9-1 -> -0.068291742 | T10: =T9/P9-1 -> -0.028949094 | U10: =U9/Q9-1 -> -0.027230322 | V10: =V9/R9-1 -> -0.0011430467 | W10: =W9/S9-1 -> 0.0067558974 | ... AQ10: =AQ9/AM9-1 -> 0.015
B11: Food Product Sales | C11: =SUM(L11:O11) -> 327.674 | D11: =SUM(P11:S11) -> 333.606 | E11: =SUM(T11:W11) -> 329.165 | F11: =SUM(X11:AA11) -> 371.584 | G11: =SUM(AB11:AE11) -> 382.871 | H11: =SUM(AF11:AI11) -> 377.1845 | I11: =SUM(AJ11:AM11) -> 384.73839 | J11: =SUM(AK11:AN11) -> 386.49667 | L11: 72.826 | M11: 82.63 | N11: 89.631 | O11: 82.587 | P11: 72.611 | Q11: 82.53 | R11: 94.572 | S11: 83.893 | T11: 75.426 | U11: 81.995 | V11: 95.16 | W11: 76.584 | X11: 82.672 | Y11: 91.142 | Z11: 105.517 | AA11: 92.253 | AB11: 88.18 | AC11: 95.857 | AD11: 103.485 | AE11: 95.349 | AF11: 86.19 | AG11: 92.12 | AH11: ='Segments+SG&A'!V29 -> 101.61852 | AI11: ='Segments+SG&A'!W29 -> 97.25598 | AJ11: ='Segments+SG&A'!X29 -> 87.9138 | AK11: ='Segments+SG&A'!Y29 -> 93.9726 | AL11: ='Segments+SG&A'!Z29 -> 103.65089 | AM11: ='Segments+SG&A'!AA29 -> 99.2011 | AN11: ='Segments+SG&A'!AB29 -> 89.672076 | AO11: ='Segments+SG&A'!AC29 -> 95.852052 | ... AQ11: ='Segments+SG&A'!AE29 -> 101.18512
B12: % Growth | C12: -0.073 | D12: =D11/C11-1 -> 0.018103359 | E12: =E11/D11-1 -> -0.013312111 | F12: =F11/E11-1 -> 0.1288685 | G12: =G11/F11-1 -> 0.030375366 | H12: =H11/G11-1 -> -0.014852261 | I12: =I11/H11-1 -> 0.020027042 | J12: =J11/I11-1 -> 0.004570056 | L12: -0.003 | M12: -0.001 | N12: 0.055 | O12: 0.016 | P12: =P11/L11-1 -> -0.0029522423 | Q12: =Q11/M11-1 -> -0.0012102142 | R12: =R11/N11-1 -> 0.055126017 | S12: =S11/O11-1 -> 0.015813627 | T12: =T11/P11-1 -> 0.038768231 | U12: =U11/Q11-1 -> -0.0064824912 | V12: =V11/R11-1 -> 0.0062174851 | W12: =W11/S11-1 -> -0.087122883 | ... AQ12: =AQ11/AM11-1 -> 0.02
B13: Intersegment Food Product Sales | C13: =SUM(L13:O13) -> -11.962 | D13: =SUM(P13:S13) -> -13.633 | E13: =SUM(T13:W13) -> -14.445 | F13: =SUM(X13:AA13) -> -22.776 | G13: =SUM(AB13:AE13) -> -10.898 | H13: =SUM(AF13:AI13) -> 0 | I13: =SUM(AJ13:AM13) -> 0 | J13: =SUM(AK13:AN13) -> 0 | L13: -3.161 | M13: -3.168 | N13: -2.845 | O13: -2.788 | P13: -3.13 | Q13: -3.563 | R13: -3.672 | S13: -3.268 | T13: -3.218 | U13: -3.683 | V13: -4.129 | W13: -3.415 | X13: -7.197 | Y13: -7.889 | Z13: -7.69 | AA13: 0 | AB13: -3.282 | AC13: -3.757 | AD13: -3.859 | AE13: 0 | AF13: 0 | AG13: 0 | AH13: 0 | AI13: 0 | AJ13: 0 | AK13: 0 | AL13: 0 | AM13: 0 | AN13: 0 | AO13: 0 | AP13: 0 | AQ13: 0
B14: Cost of Goods Sold | C14: =SUM(L14:O14) -> 516.666 | D14: =SUM(P14:S14) -> 509.849 | E14: =SUM(T14:W14) -> 509.816 | F14: =SUM(X14:AA14) -> 421.781 | G14: =SUM(AB14:AE14) -> 445.052 | H14: =SUM(AF14:AI14) -> 457.10487 | I14: =SUM(AJ14:AM14) -> 457.83845 | J14: =SUM(AK14:AN14) -> 455.9018 | L14: 125.494 | M14: 123.31 | N14: 134.241 | O14: 133.621 | P14: 122.169 | Q14: 124.131 | R14: 135.001 | S14: 128.548 | T14: 121.087 | U14: 125.842 | V14: 137.657 | W14: 125.23 | X14: 97.754 | Y14: 98.064 | Z14: 113.955 | AA14: 112.008 | AB14: 104.505 | AC14: 111.071 | AD14: 117.751 | AE14: 111.725 | AF14: 113.463 | AG14: 116.01 | AH14: ='Segments+SG&A'!V10+'Segments+SG&A'!V30 -> 116.20303 | AI14: ='Segments+SG&A'!W10+'Segments+SG&A'!W30 -> 111.42884 | AJ14: ='Segments+SG&A'!X10+'Segments+SG&A'!X30 -> 109.97016 | AK14: ='Segments+SG&A'!Y10+'Segments+SG&A'!Y30 -> 113.43177 | AL14: ='Segments+SG&A'!Z10+'Segments+SG&A'!Z30 -> 119.6739 | AM14: ='Segments+SG&A'!AA10+'Segments+SG&A'!AA30 -> 114.76262 | AN14: ='Segments+SG&A'!AB10+'Segments+SG&A'!AB30 -> 108.03351 | AO14: ='Segments+SG&A'!AC10+'Segments+SG&A'!AC30 -> 111.46062 | ... AQ14: ='Segments+SG&A'!AE10+'Segments+SG&A'!AE30 -> 112.80152
B15: Operating and Fringe Benefits | C15: =SUM(L15:O15) -> 596.892 | D15: =SUM(P15:S15) -> 559.193 | E15: =SUM(T15:W15) -> 535.069 | F15: =SUM(X15:AA15) -> 413.671 | G15: =SUM(AB15:AE15) -> 401.255 | H15: =SUM(AF15:AI15) -> 403.3597 | I15: =SUM(AG15:AJ15) -> 398.55135 | J15: =SUM(AH15:AK15) -> 396.26358 | L15: 150.051 | M15: 149.813 | N15: 144.608 | O15: 152.42 | P15: 144.098 | Q15: 140.083 | R15: 141.282 | S15: 133.73 | T15: 133.423 | U15: 132.424 | V15: 133.575 | W15: 135.647 | X15: 100.609 | Y15: 101.47 | Z15: 102.946 | AA15: 108.646 | AB15: 101.712 | AC15: 100.656 | AD15: 102.422 | AE15: 96.465 | AF15: 104.228 | AG15: 102.7 | AH15: ='Segments+SG&A'!V11+'Segments+SG&A'!V31 -> 100.21033 | AI15: ='Segments+SG&A'!W11+'Segments+SG&A'!W31 -> 96.221368 | AJ15: ='Segments+SG&A'!X11+'Segments+SG&A'!X31 -> 99.419657 | AK15: ='Segments+SG&A'!Y11+'Segments+SG&A'!Y31 -> 100.41223 | AL15: ='Segments+SG&A'!Z11+'Segments+SG&A'!Z31 -> 103.01181 | AM15: ='Segments+SG&A'!AA11+'Segments+SG&A'!AA31 -> 98.911634 | AN15: ='Segments+SG&A'!AB11+'Segments+SG&A'!AB31 -> 100.77776 | AO15: ='Segments+SG&A'!AC11+'Segments+SG&A'!AC31 -> 101.77604 | ... AQ15: ='Segments+SG&A'!AE11+'Segments+SG&A'!AE31 -> 100.24502
B16: Gross Profit | C16: =C7-C14-C15 -> 613.246 | D16: =D7-D14-D15 -> 607.864 | E16: =E7-E14-E15 -> 609.528 | F16: =F7-F14-F15 -> 514.742 | G16: =G7-G14-G15 -> 482.245 | H16: =H7-H14-H15 -> 478.92949 | I16: =I7-I14-I15 -> 504.99129 | J16: =J7-J14-J15 -> 514.63029 | L16: =L7-L14-L15 -> 153.935 | M16: =M7-M14-M15 -> 151.724 | N16: =N7-N14-N15 -> 150.974 | O16: =O7-O14-O15 -> 156.613 | P16: =P7-P14-P15 -> 146.299 | Q16: =Q7-Q14-Q15 -> 152.832 | R16: =R7-R14-R15 -> 152.311 | S16: =S7-S14-S15 -> 156.422 | ... AQ16: =AQ7-AQ14-AQ15 -> 130.90331
B17: Other Operating Expenses | C17: =SUM(L17:O17) -> 276.522 | D17: =SUM(P17:S17) -> 270.694 | E17: =SUM(T17:W17) -> 268.799 | F17: =SUM(X17:AA17) -> 202.188 | G17: =SUM(AB17:AE17) -> 202.652 | H17: =SUM(AF17:AI17) -> 196.75317 | I17: =SUM(AJ17:AM17) -> 195.65412 | J17: =SUM(AK17:AN17) -> 196.3214 | L17: 69.451 | M17: 70.727 | N17: 68.02 | O17: 68.324 | P17: 68.374 | Q17: 68.339 | R17: 68.84 | S17: 65.141 | T17: 67.251 | U17: 69.185 | V17: 69.906 | W17: 62.457 | X17: 51.667 | Y17: 51.372 | Z17: 48.61 | AA17: 50.539 | AB17: 50.983 | AC17: 51.993 | AD17: 49.081 | AE17: 50.595 | AF17: 49.508 | AG17: 49.97 | AH17: ='Segments+SG&A'!V13+'Segments+SG&A'!V33 -> 49.629985 | AI17: ='Segments+SG&A'!W13+'Segments+SG&A'!W33 -> 47.645181 | AJ17: ='Segments+SG&A'!X13+'Segments+SG&A'!X33 -> 48.207418 | AK17: ='Segments+SG&A'!Y13+'Segments+SG&A'!Y33 -> 48.837695 | AL17: ='Segments+SG&A'!Z13+'Segments+SG&A'!Z33 -> 50.310415 | AM17: ='Segments+SG&A'!AA13+'Segments+SG&A'!AA33 -> 48.298588 | AN17: ='Segments+SG&A'!AB13+'Segments+SG&A'!AB33 -> 48.874704 | AO17: ='Segments+SG&A'!AC13+'Segments+SG&A'!AC33 -> 49.510588 | ... AQ17: ='Segments+SG&A'!AE13+'Segments+SG&A'!AE33 -> 48.960074
B18: Selling, General & Administrative | C18: =SUM(L18:O18) -> 146.322 | D18: =SUM(P18:S18) -> 165.668 | E18: =SUM(T18:W18) -> 150.743 | F18: =SUM(X18:AA18) -> 157.925 | G18: =SUM(AB18:AE18) -> 154.632 | H18: =SUM(AF18:AI18) -> 149.55714 | I18: =SUM(AJ18:AM18) -> 146.49646 | J18: =SUM(AK18:AN18) -> 146.15419 | L18: 38.362 | M18: 35.412 | N18: 33.449 | O18: 39.099 | P18: 35.763 | Q18: 49.661 | R18: 37.46 | S18: 42.784 | T18: 35.726 | U18: 38.165 | V18: 36.634 | W18: 40.218 | X18: 32.646 | Y18: 38.865 | Z18: 40.638 | AA18: 45.776 | AB18: 34.411 | AC18: 37.933 | AD18: 40.832 | AE18: 41.456 | AF18: 38.847 | AG18: 36.02 | AH18: ='Segments+SG&A'!V14+'Segments+SG&A'!V34 -> 38.127019 | AI18: ='Segments+SG&A'!W14+'Segments+SG&A'!W34 -> 36.563124 | AJ18: ='Segments+SG&A'!X14+'Segments+SG&A'!X34 -> 35.224805 | AK18: ='Segments+SG&A'!Y14+'Segments+SG&A'!Y34 -> 36.306382 | AL18: ='Segments+SG&A'!Z14+'Segments+SG&A'!Z34 -> 38.267045 | AM18: ='Segments+SG&A'!AA14+'Segments+SG&A'!AA34 -> 36.698233 | AN18: ='Segments+SG&A'!AB14+'Segments+SG&A'!AB34 -> 34.882526 | AO18: ='Segments+SG&A'!AC14+'Segments+SG&A'!AC34 -> 35.95247 | ... AQ18: ='Segments+SG&A'!AE14+'Segments+SG&A'!AE34 -> 36.339092
B19: Goodwill & Other Intangibles | C19: =SUM(L19:O19) -> 0 | D19: =SUM(P19:S19) -> 0 | E19: =SUM(T19:W19) -> 0 | F19: =SUM(X19:AA19) -> 57.743 | G19: =SUM(AB19:AE19) -> 12.38 | H19: =SUM(AF19:AI19) -> 0.258 | I19: =SUM(AJ19:AM19) -> 0 | J19: =SUM(AK19:AN19) -> 0 | L19: 0 | M19: 0 | N19: 0 | O19: 0 | P19: 0 | Q19: 0 | R19: 0 | S19: 0 | T19: 0 | U19: 0 | V19: 0 | W19: 0 | X19: 0 | Y19: 0 | Z19: 0 | AA19: 57.743 | AB19: 8.609 | AC19: 3.771 | AD19: 0 | AE19: 0 | AF19: 0.258 | AG19: 0 | AH19: 0 | AI19: =AH19 -> 0 | AJ19: =AI19 -> 0 | AK19: =AJ19 -> 0 | AL19: =AK19 -> 0 | AM19: =AL19 -> 0 | AN19: =AM19 -> 0 | AO19: =AN19 -> 0 | AP19: =AO19 -> 0 | AQ19: =AP19 -> 0
B20: Depreciation and Amortization | C20: =SUM(L20:O20) -> 83.988 | D20: =SUM(P20:S20) -> 82.962 | E20: =SUM(T20:W20) -> 82.112 | F20: =SUM(X20:AA20) -> 66.243 | G20: =SUM(AB20:AE20) -> 79.456 | H20: =SUM(AF20:AI20) -> 80.649031 | I20: =SUM(AJ20:AM20) -> 87.601909 | J20: =SUM(AK20:AN20) -> 87.945763 | L20: 20.983 | M20: 20.678 | N20: 21.112 | O20: 21.215 | P20: 20.776 | Q20: 20.922 | R20: 20.577 | S20: 20.687 | T20: 20.379 | U20: 20.239 | V20: 20.309 | W20: 21.185 | X20: 15.254 | Y20: 16.311 | Z20: 17.023 | AA20: 17.655 | AB20: 17.23 | AC20: 18.281 | AD20: 22.092 | AE20: 21.853 | AF20: 19.973 | AG20: 19.47 | AH20: ='Segments+SG&A'!V12+'Segments+SG&A'!V32 -> 21.026474 | AI20: ='Segments+SG&A'!W12+'Segments+SG&A'!W32 -> 20.179558 | AJ20: ='Segments+SG&A'!X12+'Segments+SG&A'!X32 -> 21.458419 | AK20: ='Segments+SG&A'!Y12+'Segments+SG&A'!Y32 -> 21.828785 | AL20: ='Segments+SG&A'!Z12+'Segments+SG&A'!Z32 -> 22.612255 | AM20: ='Segments+SG&A'!AA12+'Segments+SG&A'!AA32 -> 21.70245 | AN20: ='Segments+SG&A'!AB12+'Segments+SG&A'!AB32 -> 21.802273 | AO20: ='Segments+SG&A'!AC12+'Segments+SG&A'!AC32 -> 22.17971 | ... AQ20: ='Segments+SG&A'!AE12+'Segments+SG&A'!AE32 -> 22.052787
B21: Total Expenses | C21: =SUM(C17:C20) -> 506.832 | D21: =SUM(D17:D20) -> 519.324 | E21: =SUM(E17:E20) -> 501.654 | F21: =SUM(F17:F20) -> 484.099 | G21: =SUM(G17:G20) -> 449.12 | H21: =SUM(H17:H20) -> 427.21734 | I21: =SUM(I17:I20) -> 429.75249 | J21: =SUM(J17:J20) -> 430.42135 | L21: =SUM(L17:L20) -> 128.796 | M21: =SUM(M17:M20) -> 126.817 | N21: =SUM(N17:N20) -> 122.581 | O21: =SUM(O17:O20) -> 128.638 | P21: =SUM(P17:P20) -> 124.913 | Q21: =SUM(Q17:Q20) -> 138.922 | R21: =SUM(R17:R20) -> 126.877 | S21: =SUM(S17:S20) -> 128.612 | ... AQ21: =SUM(AQ17:AQ20) -> 107.35195
B22: Operating Income | C22: =C16-C21 -> 106.414 | D22: =D16-D21 -> 88.54 | E22: =E16-E21 -> 107.874 | F22: =F16-F21 -> 30.643 | G22: =G16-G21 -> 33.125 | H22: =H16-H21 -> 51.712153 | I22: =I16-I21 -> 75.238801 | J22: =J16-J21 -> 84.208939 | L22: =L16-L21 -> 25.139 | M22: =M16-M21 -> 24.907 | N22: =N16-N21 -> 28.393 | O22: =O16-O21 -> 27.975 | P22: =P16-P21 -> 21.386 | Q22: =Q16-Q21 -> 13.91 | R22: =R16-R21 -> 25.434 | S22: =S16-S21 -> 27.81 | ... AQ22: =AQ16-AQ21 -> 23.551361
B23: % Growth | C23: 0.031 | D23: =IFERROR(D22/C22-1,"N.A. ") -> -0.16796662 | E23: =IFERROR(E22/D22-1,"N.A. ") -> 0.21836458 | F23: =IFERROR(F22/E22-1,"N.A. ") -> -0.71593711 | G23: =IFERROR(G22/F22-1,"N.A. ") -> 0.080997291 | H23: =IFERROR(H22/G22-1,"N.A. ") -> 0.5611216 | I23: =IFERROR(I22/H22-1,"N.A. ") -> 0.45495395 | J23: =IFERROR(J22/I22-1,"N.A. ") -> 0.11922223 | L23: 0.07 | M23: 0.23 | N23: -1.7 | O23: -0.1 | P23: =P22/L22-1 -> -0.14928995 | Q23: =Q22/M22-1 -> -0.44152246 | R23: =R22/N22-1 -> -0.10421583 | S23: =S22/O22-1 -> -0.0058981233 | T23: =T22/P22-1 -> 0.28565417 | U23: =U22/Q22-1 -> 0.53342919 | V23: =V22/R22-1 -> 0.18966737 | W23: =W22/S22-1 -> 0.035275081 | ... AQ23: =AQ22/AM22-1 -> 0.30807114
B24: Stock-Based Comp & Other Charges | C24: =SUM(L24:O24) -> -0.182 | D24: =SUM(P24:S24) -> 10.126 | E24: =SUM(T24:W24) -> 7.401 | F24: =SUM(X24:AA24) -> 113.83114 | G24: =SUM(AB24:AE24) -> 15.550173 | H24: =SUM(AF24:AI24) -> 8.8 | I24: =SUM(AJ24:AM24) -> 8.8 | J24: =SUM(AK24:AN24) -> 8.8 | L24: -1.718 | M24: -0.552 | N24: -0.833 | O24: 2.921 | P24: 1.825 | Q24: 9.665 | R24: -1.364 | S24: 0 | T24: 1.366 | U24: 3.435 | V24: 1.3 | W24: 1.3 | X24: 1.499 | Y24: 4.5274856 | Z24: 59.693572 | AA24: 48.111081 | AB24: 6.4767835 | AC24: 4.184884 | AD24: 3.301505 | AE24: 1.587 | AF24: 2.2 | AG24: 2.2 | AH24: 2.2 | AI24: =AH24 -> 2.2 | AJ24: =AI24 -> 2.2 | AK24: =AJ24 -> 2.2 | AL24: =AK24 -> 2.2 | AM24: =AL24 -> 2.2 | AN24: =AM24 -> 2.2 | AO24: =AN24 -> 2.2 | AP24: =AO24 -> 2.2 | AQ24: =AP24 -> 2.2
B25: Adjusted EBITDA | C25: =C22+C20+C24 -> 190.22 | D25: =D22+D20+D24 -> 181.628 | E25: =E22+E20+E24 -> 197.387 | F25: =F22+F20+F24 -> 210.71714 | G25: =G22+G20+G24 -> 128.13117 | H25: =H22+H20+H24 -> 141.16118 | I25: =I22+I20+I24 -> 171.64071 | J25: =J22+J20+J24 -> 180.9547 | L25: =L22+L20+L24 -> 44.404 | M25: =M22+M20+M24 -> 45.033 | N25: =N22+N20+N24 -> 48.672 | O25: =O22+O20+O24 -> 52.111 | P25: =P22+P20+P24 -> 43.987 | Q25: =Q22+Q20+Q24 -> 44.497 | R25: =R22+R20+R24 -> 44.647 | S25: =S22+S20+S24 -> 48.497 | ... AQ25: =AQ22+AQ20+AQ24 -> 47.804149
B26: Net Interest Expense | C26: =SUM(L26:O26) -> 10.088 | D26: =SUM(P26:S26) -> 8.867 | E26: =SUM(T26:W26) -> 7.884 | F26: =SUM(X26:AA26) -> 11.485 | G26: =SUM(AB26:AE26) -> 3.514 | H26: =SUM(AF26:AI26) -> 9.6289789 | I26: =SUM(AJ26:AM26) -> 11.657376 | J26: =SUM(AK26:AN26) -> 11.712618 | L26: 2.74 | M26: 2.537 | N26: 2.511 | O26: 2.3 | P26: 2.498 | Q26: 2.204 | R26: 2.098 | S26: 2.067 | T26: 2.111 | U26: 1.985 | V26: 1.879 | W26: 1.909 | X26: 2.056 | Y26: 1.473 | Z26: 7.451 | AA26: 0.505 | AB26: 0.506 | AC26: 0.559 | AD26: 1.294 | AE26: 1.155 | AF26: 1.616 | AG26: 2.203 | AH26: =Debt!I28 -> 2.8983982 | AI26: =Debt!J28 -> 2.9115807 | AJ26: =Debt!K28 -> 2.8957528 | AK26: =Debt!L28 -> 2.913502 | AL26: =Debt!M28 -> 2.9218203 | AM26: =Debt!N28 -> 2.9263013 | AN26: =Debt!O28 -> 2.9509943 | AO26: =Debt!P28 -> 2.9582476 | ... AQ26: =Debt!R28 -> 2.9477283
B27: Pre-Tax Income | C27: =C22-C26 -> 96.326 | D27: =D22-D26 -> 79.673 | E27: =E22-E26 -> 99.99 | F27: =F22-F26 -> 19.158 | G27: =G22-G26 -> 29.611 | H27: =SUM(AF27:AI27) -> 42.083174 | I27: =SUM(AJ27:AM27) -> 60.377448 | J27: =SUM(AK27:AN27) -> 65.646466 | L27: =L22-L26 -> 22.399 | M27: =M22-M26 -> 22.37 | N27: =N22-N26 -> 25.882 | O27: =O22-O26 -> 25.675 | P27: =P22-P26 -> 18.888 | Q27: =Q22-Q26 -> 11.706 | R27: =R22-R26 -> 23.336 | S27: =S22-S26 -> 25.743 | ... AQ27: =AQ22-AQ26 -> 20.603633
B28: Taxes | C28: =SUM(L28:O28) -> 25.998 | D28: =SUM(P28:S28) -> 25.51 | E28: =SUM(T28:W28) -> 25.614 | F28: =SUM(X28:AA28) -> -142.523 | G28: =SUM(AB28:AE28) -> -0.176 | H28: =SUM(AF28:AI28) -> 9.0631618 | I28: =SUM(AJ28:AM28) -> 16.905685 | J28: =SUM(AK28:AN28) -> 18.381011 | L28: 6.284 | M28: 6.888 | N28: 7.915 | O28: 4.911 | P28: 6.339 | Q28: 3.916 | R28: 7.87 | S28: 7.385 | T28: 7.572 | U28: 6.598 | V28: 6.598 | W28: 4.846 | X28: 8.427 | Y28: 7.45 | Z28: -92.381 | AA28: -66.019 | AB28: 3.002 | AC28: 2.502 | AD28: 1.002 | AE28: -6.682 | AF28: -0.536 | AG28: 0.77 | AH28: =AH27*AH30 -> 4.5214572 | AI28: =AI27*AI30 -> 4.3077045 | AJ28: =AJ27*AJ30 -> 4.0574384 | AK28: =AK27*AK30 -> 4.1884473 | AL28: =AL27*AL30 -> 4.4378624 | AM28: =AM27*AM30 -> 4.2219373 | AN28: =AN27*AN30 -> 5.5327636 | AO28: =AO27*AO30 -> 5.7124543 | ... AQ28: =AQ27*AQ30 -> 5.7690173
B29: Net Income | C29: =C27-C28 -> 70.328 | D29: =D27-D28 -> 54.163 | E29: =E27-E28 -> 74.376 | F29: -1.7 | G29: 32.5 | H29: =H27-H28 -> 33.020012 | I29: =I27-I28 -> 43.471762 | J29: =J27-J28 -> 47.265456 | L29: =L27-L28 -> 16.115 | M29: =M27-M28 -> 15.482 | N29: =N27-N28 -> 17.967 | O29: =O27-O28 -> 20.764 | P29: =P27-P28 -> 12.549 | Q29: =Q27-Q28 -> 7.79 | R29: =R27-R28 -> 15.466 | S29: =S27-S28 -> 18.358 | ... Y29: =Y27-Y28 -> 14.55 | Z29: =Z27-Z28-80 -> 25.079 | AA29: =AA27-AA28 -> 27.024 | AB29: =AB27-AB28 -> 8.491 | AC29: =AC27-AC28 -> 5.834 | AD29: =AD27-AD28 -> 5.658 | AE29: =AE27-AE28+3.2 -> 13.004 | AF29: =AF27-AF28 -> -1.016 | AG29: =AG27-AG28 -> 6.077 | AH29: =AH27-AH28 -> 14.317948 | AI29: =AI27-AI28 -> 13.641064 | AJ29: =AJ27-AJ28 -> 10.433413 | AK29: =AK27-AK28 -> 10.770293 | AL29: =AL27-AL28 -> 11.411646 | AM29: =AM27-AM28 -> 10.85641 | ... AQ29: =AQ27-AQ28 -> 14.834616
B30: Effective Tax Rate | C30: =C28/C27 -> 0.26989598 | D30: =D28/D27 -> 0.32018375 | E30: =E28/E27 -> 0.25616562 | F30: 0 | G30: 0 | H30: =H28/H27 -> 0.21536308 | I30: =I28/I27 -> 0.28 | J30: =J28/J27 -> 0.28 | L30: =L28/L27 -> 0.28054824 | M30: =M28/M27 -> 0.30791238 | N30: =N28/N27 -> 0.30581099 | O30: =O28/O27 -> 0.19127556 | P30: =P28/P27 -> 0.33560991 | Q30: =Q28/Q27 -> 0.3345293 | R30: =R28/R27 -> 0.33724717 | S30: =S28/S27 -> 0.2868741 | ... AG30: =AG28/AG27 -> 0.11245801 | AH30: 0.24 | AI30: =AH30 -> 0.24 | AJ30: 0.28 | AK30: =AJ30 -> 0.28 | AL30: =AK30 -> 0.28 | AM30: =AL30 -> 0.28 | AN30: =AM30 -> 0.28 | AO30: =AN30 -> 0.28 | AP30: =AO30 -> 0.28 | AQ30: =AP30 -> 0.28
B31: Diluted Shares Outstanding | C31: 30.8 | D31: =S31 -> 30.392 | E31: 29.7 | F31: =AA31 -> 27.901 | G31: 26.2 | H31: =AI31 -> 23.50139 | I31: =AM31 -> 23.104171 | J31: =AQ31 -> 22.706951 | L31: 30.942 | M31: 31.118 | N31: 30.936 | O31: 30.566 | P31: 30.506 | Q31: 30.403 | R31: 30.32 | S31: 30.392 | T31: 30.437 | U31: 30.141 | V31: 29.415 | W31: 29.134 | X31: 28.362 | Y31: 28.536 | Z31: 28.136 | AA31: 27.901 | AB31: 27.617 | AC31: 26.472 | AD31: 26.377 | AE31: 24.426 | AF31: 23.589 | AG31: 23.7 | AH31: =AG31+(Equity!I9/Summary!$E$7) -> 23.600695 | AI31: =AH31+(Equity!J9/Summary!$E$7) -> 23.50139 | AJ31: =AI31+(Equity!K9/Summary!$E$7) -> 23.402085 | AK31: =AJ31+(Equity!L9/Summary!$E$7) -> 23.302781 | AL31: =AK31+(Equity!M9/Summary!$E$7) -> 23.203476 | AM31: =AL31+(Equity!N9/Summary!$E$7) -> 23.104171 | AN31: =AM31+(Equity!O9/Summary!$E$7) -> 23.004866 | AO31: =AN31+(Equity!P9/Summary!$E$7) -> 22.905561 | ... AQ31: =AP31+(Equity!R9/Summary!$E$7) -> 22.706951
B32: GAAP EPS | C32: =C29/C31 -> 2.2833766 | D32: =D29/D31 -> 1.7821466 | E32: =E29/E31 -> 2.5042424 | F32: =F29/F31 -> -0.060929716 | G32: =G29/G31 -> 1.240458 | H32: =SUM(AF32:AI32) -> 1.4004539 | I32: =SUM(AJ32:AM32) -> 1.869719 | J32: =SUM(AK32:AN32) -> 2.0423254 | L32: =L29/L31 -> 0.52081313 | M32: =M29/M31 -> 0.49752555 | N32: =N29/N31 -> 0.58077967 | O32: =O29/O31 -> 0.67931689 | P32: =P29/P31 -> 0.4113617 | Q32: =Q29/Q31 -> 0.25622471 | R32: =R29/R31 -> 0.51009235 | S32: =S29/S31 -> 0.60404054 | ... AQ32: =AQ29/AQ31 -> 0.65330725
B33: Other Charges | C33: =SUM(L33:O33) -> 0.0063693937 | D33: =SUM(P33:S33) -> 0.36750003 | E33: =SUM(T33:W33) -> -0.084440462 | F33: =SUM(X33:AA33) -> 2.452 | G33: =SUM(AB33:AE33) -> 0.17 | H33: =SUM(AF33:AI33) -> 0.25 | I33: =SUM(AJ33:AM33) -> 0 | J33: =SUM(AK33:AN33) -> 0 | L33: -0.039946291 | M33: -0.012276893 | N33: -0.018692121 | O33: 0.077284698 | P33: 0 | Q33: 0.30174654 | R33: 0 | S33: 0.065753488 | T33: 0 | U33: 0.045559538 | V33: -0.05 | W33: -0.08 | X33: 0.054 | Y33: 0.134 | Z33: 2.524 | AA33: -0.26 | AB33: 0.27 | AC33: 0.13 | AD33: 0.1 | AE33: -0.33 | AF33: 0.14 | AG33: 0.11 | AH33: 0 | AI33: =AH33 -> 0 | AJ33: =AI33 -> 0 | AK33: =AJ33 -> 0 | AL33: =AK33 -> 0 | AM33: =AL33 -> 0 | AN33: =AM33 -> 0 | AO33: =AN33 -> 0 | AP33: =AO33 -> 0 | AQ33: =AP33 -> 0
B34: Adjusted EPS | C34: =C32+C33 -> 2.289746 | D34: =D32+D33 -> 2.1496466 | E34: =E32+E33 -> 2.419802 | F34: =F32+F33 -> 2.3910703 | G34: =G32+G33 -> 1.410458 | H34: =SUM(AF34:AI34) -> 1.6504539 | I34: =SUM(AJ34:AM34) -> 1.869719 | J34: =SUM(AK34:AN34) -> 2.0423254 | L34: =L32+L33 -> 0.48086684 | M34: =M32+M33 -> 0.48524865 | N34: =N32+N33 -> 0.56208755 | O34: =O32+O33 -> 0.75660159 | P34: =P32+P33 -> 0.4113617 | Q34: =Q32+Q33 -> 0.55797125 | R34: =R32+R33 -> 0.51009235 | S34: =S32+S33 -> 0.66979402 | ... AQ34: =AQ32+AQ33 -> 0.65330725
B35: Margins
B36: Gross Margin | C36: =C16/C7 -> 0.35513353 | D36: =D16/D7 -> 0.3624914 | E36: =E16/E7 -> 0.36842554 | F36: =F16/F7 -> 0.38123559 | G36: =G16/G7 -> 0.36298542 | H36: =H16/H7 -> 0.35757176 | I36: =I16/I7 -> 0.37094043 | J36: =J16/J7 -> 0.37652321 | L36: =L16/L7 -> 0.35842181 | M36: =M16/M7 -> 0.35712621 | N36: =N16/N7 -> 0.35124691 | O36: =O16/O7 -> 0.35380455 | P36: =P16/P7 -> 0.35460751 | Q36: =Q16/Q7 -> 0.36646317 | R36: =R16/R7 -> 0.35537362 | S36: =S16/S7 -> 0.37358968 | ... AQ36: =AQ16/AQ7 -> 0.38058837
B37: Operating Margin | C37: =C22/C7 -> 0.061624828 | D37: =D22/D7 -> 0.05279962 | E37: =E22/E7 -> 0.065203791 | F37: =F22/F7 -> 0.022695257 | G37: =G22/G7 -> 0.02493316 | H37: =H22/H7 -> 0.038608617 | I37: =I22/I7 -> 0.055266524 | J37: =J22/J7 -> 0.061610481 | L37: =L22/L7 -> 0.058533575 | M37: =M22/M7 -> 0.058625811 | N37: =N22/N7 -> 0.066057424 | O37: =O22/O7 -> 0.063198345 | P37: =P22/P7 -> 0.051836555 | Q37: =Q22/Q7 -> 0.033353635 | R37: =R22/R7 -> 0.059342875 | S37: =S22/S7 -> 0.066419871 | ... AQ37: =AQ22/AQ7 -> 0.068473241
B38: Adjusted EBITDA Margin | C38: =C25/C7 -> 0.11015726 | D38: =D25/D7 -> 0.10831138 | E38: =E25/E7 -> 0.11930939 | F38: =F25/F7 -> 0.15606434 | G38: =G25/G7 -> 0.096444228 | H38: =H25/H7 -> 0.10539182 | I38: =I25/I7 -> 0.12607837 | J38: =J25/J7 -> 0.13239338 | L38: =L25/L7 -> 0.10339015 | M38: =M25/M7 -> 0.10599816 | N38: =N25/N7 -> 0.11323731 | O38: =O25/O7 -> 0.117724 | P38: =P25/P7 -> 0.10661809 | Q38: =Q25/Q7 -> 0.10669566 | R38: =R25/R7 -> 0.10417085 | S38: =S25/S7 -> 0.11582756 | ... AQ38: =AQ25/AQ7 -> 0.13898581
B39: Industry-Specific
B40: Total Stores | C40: =O40 -> 715 | D40: =S40 -> 707 | E40: =W40 -> 710 | F40: =AA40 -> 560 | G40: =AE40 -> 561 | H40: =AI40 -> 563 | I40: =AM40 -> 571 | J40: =AQ40 -> 579 | L40: 713 | M40: 714 | N40: 715 | O40: 715 | P40: 714 | Q40: 714 | R40: 714 | S40: 707 | T40: 708 | U40: 710 | V40: 709 | W40: 710 | X40: 710 | Y40: 708 | Z40: 706 | AA40: 560 | AB40: 560 | AC40: 560 | AD40: 560 | AE40: 561 | AF40: 562 | AG40: 561 | AH40: 561 | AI40: =AH40+2 -> 563 | AJ40: =AI40+2 -> 565 | AK40: =AJ40+2 -> 567 | AL40: =AK40+2 -> 569 | AM40: =AL40+2 -> 571 | AN40: =AM40+2 -> 573 | AO40: =AN40+2 -> 575 | AP40: =AO40+2 -> 577 | AQ40: =AP40+2 -> 579
...

Sheet BS
L1: 40025 | M1: =EOMONTH(L1,3) -> 40117 | N1: =EOMONTH(M1,3) -> 40209 | O1: =EOMONTH(N1,3) -> 40298 | P1: =EOMONTH(O1,3) -> 40390 | Q1: =EOMONTH(P1,3) -> 40482 | R1: =EOMONTH(Q1,3) -> 40574 | S1: =EOMONTH(R1,3) -> 40663 | T1: =EOMONTH(S1,3) -> 40755 | ... AQ1: =EOMONTH(AP1,3) -> 42855
B2: Bob Evans Farms, Inc.
B3: Balance Sheet
B4: $000, Except Where Noted
C5: Annual Summary
C6: 2010 | D6: =C6+1 -> 2011 | E6: =D6+1 -> 2012 | F6: =E6+1 -> 2013 | G6: =F6+1 -> 2014 | H6: =G6+1 -> 2015 | I6: =H6+1 -> 2016 | J6: =I6+1 -> 2017 | L6: 2010 | P6: =L6+1 -> 2011 | T6: =P6+1 -> 2012 | X6: =T6+1 -> 2013 | AB6: =X6+1 -> 2014 | AF6: =AB6+1 -> 2015 | AJ6: =AF6+1 -> 2016 | AN6: =AJ6+1 -> 2017
B7: Assets | L7: 1 | M7: =L7+1 -> 2 | N7: =M7+1 -> 3 | O7: =N7+1 -> 4 | P7: 1 | Q7: =P7+1 -> 2 | R7: =Q7+1 -> 3 | S7: =R7+1 -> 4 | T7: 1 | U7: =T7+1 -> 2 | V7: =U7+1 -> 3 | W7: =V7+1 -> 4 | X7: 1 | Y7: =X7+1 -> 2 | Z7: =Y7+1 -> 3 | AA7: =Z7+1 -> 4 | AB7: 1 | AC7: =AB7+1 -> 2 | AD7: =AC7+1 -> 3 | AE7: =AD7+1 -> 4 | AF7: 1 | AG7: =AF7+1 -> 2 | AH7: =AG7+1 -> 3 | AI7: =AH7+1 -> 4 | AJ7: 1 | AK7: =AJ7+1 -> 2 | AL7: =AK7+1 -> 3 | AM7: =AL7+1 -> 4 | AN7: 1 | AO7: =AN7+1 -> 2 | AP7: =AO7+1 -> 3 | AQ7: =AP7+1 -> 4
B8: Cash & Cash Equivalents | C8: =O8 -> 17.803 | D8: =S8 -> 57.73 | E8: =W8 -> 35.946 | F8: =AA8 -> 9.01 | G8: =AE8 -> 7.826 | H8: =AI8 -> 5 | I8: =AM8 -> 5 | J8: =AQ8 -> 5 | L8: 21.902 | M8: 11.498 | N8: 19.782 | O8: 17.803 | P8: 11.465 | Q8: 17.452 | R8: 37.569519 | S8: 57.73 | T8: 59.937 | U8: 38.231 | V8: 47.943 | W8: 35.946 | X8: 1.126 | Y8: 4.82 | Z8: 4.433 | AA8: 9.01 | AB8: 6.099 | AC8: 4.934 | AD8: 5.409 | AE8: 7.826 | AF8: 3.625 | AG8: 3.737 | AH8: =CF!AH27 -> 5 | AI8: =CF!AI27 -> 5 | AJ8: =CF!AJ27 -> 5 | AK8: =CF!AK27 -> 5 | AL8: =CF!AL27 -> 5 | AM8: =CF!AM27 -> 5 | AN8: =CF!AN27 -> 5 | AO8: =CF!AO27 -> 5 | ... AQ8: =CF!AQ27 -> 5
B9: Accounts Receivable | C9: =O9 -> 19.857 | D9: =S9 -> 26.043 | E9: =W9 -> 29.85 | F9: =AA9 -> 33.958 | G9: =AE9 -> 33.443 | H9: =AI9 -> 31.440406 | I9: =AM9 -> 31.957939 | J9: =AQ9 -> 32.484153 | L9: 22.725 | M9: 27.161 | N9: 23.946 | O9: 19.857 | P9: 24.116 | Q9: 24.918 | R9: 24.900008 | S9: 26.043 | T9: 21.823 | U9: 28.5 | V9: 27.978 | W9: 29.85 | X9: 33.302 | Y9: 40.087 | Z9: 38.665 | AA9: 33.958 | AB9: 33.842 | AC9: 37.671 | AD9: 36.034 | AE9: 33.443 | AF9: 28.846 | AG9: 30.58 | AH9: =WC!AH7 -> 32.766049 | AI9: =WC!AI7 -> 31.440406 | AJ9: =WC!AJ7 -> 31.324112 | AK9: =WC!AK7 -> 31.987304 | AL9: =WC!AL7 -> 33.305527 | AM9: =WC!AM7 -> 31.957939 | AN9: =WC!AN7 -> 31.835488 | AO9: =WC!AO7 -> 32.511489 | ... AQ9: =WC!AQ7 -> 32.484153
B10: Inventories | C10: =O10 -> 25.92 | D10: =S10 -> 23.526 | E10: =W10 -> 23.388 | F10: =AA10 -> 22.491 | G10: =AE10 -> 25.243 | H10: =AI10 -> 24.761964 | I10: =AM10 -> 25.502805 | J10: =AQ10 -> 25.067005 | L10: 27.034 | M10: 29.206 | N10: 26.093 | O10: 25.92 | P10: 23.731 | Q10: 26.046 | R10: 26.084499 | S10: 23.526 | T10: 22.639 | U10: 25.887 | V10: 24.201 | W10: 23.388 | X10: 21.464 | Y10: 26.172 | Z10: 23.895 | AA10: 22.491 | AB10: 22.974 | AC10: 21.815 | AD10: 24.133 | AE10: 25.243 | AF10: 23.455 | AG10: 27.97 | AH10: =WC!AH9 -> 25.822896 | AI10: =WC!AI9 -> 24.761964 | AJ10: =WC!AJ9 -> 24.437814 | AK10: =WC!AK9 -> 25.20706 | AL10: =WC!AL9 -> 26.594199 | AM10: =WC!AM9 -> 25.502805 | AN10: =WC!AN9 -> 24.007447 | AO10: =WC!AO9 -> 24.769026 | ... AQ10: =WC!AQ9 -> 25.067005
B11: Deferred Income Taxes | C11: =O11 -> 11.175 | D11: =S11 -> 10.86 | E11: =W11 -> 11.738 | F11: =AA11 -> 13.089 | G11: =AE11 -> 18.656 | H11: =AI11 -> 18.642312 | I11: =AM11 -> 18.949178 | J11: =AQ11 -> 19.261192 | L11: 11.211 | M11: 11.211 | N11: 11.211 | O11: 11.175 | P11: 11.175 | Q11: 11.175 | R11: 11.175 | S11: 10.86 | T11: 10.86 | U11: 10.86 | V11: 10.86 | W11: 11.738 | X11: 11.738 | Y11: 11.738 | Z11: 37.501 | AA11: 13.089 | AB11: 13.089 | AC11: 13.089 | AD11: 18.512 | AE11: 18.656 | AF11: 18.656 | AG11: 18.65 | AH11: =WC!AH16*WC!AH28 -> 19.42834 | AI11: =WC!AI16*WC!AI28 -> 18.642312 | AJ11: =WC!AJ16*WC!AJ28 -> 18.573356 | AK11: =WC!AK16*WC!AK28 -> 18.96659 | AL11: =WC!AL16*WC!AL28 -> 19.748218 | AM11: =WC!AM16*WC!AM28 -> 18.949178 | AN11: =WC!AN16*WC!AN28 -> 18.876572 | AO11: =WC!AO16*WC!AO28 -> 19.277401 | ... AQ11: =WC!AQ16*WC!AQ28 -> 19.261192
B12: Federal & State Income Taxes | C12: =O12 -> 0 | D12: =S12 -> 0 | E12: =W12 -> 0 | F12: =AA12 -> 63.9 | G12: =AE12 -> 25.824 | H12: =AI12 -> 24.967381 | I12: =AM12 -> 25.378363 | J12: =AQ12 -> 25.796239 | L12: 0 | M12: 0 | N12: 0 | O12: 0 | P12: 0 | Q12: 0 | R12: 0 | S12: 0 | T12: 0 | U12: 5.246 | V12: 0 | W12: 0 | X12: 0 | Y12: 10.248 | Z12: 21.996 | AA12: 63.9 | AB12: 44.372 | AC12: 55.539 | AD12: 55.079 | AE12: 25.824 | AF12: 22.106 | AG12: 25.133 | AH12: =WC!AH17*WC!AH28 -> 26.020098 | AI12: =WC!AI17*WC!AI28 -> 24.967381 | AJ12: =WC!AJ17*WC!AJ28 -> 24.87503 | AK12: =WC!AK17*WC!AK28 -> 25.401682 | AL12: =WC!AL17*WC!AL28 -> 26.448506 | AM12: =WC!AM17*WC!AM28 -> 25.378363 | AN12: =WC!AN17*WC!AN28 -> 25.281123 | AO12: =WC!AO17*WC!AO28 -> 25.817947 | ... AQ12: =WC!AQ17*WC!AQ28 -> 25.796239
B13: Prepaid Expenses | C13: =O13 -> 2.169 | D13: =S13 -> 1.446 | E13: =W13 -> 2.725 | F13: =AA13 -> 5.232 | G13: =AE13 -> 4.281 | H13: =AI13 -> 4.9934763 | I13: =AM13 -> 5.0756726 | J13: =AQ13 -> 5.1592478 | L13: 3.686 | M13: 3.321 | N13: 2.647 | O13: 2.169 | P13: 4.608 | Q13: 3.435 | R13: 2.1364123 | S13: 1.446 | T13: 3.901 | U13: 3.253 | V13: 3.066 | W13: 2.725 | X13: 4.189 | Y13: 5.654 | Z13: 4.91 | AA13: 5.232 | AB13: 6.127 | AC13: 5.834 | AD13: 4.117 | AE13: 4.281 | AF13: 6.23 | AG13: 5.599 | AH13: =WC!AH18*WC!AH28 -> 5.2040196 | AI13: =WC!AI18*WC!AI28 -> 4.9934763 | AJ13: =WC!AJ18*WC!AJ28 -> 4.975006 | AK13: =WC!AK18*WC!AK28 -> 5.0803365 | AL13: =WC!AL18*WC!AL28 -> 5.2897013 | AM13: =WC!AM18*WC!AM28 -> 5.0756726 | AN13: =WC!AN18*WC!AN28 -> 5.0562246 | AO13: =WC!AO18*WC!AO28 -> 5.1635895 | ... AQ13: =WC!AQ18*WC!AQ28 -> 5.1592478
B14: Assets Held For Sale & Other | C14: =O14 -> 0 | D14: =S14 -> 0 | E14: =W14 -> 0 | F14: =AA14 -> 0 | G14: =AE14 -> 3.024 | H14: =AI14 -> 5.2 | I14: =AM14 -> 5.2 | J14: =AQ14 -> 5.2 | L14: 0 | M14: 0 | N14: 0 | O14: 0 | P14: 0 | Q14: 4.502 | R14: 0 | S14: 0 | T14: 0 | U14: 0 | V14: 0 | W14: 0 | X14: 0 | Y14: 0 | Z14: 128.855 | AA14: 0 | AB14: 3.36 | AC14: 5.697 | AD14: 4.431 | AE14: 3.024 | AF14: 5.153 | AG14: 5.221 | AH14: 5.2 | AI14: =AH14 -> 5.2 | AJ14: =AI14 -> 5.2 | AK14: =AJ14 -> 5.2 | AL14: =AK14 -> 5.2 | AM14: =AL14 -> 5.2 | AN14: =AM14 -> 5.2 | AO14: =AN14 -> 5.2 | AP14: =AO14 -> 5.2 | AQ14: =AP14 -> 5.2
B15: Total Current Assets | C15: =SUM(C7:C14) -> 76.924 | D15: =SUM(D7:D14) -> 119.605 | E15: =SUM(E7:E14) -> 103.647 | F15: =SUM(F7:F14) -> 147.68 | G15: =SUM(G7:G14) -> 118.297 | H15: =SUM(H7:H14) -> 115.00554 | I15: =SUM(I7:I14) -> 117.06396 | J15: =SUM(J7:J14) -> 117.96784 | L15: 86.558 | M15: 82.397 | N15: 83.679 | O15: 76.924 | P15: 75.095 | Q15: 87.528 | R15: 101.86544 | S15: 119.605 | T15: 119.16 | U15: 111.977 | V15: 114.048 | W15: 103.647 | X15: 71.819 | Y15: 98.719 | Z15: 260.255 | AA15: 147.68 | AB15: 129.863 | AC15: 144.579 | AD15: 147.715 | AE15: 118.297 | AF15: 108.071 | AG15: =SUM(AG8:AG14) -> 116.89 | AH15: =SUM(AH8:AH14) -> 119.4414 | AI15: =SUM(AI8:AI14) -> 115.00554 | AJ15: =SUM(AJ8:AJ14) -> 114.38532 | AK15: =SUM(AK8:AK14) -> 116.84297 | AL15: =SUM(AL8:AL14) -> 121.58615 | AM15: =SUM(AM8:AM14) -> 117.06396 | AN15: =SUM(AN8:AN14) -> 115.25685 | ... AQ15: =SUM(AQ8:AQ14) -> 117.96784
B16: Net PP&E | C16: =O16 -> 961.974 | D16: =S16 -> 900.878 | E16: =W16 -> 883.295 | F16: =AA16 -> 788.386 | G16: =AE16 -> 875.458 | H16: =AI16 -> 849.91997 | I16: =AM16 -> 862.31806 | J16: =AQ16 -> 873.30594 | L16: 997.856 | M16: 990.19 | N16: 980.321 | O16: 961.974 | P16: 949.768 | Q16: 927.57 | R16: 918.993 | S16: 900.878 | T16: 889.667 | U16: 872.218 | V16: 882.179 | W16: 883.295 | X16: 876.958 | Y16: 909.752 | Z16: 762.092 | AA16: 788.386 | AB16: 820.34 | AC16: 856.017 | AD16: 866.12 | AE16: 875.458 | AF16: 868.972 | AG16: 871.126 | AH16: =AG16-CF!AH16-CF!AH9 -> 860.09953 | AI16: =AH16-CF!AI16-CF!AI9 -> 849.91997 | AJ16: =AI16-CF!AJ16-CF!AJ9 -> 853.46155 | AK16: =AJ16-CF!AK16-CF!AK9 -> 856.63277 | AL16: =AK16-CF!AL16-CF!AL9 -> 859.02051 | AM16: =AL16-CF!AM16-CF!AM9 -> 862.31806 | AN16: =AM16-CF!AN16-CF!AN9 -> 865.51579 | AO16: =AN16-CF!AO16-CF!AO9 -> 868.33608 | ... AQ16: =AP16-CF!AQ16-CF!AQ9 -> 873.30594
B17: Goodwill & Intangibles | C17: =O17 -> 43.084 | D17: =S17 -> 33.141 | E17: =W17 -> 38.958 | F17: =AA17 -> 23.061 | G17: =AE17 -> 22.904 | H17: =AI17 -> 19.49 | I17: =AM17 -> 19.49 | J17: =AQ17 -> 19.49 | L17: 43.699 | M17: 43.494 | N17: 43.288 | O17: 43.084 | P17: 42.878 | Q17: 42.674 | R17: 42.474 | S17: 33.141 | T17: 31.951 | U17: 36.287 | V17: 36.994 | W17: 38.958 | X17: 41.239 | Y17: 59.476 | Z17: 62.353 | AA17: 23.061 | AB17: 23.021 | AC17: 22.982 | AD17: 19.634 | AE17: 22.904 | AF17: 22.865 | AG17: 22.826 | AH17: 19.49 | AI17: =AH17 -> 19.49 | AJ17: =AI17 -> 19.49 | AK17: =AJ17 -> 19.49 | AL17: =AK17 -> 19.49 | AM17: =AL17 -> 19.49 | AN17: =AM17 -> 19.49 | AO17: =AN17 -> 19.49 | AP17: =AO17 -> 19.49 | AQ17: =AP17 -> 19.49
B18: Other Assets | C18: =O18 -> 27.175 | D18: =S18 -> 40.697 | E18: =W18 -> 39.877 | F18: =AA18 -> 60.868 | G18: =AE18 -> 51.657 | H18: =AI18 -> 55.2 | I18: =AM18 -> 55.2 | J18: =AQ18 -> 55.2 | L18: 23.525 | M18: 26.492 | N18: 27.031 | O18: 27.175 | P18: 27.209 | Q18: 29.233 | R18: 29.211892 | S18: 40.697 | T18: 40.492 | U18: 40.287 | V18: 40.082 | W18: 39.877 | X18: 36.57 | Y18: 43.543 | Z18: 0 | AA18: 60.868 | AB18: 50.3 | AC18: 52.187 | AD18: 59.081 | AE18: 51.657 | AF18: 54.549 | AG18: 55.184 | AH18: 55.2 | AI18: =AH18 -> 55.2 | AJ18: =AI18 -> 55.2 | AK18: =AJ18 -> 55.2 | AL18: =AK18 -> 55.2 | AM18: =AL18 -> 55.2 | AN18: =AM18 -> 55.2 | AO18: =AN18 -> 55.2 | AP18: =AO18 -> 55.2 | AQ18: =AP18 -> 55.2
B19: Total Assets | C19: =SUM(C15:C18) -> 1109.157 | D19: =SUM(D15:D18) -> 1094.321 | E19: =SUM(E15:E18) -> 1065.777 | F19: =SUM(F15:F18) -> 1019.995 | G19: =SUM(G15:G18) -> 1068.316 | H19: =SUM(H15:H18) -> 1039.6155 | I19: =SUM(I15:I18) -> 1054.072 | J19: =SUM(J15:J18) -> 1065.9638 | L19: 1151.638 | M19: 1142.573 | N19: 1134.319 | O19: 1109.157 | P19: 1094.95 | Q19: 1087.005 | R19: 1092.5443 | S19: 1094.321 | T19: 1081.27 | U19: 1060.769 | V19: 1073.303 | W19: 1065.777 | X19: 1026.586 | Y19: 1111.49 | Z19: 1084.7 | AA19: 1019.995 | AB19: 1023.524 | AC19: 1075.765 | AD19: 1092.55 | AE19: 1068.316 | AF19: 1054.457 | AG19: =SUM(AG16:AG18)+AG15 -> 1066.026 | AH19: =SUM(AH16:AH18)+AH15 -> 1054.2309 | AI19: =SUM(AI16:AI18)+AI15 -> 1039.6155 | AJ19: =SUM(AJ16:AJ18)+AJ15 -> 1042.5369 | AK19: =SUM(AK16:AK18)+AK15 -> 1048.1657 | AL19: =SUM(AL16:AL18)+AL15 -> 1055.2967 | AM19: =SUM(AM16:AM18)+AM15 -> 1054.072 | AN19: =SUM(AN16:AN18)+AN15 -> 1055.4626 | ... AQ19: =SUM(AQ16:AQ18)+AQ15 -> 1065.9638
B20: Liabilities
B21: Line of Credit | C21: =O21 -> 14 | D21: =S21 -> 0 | E21: =W21 -> 0 | F21: =AA21 -> 201.433 | G21: =AE21 -> 458.898 | H21: =AI21 -> 0 | I21: =AM21 -> 0 | J21: =AQ21 -> 0 | L21: 67 | M21: 64 | N21: 24.754 | O21: 14 | P21: 32 | Q21: 23 | R21: 23 | S21: 0 | T21: 0 | U21: 0 | V21: 0 | W21: 0 | X21: 28.844 | Y21: 99.759 | Z21: 189.031 | AA21: 201.433 | AB21: 214.677 | AC21: 318.227 | AD21: 372.829 | AE21: 458.898 | AF21: 458.836 | AG21: 0 | AH21: 0 | AI21: =AH21 -> 0 | AJ21: =AI21 -> 0 | AK21: =AJ21 -> 0 | AL21: =AK21 -> 0 | AM21: =AL21 -> 0 | AN21: =AM21 -> 0 | AO21: =AN21 -> 0 | AP21: =AO21 -> 0 | AQ21: =AP21 -> 0
B22: Current Maturities of LT Debt | C22: =O22 -> 26.905 | D22: =S22 -> 13.571 | E22: =W22 -> 38.571 | F22: =AA22 -> 0 | G22: =AE22 -> 0 | H22: =AI22 -> 0.4 | I22: =AM22 -> 0.4 | J22: =AQ22 -> 0.4 | L22: 26.904 | M22: 26.905 | N22: 26.905 | O22: 26.905 | P22: 13.571 | Q22: 13.571 | R22: 13.571 | S22: 13.571 | T22: 38.571 | U22: 38.571 | V22: 38.571 | W22: 38.571 | X22: 48.571 | Y22: 48.571 | Z22: 49.042 | AA22: 0 | AB22: 0 | AC22: 0 | AD22: 0 | AE22: 0 | AF22: 0.369 | AG22: 0.369 | AH22: 0.4 | AI22: =AH22 -> 0.4 | AJ22: =AI22 -> 0.4 | AK22: =AJ22 -> 0.4 | AL22: =AK22 -> 0.4 | AM22: =AL22 -> 0.4 | AN22: =AM22 -> 0.4 | AO22: =AN22 -> 0.4 | AP22: =AO22 -> 0.4 | AQ22: =AP22 -> 0.4
B23: Accounts Payable | C23: =O23 -> 29.322 | D23: =S23 -> 30.418 | E23: =W23 -> 26.085 | F23: =AA23 -> 23.058 | G23: =AE23 -> 29.064 | H23: =AI23 -> 27.238161 | I23: =AM23 -> 28.053086 | J23: =AQ23 -> 27.573705 | L23: 24.118 | M23: 25.652 | N23: 42.725 | O23: 29.322 | P23: 31.95 | Q23: 33.383 | R23: 33.284979 | S23: 30.418 | T23: 29.32 | U23: 33.969 | V23: 33.128 | W23: 26.085 | X23: 19.459 | Y23: 23.984 | Z23: 19.328 | AA23: 23.058 | AB23: 23.314 | AC23: 21.865 | AD23: 22.567 | AE23: 29.064 | AF23: 28.64 | AG23: 32.901 | AH23: =WC!AH11 -> 28.405185 | AI23: =WC!AI11 -> 27.238161 | AJ23: =WC!AJ11 -> 26.881595 | AK23: =WC!AK11 -> 27.727766 | AL23: =WC!AL11 -> 29.253619 | AM23: =WC!AM11 -> 28.053086 | AN23: =WC!AN11 -> 26.408191 | AO23: =WC!AO11 -> 27.245929 | ... AQ23: =WC!AQ11 -> 27.573705
B24: Federal/State Income Taxes | C24: =O24 -> 8.708 | D24: =S24 -> 10.793 | E24: =W24 -> 12.469 | F24: =AA24 -> 0 | G24: =AE24 -> 0 | H24: =AI24 -> 0 | I24: =AM24 -> 0 | J24: =AQ24 -> 0 | L24: 11.759 | M24: 7.313 | N24: 3.187 | O24: 8.708 | P24: 7.642 | Q24: 0 | R24: 0 | S24: 10.793 | T24: 4.838 | U24: 0 | V24: 4.063 | W24: 12.469 | X24: 8.481 | Y24: 0 | Z24: 0 | AA24: 0 | AB24: 0 | AC24: 0 | AD24: 0 | AE24: 0 | AF24: 0 | AG24: 0 | AH24: 0 | AI24: =AH24 -> 0 | AJ24: =AI24 -> 0 | AK24: =AJ24 -> 0 | AL24: =AK24 -> 0 | AM24: =AL24 -> 0 | AN24: =AM24 -> 0 | AO24: =AN24 -> 0 | AP24: =AO24 -> 0 | AQ24: =AP24 -> 0
B25: Accrued nonincome taxes | C25: =O25 -> 0 | D25: =S25 -> 20.519 | E25: =W25 -> 21.251 | F25: =AA25 -> 16.346 | G25: =AE25 -> 17.843 | H25: =AI25 -> 19.973905 | I25: =AM25 -> 20.302691 | J25: =AQ25 -> 20.636991 | L25: 0 | M25: 0 | N25: 0 | O25: 0 | P25: 0 | Q25: 0 | R25: 0 | S25: 20.519 | T25: 19.072 | U25: 20.191 | V25: 21.109 | W25: 21.251 | X25: 23.936 | Y25: 24.281 | Z25: 16.641 | AA25: 16.346 | AB25: 17.904 | AC25: 20.106 | AD25: 16.668 | AE25: 17.843 | AF25: 17.438 | AG25: 15.111 | AH25: =WC!AH19*WC!AH$28 -> 20.816078 | AI25: =WC!AI19*WC!AI28 -> 19.973905 | AJ25: =WC!AJ19*WC!AJ28 -> 19.900024 | AK25: =WC!AK19*WC!AK28 -> 20.321346 | AL25: =WC!AL19*WC!AL28 -> 21.158805 | AM25: =WC!AM19*WC!AM28 -> 20.302691 | AN25: =WC!AN19*WC!AN28 -> 20.224898 | AO25: =WC!AO19*WC!AO28 -> 20.654358 | AP25: =WC!AP19*WC!AP28 -> 21.507282 | AQ25: =WC!AQ19*WC!AQ28 -> 20.636991
B26: Accrued Wages and Related Liabilities | C26: =O26 -> 39.545 | D26: =S26 -> 36.024 | E26: =W26 -> 33.505 | F26: =AA26 -> 30.219 | G26: =AE26 -> 27.415 | H26: =AI26 -> 23.302889 | I26: =AM26 -> 23.686472 | J26: =AQ26 -> 24.07649 | L26: 21.818 | M26: 23.89 | N26: 28.556 | O26: 39.545 | P26: 27.447 | Q26: 32.701 | R26: 32.677388 | S26: 36.024 | T26: 29.309 | U26: 28.795 | V26: 32.829 | W26: 33.505 | X26: 24.589 | Y26: 26.122 | Z26: 24.804 | AA26: 30.219 | AB26: 23.195 | AC26: 27.729 | AD26: 24.803 | AE26: 27.415 | AF26: 25.653 | AG26: 19.974 | AH26: =WC!AH20*WC!AH$28 -> 24.285425 | AI26: =WC!AI20*WC!AI$28 -> 23.302889 | AJ26: =WC!AJ20*WC!AJ$28 -> 23.216695 | AK26: =WC!AK20*WC!AK$28 -> 23.708237 | AL26: =WC!AL20*WC!AL$28 -> 24.685273 | AM26: =WC!AM20*WC!AM$28 -> 23.686472 | AN26: =WC!AN20*WC!AN$28 -> 23.595715 | AO26: =WC!AO20*WC!AO$28 -> 24.096751 | ... AQ26: =WC!AQ20*WC!AQ$28 -> 24.07649
B27: Self Insurance | C27: =O27 -> 24.165 | D27: =S27 -> 26.058 | E27: =W27 -> 26.079 | F27: =AA27 -> 21.072 | G27: =AE27 -> 19.874 | H27: =AI27 -> 19.973905 | I27: =AM27 -> 20.302691 | J27: =AQ27 -> 20.636991 | L27: 23.479 | M27: 24.552 | N27: 25.841 | O27: 24.165 | P27: 24.28 | Q27: 24.629 | R27: 0 | S27: 26.058 | T27: 27.088 | U27: 27.202 | V27: 26.963 | W27: 26.079 | X27: 26.44 | Y27: 25.383 | Z27: 20.879 | AA27: 21.072 | AB27: 21.657 | AC27: 21.506 | AD27: 22.256 | AE27: 19.874 | AF27: 19.367 | AG27: 20.619 | AH27: =WC!AH21*WC!AH$28 -> 20.816078 | AI27: =WC!AI21*WC!AI$28 -> 19.973905 | AJ27: =WC!AJ21*WC!AJ$28 -> 19.900024 | AK27: =WC!AK21*WC!AK$28 -> 20.321346 | AL27: =WC!AL21*WC!AL$28 -> 21.158805 | AM27: =WC!AM21*WC!AM$28 -> 20.302691 | AN27: =WC!AN21*WC!AN$28 -> 20.224898 | AO27: =WC!AO21*WC!AO$28 -> 20.654358 | ... AQ27: =WC!AQ21*WC!AQ$28 -> 20.636991
B28: Deferred Revenue | C28: =O28 -> 0 | D28: =S28 -> 0 | E28: =W28 -> 21.453 | F28: =AA28 -> 12.915 | G28: =AE28 -> 12.967 | H28: =AI28 -> 11.318546 | I28: =AM28 -> 11.504858 | J28: =AQ28 -> 11.694295 | L28: 0 | M28: 0 | N28: 0 | O28: 0 | P28: 0 | Q28: 0 | R28: 0 | S28: 0 | T28: 14.186 | U28: 13.006 | V28: 21.1 | W28: 21.453 | X28: 14.224 | Y28: 13.435 | Z28: 17.726 | AA28: 12.915 | AB28: 11.802 | AC28: 11.024 | AD28: 17.167 | AE28: 12.967 | AF28: 11.736 | AG28: 11.192 | AH28: =WC!AH22*WC!AH$28 -> 11.795778 | AI28: =WC!AI22*WC!AI$28 -> 11.318546 | AJ28: =WC!AJ22*WC!AJ$28 -> 11.27668 | AK28: =WC!AK22*WC!AK$28 -> 11.515429 | AL28: =WC!AL22*WC!AL$28 -> 11.98999 | AM28: =WC!AM22*WC!AM$28 -> 11.504858 | AN28: =WC!AN22*WC!AN$28 -> 11.460776 | AO28: =WC!AO22*WC!AO$28 -> 11.704136 | ... AQ28: =WC!AQ22*WC!AQ$28 -> 11.694295
B29: Other Accrued Expenses | C29: =O29 -> 50.811 | D29: =S29 -> 33.729 | E29: =W29 -> 15.476 | F29: =AA29 -> 35.841 | G29: =AE29 -> 35.779 | H29: =AI29 -> 30.959553 | I29: =AM29 -> 31.46917 | J29: =AQ29 -> 31.987336 | L29: 56.169 | M29: 61.287 | N29: 67.017 | O29: 50.811 | P29: 51.159 | Q29: 54.689 | R29: 79.260728 | S29: 33.729 | T29: 16.708 | U29: 18.37 | V29: 19.424 | W29: 15.476 | X29: 25.308 | Y29: 34.549 | Z29: 35.25 | AA29: 35.841 | AB29: 40.082 | AC29: 38.868 | AD29: 35.525 | AE29: 35.779 | AF29: 29.991 | AG29: =31.055+8.43 -> 39.485 | AH29: =WC!AH23*WC!AH$28 -> 32.264922 | AI29: =WC!AI23*WC!AI$28 -> 30.959553 | AJ29: =WC!AJ23*WC!AJ$28 -> 30.845037 | AK29: =WC!AK23*WC!AK$28 -> 31.498086 | AL29: =WC!AL23*WC!AL$28 -> 32.796148 | AM29: =WC!AM23*WC!AM$28 -> 31.46917 | AN29: =WC!AN23*WC!AN$28 -> 31.348593 | AO29: =WC!AO23*WC!AO$28 -> 32.014255 | ... AQ29: =WC!AQ23*WC!AQ$28 -> 31.987336
B30: Total Current Liabilities | C30: =SUM(C21:C29) -> 193.456 | D30: =SUM(D21:D29) -> 171.112 | E30: =SUM(E21:E29) -> 194.889 | F30: =SUM(F21:F29) -> 340.884 | G30: =SUM(G21:G29) -> 601.84 | H30: =SUM(H21:H29) -> 133.16696 | I30: =SUM(I21:I29) -> 135.71897 | J30: =SUM(J21:J29) -> 137.00581 | L30: 231.247 | M30: 233.599 | N30: 218.985 | O30: 193.456 | P30: 188.049 | Q30: 181.973 | R30: 181.7941 | S30: 171.112 | T30: 179.092 | U30: 180.104 | V30: 197.187 | W30: 194.889 | X30: 219.852 | Y30: 296.084 | Z30: 372.701 | AA30: 340.884 | AB30: 352.631 | AC30: 459.325 | AD30: 511.815 | AE30: 601.84 | AF30: 592.03 | AG30: =SUM(AG21:AG29) -> 139.651 | AH30: =SUM(AH21:AH29) -> 138.78347 | AI30: =SUM(AI21:AI29) -> 133.16696 | AJ30: =SUM(AJ21:AJ29) -> 132.42005 | AK30: =SUM(AK21:AK29) -> 135.49221 | AL30: =SUM(AL21:AL29) -> 141.44264 | AM30: =SUM(AM21:AM29) -> 135.71897 | AN30: =SUM(AN21:AN29) -> 133.66307 | ... AQ30: =SUM(AQ21:AQ29) -> 137.00581
B31: Long-Term Debt | C31: =O31 -> 149.287 | D31: =S31 -> 135.716 | E31: =W31 -> 97.145 | F31: =AA31 -> 0.816 | G31: =AE31 -> 0.835 | H31: =AI31 -> 464.17899 | I31: =AM31 -> 483.16743 | J31: =AQ31 -> 487.20974 | L31: 176.192 | M31: 149.287 | N31: 149.287 | O31: 149.287 | P31: 135.716 | Q31: 135.716 | R31: 135.716 | S31: 135.716 | T31: 97.145 | U31: 97.145 | V31: 97.145 | W31: 97.145 | X31: 48.574 | Y31: 49.38 | Z31: 0.811 | AA31: 0.816 | AB31: 0.821 | AC31: 0.826 | AD31: 0.831 | AE31: 0.835 | AF31: 3.7 | AG31: 468.344 | AH31: =Debt!I19 -> 471.79648 | AI31: =Debt!J19 -> 464.17899 | AJ31: =Debt!K19 -> 470.61066 | AK31: =Debt!L19 -> 473.95073 | AL31: =Debt!M19 -> 473.88702 | AM31: =Debt!N19 -> 483.16743 | AN31: =Debt!O19 -> 486.15147 | AO31: =Debt!P19 -> 485.73779 | ... AQ31: =Debt!R19 -> 487.20974
B32: Deferred Compensation | C32: =O32 -> 26.396 | D32: =S32 -> 29.685 | E32: =W32 -> 30.688 | F32: =AA32 -> 32.14 | G32: =AE32 -> 35.731 | H32: =AI32 -> 30.959553 | I32: =AM32 -> 31.46917 | J32: =AQ32 -> 31.987336 | L32: 22.235 | M32: 24.429 | N32: 24.628 | O32: 26.396 | P32: 26.013 | Q32: 28.156 | R32: 28.156 | S32: 29.685 | T32: 30.63 | U32: 27.877 | V32: 28.444 | W32: 30.688 | X32: 30.59 | Y32: 31.491 | Z32: 28.316 | AA32: 32.14 | AB32: 36.302 | AC32: 35.883 | AD32: 36.133 | AE32: 35.731 | AF32: 40.737 | AG32: 39.727 | AH32: =WC!AH24*WC!AH$28 -> 32.264922 | AI32: =WC!AI24*WC!AI$28 -> 30.959553 | AJ32: =WC!AJ24*WC!AJ$28 -> 30.845037 | AK32: =WC!AK24*WC!AK$28 -> 31.498086 | AL32: =WC!AL24*WC!AL$28 -> 32.796148 | AM32: =WC!AM24*WC!AM$28 -> 31.46917 | AN32: =WC!AN24*WC!AN$28 -> 31.348593 | AO32: =WC!AO24*WC!AO$28 -> 32.014255 | ... AQ32: =WC!AQ24*WC!AQ$28 -> 31.987336
B33: Deferred Income Taxes | C33: =O33 -> 67.538 | D33: =S33 -> 56.777 | E33: =W33 -> 51.739 | F33: =AA33 -> 38.601 | G33: =AE33 -> 32.829 | H33: =AI33 -> 25.30028 | I33: =AM33 -> 25.716741 | J33: =AQ33 -> 26.140189 | L33: 70.85 | M33: 70.817 | N33: 78.126 | O33: 67.538 | P33: 67.447 | Q33: 67.447 | R33: 67.784235 | S33: 56.777 | T33: 56.777 | U33: 56.777 | V33: 56.777 | W33: 51.739 | X33: 51.739 | Y33: 51.739 | Z33: 90.784 | AA33: 38.601 | AB33: 41.873 | AC33: 38.601 | AD33: 42.157 | AE33: 32.829 | AF33: 32.829 | AG33: 32.829 | AH33: =WC!AH25*WC!AH$28 -> 26.367033 | AI33: =WC!AI25*WC!AI$28 -> 25.30028 | AJ33: =WC!AJ25*WC!AJ$28 -> 25.206697 | AK33: =WC!AK25*WC!AK$28 -> 25.740372 | AL33: =WC!AL25*WC!AL$28 -> 26.801153 | AM33: =WC!AM25*WC!AM$28 -> 25.716741 | AN33: =WC!AN25*WC!AN$28 -> 25.618205 | AO33: =WC!AO25*WC!AO$28 -> 26.162187 | ... AQ33: =WC!AQ25*WC!AQ$28 -> 26.140189
B34: Deferred Rent | C34: =O34 -> 24.273 | D34: =S34 -> 24.478 | E34: =W34 -> 25.097 | F34: =AA34 -> 6.391 | G34: =AE34 -> 6.534 | H34: =AI34 -> 4.9934763 | I34: =AM34 -> 5.0756726 | J34: =AQ34 -> 5.1592478 | L34: 23.871 | M34: 24.07 | N34: 24.19 | O34: 24.273 | P34: 24.34 | Q34: 24.406 | R34: 24.906 | S34: 24.478 | T34: 24.47 | U34: 24.461 | V34: 24.459 | W34: 25.097 | X34: 25.373 | Y34: 26.732 | Z34: 6.179 | AA34: 6.391 | AB34: 6.331 | AC34: 6.456 | AD34: 6.318 | AE34: 6.534 | AF34: 6.522 | AG34: 6.56 | AH34: =WC!AH26*WC!AH$28 -> 5.2040196 | AI34: =WC!AI26*WC!AI$28 -> 4.9934763 | AJ34: =WC!AJ26*WC!AJ$28 -> 4.975006 | AK34: =WC!AK26*WC!AK$28 -> 5.0803365 | AL34: =WC!AL26*WC!AL$28 -> 5.2897013 | AM34: =WC!AM26*WC!AM$28 -> 5.0756726 | AN34: =WC!AN26*WC!AN$28 -> 5.0562246 | AO34: =WC!AO26*WC!AO$28 -> 5.1635895 | ... AQ34: =WC!AQ26*WC!AQ$28 -> 5.1592478
B35: Other | C35: =O35 -> 10.05 | D35: =S35 -> 12.443 | E35: =W35 -> 9.633 | F35: =AA35 -> 9.443 | G35: =AE35 -> 4.959 | H35: =AI35 -> 3.6618826 | I35: =AM35 -> 3.7221599 | J35: =AQ35 -> 3.7834484 | L35: 12.503 | M35: 12.945 | N35: 13.367 | O35: 10.05 | P35: 10.318 | Q35: 10.585 | R35: 0 | S35: 12.443 | T35: 12.446 | U35: 12.748 | V35: 11.019 | W35: 9.633 | X35: 11.498 | Y35: 11.649 | Z35: 10.85 | AA35: 9.443 | AB35: 9.825 | AC35: 9.515 | AD35: 9.604 | AE35: 4.959 | AF35: 4.856 | AG35: 4.895 | AH35: =WC!AH27*WC!AH$28 -> 3.816281 | AI35: =WC!AI27*WC!AI$28 -> 3.6618826 | AJ35: =WC!AJ27*WC!AJ$28 -> 3.6483377 | AK35: =WC!AK27*WC!AK$28 -> 3.7255801 | AL35: =WC!AL27*WC!AL$28 -> 3.8791143 | AM35: =WC!AM27*WC!AM$28 -> 3.7221599 | AN35: =WC!AN27*WC!AN$28 -> 3.707898 | AO35: =WC!AO27*WC!AO$28 -> 3.7866323 | ... AQ35: =WC!AQ27*WC!AQ$28 -> 3.7834484
B36: Total Liabilities | C36: =SUM(C31:C35)+C30 -> 471 | D36: =SUM(D31:D35)+D30 -> 430.211 | E36: =SUM(E31:E35)+E30 -> 409.191 | F36: =SUM(F31:F35)+F30 -> 428.275 | G36: =SUM(G31:G35)+G30 -> 682.728 | H36: =SUM(H31:H35)+H30 -> 662.26114 | I36: =SUM(I31:I35)+I30 -> 684.87014 | J36: =SUM(J31:J35)+J30 -> 691.28577 | L36: =SUM(L31:L35)+L30 -> 536.898 | M36: =SUM(M31:M35)+M30 -> 515.147 | N36: =SUM(N31:N35)+N30 -> 508.583 | O36: =SUM(O31:O35)+O30 -> 471 | P36: =SUM(P31:P35)+P30 -> 451.883 | Q36: =SUM(Q31:Q35)+Q30 -> 448.283 | R36: =SUM(R31:R35)+R30 -> 438.35633 | S36: =SUM(S31:S35)+S30 -> 430.211 | ... AQ36: =SUM(AQ31:AQ35)+AQ30 -> 691.28577
B37: Stockholders' Equity | C37: =O37 -> 638.157 | D37: =S37 -> 664.11 | E37: =W37 -> 656.586 | F37: =AA37 -> 591.72 | G37: =AE37 -> 385.588 | H37: =AI37 -> 377.35737 | I37: =AM37 -> 369.20487 | J37: =AQ37 -> 374.68101 | L37: 614.74 | M37: 627.426 | N37: 625.736 | O37: 638.157 | P37: 643.067 | Q37: 638.722 | R37: 654.188 | S37: 664.11 | T37: 680.71 | U37: 661.657 | V37: 658.272 | W37: 656.586 | X37: 638.96 | Y37: 644.415 | Z37: 575.059 | AA37: 591.72 | AB37: 575.741 | AC37: 524.979 | AD37: 485.692 | AE37: 385.588 | AF37: 374.079 | AG37: 374.035 | AH37: =Equity!I11 -> 376.00173 | AI37: =Equity!J11 -> 377.35737 | AJ37: =Equity!K11 -> 374.83407 | AK37: =Equity!L11 -> 372.68142 | AL37: =Equity!M11 -> 371.20388 | AM37: =Equity!N11 -> 369.20487 | AN37: =Equity!O11 -> 369.92018 | AO37: =Equity!P11 -> 371.13429 | ... AQ37: =Equity!R11 -> 374.68101
B38: Total Liabilities & Stockholders' Equity | C38: =C37+(SUM(C31:C35)+C30) -> 1109.157 | D38: =D37+(SUM(D31:D35)+D30) -> 1094.321 | E38: =E37+(SUM(E31:E35)+E30) -> 1065.777 | F38: =F37+(SUM(F31:F35)+F30) -> 1019.995 | G38: =G37+(SUM(G31:G35)+G30) -> 1068.316 | H38: =H37+(SUM(H31:H35)+H30) -> 1039.6185 | I38: =I37+(SUM(I31:I35)+I30) -> 1054.075 | J38: =J37+(SUM(J31:J35)+J30) -> 1065.9668 | L38: =L37+L36 -> 1151.638 | M38: =M37+M36 -> 1142.573 | N38: =N37+N36 -> 1134.319 | O38: =O37+O36 -> 1109.157 | P38: =P37+P36 -> 1094.95 | Q38: =Q37+Q36 -> 1087.005 | R38: =R37+R36 -> 1092.5443 | S38: =S37+S36 -> 1094.321 | ... AQ38: =AQ37+AQ36 -> 1065.9668
B40: Total Debt | C40: =O40 -> 190.192 | D40: =S40 -> 149.287 | E40: =W40 -> 135.716 | F40: =AA40 -> 202.249 | G40: =AE40 -> 459.733 | H40: =AI40 -> 464.57899 | I40: =AM40 -> 483.56743 | J40: =AQ40 -> 487.60974 | L40: 270.096 | M40: 240.192 | N40: 200.946 | O40: 190.192 | P40: 181.287 | Q40: 172.287 | R40: 172.287 | S40: 149.287 | T40: 135.716 | U40: 135.716 | V40: 135.716 | W40: 135.716 | X40: 125.989 | Y40: 197.71 | Z40: 238.884 | AA40: 202.249 | AB40: 215.498 | AC40: 319.053 | AD40: 373.66 | AE40: 459.733 | AF40: 462.609 | AG40: 468.713 | AH40: =AH31+AH22+AH21 -> 472.19648 | AI40: =AI31+AI22+AI21 -> 464.57899 | AJ40: =AJ31+AJ22+AJ21 -> 471.01066 | AK40: =AK31+AK22+AK21 -> 474.35073 | AL40: =AL31+AL22+AL21 -> 474.28702 | AM40: =AM31+AM22+AM21 -> 483.56743 | AN40: =AN31+AN22+AN21 -> 486.55147 | AO40: =AO31+AO22+AO21 -> 486.13779 | ... AQ40: =AQ31+AQ22+AQ21 -> 487.60974
B41: Net Debt | C41: =O41 -> 172.389 | D41: =S41 -> 91.557 | E41: =W41 -> 99.77 | F41: =AA41 -> 193.239 | G41: =AE41 -> 451.907 | H41: =AI41 -> 459.57899 | I41: =AM41 -> 478.56743 | J41: =AQ41 -> 482.60974 | L41: 248.194 | M41: 228.694 | N41: 181.164 | O41: 172.389 | P41: 169.822 | Q41: 154.835 | R41: 134.71748 | S41: 91.557 | T41: 75.779 | U41: 97.485 | V41: 87.773 | W41: 99.77 | X41: 124.863 | Y41: 192.89 | Z41: 234.451 | AA41: 193.239 | AB41: 209.399 | AC41: 314.119 | AD41: 368.251 | AE41: 451.907 | AF41: 458.984 | AG41: 464.976 | AH41: =AH40-AH8 -> 467.19648 | AI41: =AI40-AI8 -> 459.57899 | AJ41: =AJ40-AJ8 -> 466.01066 | AK41: =AK40-AK8 -> 469.35073 | AL41: =AL40-AL8 -> 469.28702 | AM41: =AM40-AM8 -> 478.56743 | AN41: =AN40-AN8 -> 481.55147 | AO41: =AO40-AO8 -> 481.13779 | ... AQ41: =AQ40-AQ8 -> 482.60974
...

Sheet CF
L1: 40025 | M1: =EOMONTH(L1,3) -> 40117 | N1: =EOMONTH(M1,3) -> 40209 | O1: =EOMONTH(N1,3) -> 40298 | P1: =EOMONTH(O1,3) -> 40390 | Q1: =EOMONTH(P1,3) -> 40482 | R1: =EOMONTH(Q1,3) -> 40574 | S1: =EOMONTH(R1,3) -> 40663 | T1: =EOMONTH(S1,3) -> 40755 | ... AQ1: =EOMONTH(AP1,3) -> 42855
B2: Bob Evans Farms, Inc.
B3: Cash Flow Statement
B4: $000, Except Where Noted
C5: Annual Summary
C6: 2010 | D6: =C6+1 -> 2011 | E6: =D6+1 -> 2012 | F6: =E6+1 -> 2013 | G6: =F6+1 -> 2014 | H6: =G6+1 -> 2015 | I6: =H6+1 -> 2016 | J6: =I6+1 -> 2017 | L6: 2010 | P6: =L6+1 -> 2011 | T6: =P6+1 -> 2012 | X6: =T6+1 -> 2013 | AB6: =X6+1 -> 2014 | AF6: =AB6+1 -> 2015 | AJ6: =AF6+1 -> 2016 | AN6: =AJ6+1 -> 2017
B7: Operating Activities | L7: 1 | M7: =L7+1 -> 2 | N7: =M7+1 -> 3 | O7: =N7+1 -> 4 | P7: 1 | Q7: =P7+1 -> 2 | R7: =Q7+1 -> 3 | S7: =R7+1 -> 4 | T7: 1 | U7: =T7+1 -> 2 | V7: =U7+1 -> 3 | W7: =V7+1 -> 4 | X7: 1 | Y7: =X7+1 -> 2 | Z7: =Y7+1 -> 3 | AA7: =Z7+1 -> 4 | AB7: 1 | AC7: =AB7+1 -> 2 | AD7: =AC7+1 -> 3 | AE7: =AD7+1 -> 4 | AF7: 1 | AG7: =AF7+1 -> 2 | AH7: =AG7+1 -> 3 | AI7: =AH7+1 -> 4 | AJ7: 1 | AK7: =AJ7+1 -> 2 | AL7: =AK7+1 -> 3 | AM7: =AL7+1 -> 4 | AN7: 1 | AO7: =AN7+1 -> 2 | AP7: =AO7+1 -> 3 | AQ7: =AP7+1 -> 4
B8: Net Income | C8: =IS!C29 -> 70.328 | D8: =IS!D29 -> 54.163 | E8: =IS!E29 -> 74.376 | F8: =IS!F29 -> -1.7 | G8: =IS!G29 -> 32.5 | H8: =IS!H29 -> 33.020012 | I8: =IS!I29 -> 43.471762 | J8: =IS!J29 -> 47.265456 | L8: =IS!L29 -> 16.115 | M8: =IS!M29 -> 15.482 | N8: =IS!N29 -> 17.967 | O8: =IS!O29 -> 20.764 | P8: =IS!P29 -> 12.549 | Q8: =IS!Q29 -> 7.79 | R8: =IS!R29 -> 15.466 | S8: =IS!S29 -> 18.358 | ... AQ8: =IS!AQ29 -> 14.834616
B9: Depreciation & Amortization | C9: =IS!C20 -> 83.988 | D9: =IS!D20 -> 82.962 | E9: =IS!E20 -> 82.112 | F9: =IS!F20 -> 66.243 | G9: =IS!G20 -> 79.456 | H9: =IS!H20 -> 80.649031 | I9: =IS!I20 -> 87.601909 | J9: =IS!J20 -> 87.945763 | L9: =IS!L20 -> 20.983 | M9: =IS!M20 -> 20.678 | N9: =IS!N20 -> 21.112 | O9: =IS!O20 -> 21.215 | P9: =IS!P20 -> 20.776 | Q9: =IS!Q20 -> 20.922 | R9: =IS!R20 -> 20.577 | S9: =IS!S20 -> 20.687 | ... AQ9: =IS!AQ20 -> 22.052787
B10: (Increase)/Decrease in Current Assets | C10: =SUM(L10:O10) -> 7.535 | D10: =SUM(P10:S10) -> -2.754 | E10: =SUM(T10:W10) -> -5.826 | F10: =SUM(X10:AA10) -> -70.969 | G10: =SUM(AB10:AE10) -> 28.199 | H10: =SUM(AF10:AI10) -> 0.46546008 | I10: =SUM(AJ10:AM10) -> -2.0584177 | J10: =SUM(AN10:AQ10) -> -0.90387863 | L10: 2 | M10: =SUM(BS!L9:L14)-SUM(BS!M9:M14) -> -6.243 | N10: =SUM(BS!M9:M14)-SUM(BS!N9:N14) -> 7.002 | O10: =SUM(BS!N9:N14)-SUM(BS!O9:O14) -> 4.776 | P10: =SUM(BS!O9:O14)-SUM(BS!P9:P14) -> -4.509 | Q10: =SUM(BS!P9:P14)-SUM(BS!Q9:Q14) -> -6.446 | R10: =SUM(BS!Q9:Q14)-SUM(BS!R9:R14) -> 5.7800804 | S10: =SUM(BS!R9:R14)-SUM(BS!S9:S14) -> 2.4209196 | T10: =SUM(BS!S9:S14)-SUM(BS!T9:T14) -> 2.652 | ... AQ10: =SUM(BS!AP9:AP14)-SUM(BS!AQ9:AQ14) -> 4.5607208
B11: Increase/(Decrease) in Current Liabilities | C11: =SUM(L11:O11) -> 0.65 | D11: =SUM(P11:S11) -> 4.99 | E11: =SUM(T11:W11) -> -1.223 | F11: =SUM(X11:AA11) -> -16.867 | G11: =SUM(AB11:AE11) -> 3.491 | H11: =SUM(AF11:AI11) -> -10.17504 | I11: =SUM(AJ11:AM11) -> 2.5520076 | J11: =SUM(AN11:AQ11) -> 1.2868415 | L11: -14.558 | M11: =+SUM(BS!M23:M29)-SUM(BS!L23:L29) -> 5.351 | N11: =+SUM(BS!N23:N29)-SUM(BS!M23:M29) -> 24.632 | O11: =+SUM(BS!O23:O29)-SUM(BS!N23:N29) -> -14.775 | P11: =+SUM(BS!P23:P29)-SUM(BS!O23:O29) -> -10.073 | Q11: =+SUM(BS!Q23:Q29)-SUM(BS!P23:P29) -> 2.924 | R11: =+SUM(BS!R23:R29)-SUM(BS!Q23:Q29) -> -0.17890426 | S11: =+SUM(BS!S23:S29)-SUM(BS!R23:R29) -> 12.317904 | T11: =+SUM(BS!T23:T29)-SUM(BS!S23:S29) -> -17.02 | ... AQ11: =+SUM(BS!AQ23:AQ29)-SUM(BS!AP23:AP29) -> -5.7784588
