Workbook

Sheet Cover
B2: Mondelez Financial Model
B3: May 1st, 2014

Sheet Summary
B2: Mondelez International, Inc. (MDLZ)
B3: Trading Data & Summary Financials
B5: Trading Data | G5: Summary Financials
B6: Current Price as of: | C6: 41760 | E6: 34.36 | G6: (FY End: December) | H6: 2011 | I6: =H6+1 -> 2012 | J6: =I6+1 -> 2013 | K6: =J6+1 -> 2014 | L6: =K6+1 -> 2015 | M6: =L6+1 -> 2016 | N6: =M6+1 -> 2017
B7: Shares Outstanding (m) | E7: 1649.48 | G7: Revenue | H7: =IS!C7 -> 35810 | I7: =IS!D7 -> 35015 | J7: =IS!E7 -> 35299 | K7: =IS!F7 -> 34244 | L7: =IS!G7 -> 30650.965 | M7: =IS!H7 -> 31331.187 | N7: =IS!I7 -> 32408.694
B8: Market Capitalization | E8: =E6*E7 -> 56676.133 | G8: Growth y/y% | H8: 0.01 | I8: =I7/H7-1 -> -0.022200503 | J8: =J7/I7-1 -> 0.0081108097 | K8: =K7/J7-1 -> -0.029887532 | L8: =L7/K7-1 -> -0.10492451 | M8: =M7/L7-1 -> 0.0221925 | N8: =N7/M7-1 -> 0.034390877
B9: Cash & Short-Term Investments | E9: 1703 | G9: Operating Income | H9: =IS!C16 -> 4097 | I9: =IS!D16 -> 4293 | J9: =IS!E16 -> 4271 | K9: =IS!F16 -> 4416 | L9: =IS!G16 -> 4105.0346 | M9: =IS!H16 -> 4276.1126 | N9: =IS!I16 -> 4483.7701
B10: Total Debt | E10: 16781 | G10: Growth y/y% | H10: -0.003 | I10: =I9/H9-1 -> 0.047839883 | J10: =J9/I9-1 -> -0.0051246215 | K10: =K9/J9-1 -> 0.033949895 | L10: =L9/K9-1 -> -0.070417878 | M10: =M9/L9-1 -> 0.041675152 | N10: =N9/M9-1 -> 0.04856221
B11: Total Enterprise Value | E11: =E8-E9+E10 -> 71754.133 | G11: Margin % | H11: =H9/H7 -> 0.11440938 | I11: =I9/I7 -> 0.1226046 | J11: =J9/J7 -> 0.12099493 | K11: =K9/K7 -> 0.1289569 | L11: =L9/L7 -> 0.1339284 | M11: =M9/M7 -> 0.13648103 | N11: =N9/N7 -> 0.13835084
B12: Book Value of Common Equity | E12: 374 | G12: EPS | H12: =IS!C25 -> 1.3832522 | I12: =IS!D25 -> 1.4251266 | J12: =IS!E25 -> 1.5619408 | K12: =IS!F25 -> 1.7573236 | L12: =IS!G25 -> 1.560848 | M12: =IS!H25 -> 1.7023614 | N12: =IS!I25 -> 1.84922
B13: Total Debt | E13: =E10 -> 16781 | G13: Growth y/y% | H13: 0.301 | I13: =I12/H12-1 -> 0.030272412 | J13: =J12/I12-1 -> 0.096001455 | K13: =K12/J12-1 -> 0.12508977 | L13: =L12/K12-1 -> -0.11180392 | M13: =M12/L12-1 -> 0.090664443 | N13: =N12/M12-1 -> 0.086267615
B14: Total Capital | E14: =SUM(E12:E13) -> 17155 | G14: Unlevered FCF | H14: =CF!C44 -> 2749 | I14: =CF!D44 -> 2313 | J14: =CF!E44 -> 4788 | K14: =CF!F44 -> 1920 | L14: =Sensitivity!N13 -> 1699.4703 | M14: =Sensitivity!O13 -> 2302.9058 | N14: =Sensitivity!P13 -> 2088.4026
G15: FCF Yield% | K15: =K14/E8 -> 0.033876694 | L15: =L14/E8 -> 0.029985644 | M15: =M14/E8 -> 0.040632726 | N15: =N14/E8 -> 0.036848008
B16: Liquidity | G16: EV / EBITDA | K16: =$E$11/K9 -> 16.248671 | L16: =$E$11/L9 -> 17.479544 | M16: =$E$11/M9 -> 16.780225 | N16: =$E$11/N9 -> 16.00308
B17: Total Debt / TTM EBITDA | E17: =BS!F42 -> 2.8118721 | G17: P / FCF | K17: =$E$6/(K14/$E$7) -> 29.518819 | L17: =$E$6/(L14/$E$7) -> 33.349292 | M17: =$E$6/(M14/$E$7) -> 24.610704 | N17: =$E$6/(N14/$E$7) -> 27.138509
B18: EBITDA / Interest Expense | E18: =BS!AB45 -> 5.9118269 | G18: P / E | K18: =$E$6/K12 -> 19.55246 | L18: =$E$6/L12 -> 22.013675 | M18: =$E$6/M12 -> 20.183729 | N18: =$E$6/N12 -> 18.580807

Sheet IS
K1: 40633 | L1: =EOMONTH(K1,3) -> 40724 | M1: =EOMONTH(L1,3) -> 40816 | N1: =EOMONTH(M1,3) -> 40908 | O1: =EOMONTH(N1,3) -> 40999 | P1: =EOMONTH(O1,3) -> 41090 | Q1: =EOMONTH(P1,3) -> 41182 | R1: =EOMONTH(Q1,3) -> 41274 | S1: =EOMONTH(R1,3) -> 41364 | ... AL1: =EOMONTH(AK1,3) -> 43100
B2: Mondelez International, Inc. (MDLZ)
B3: Consolidated Income Statement
B4: $000's, Except Where Noted
C5: Annual Summary | K5: 2011 | O5: =K5+1 -> 2012 | S5: =O5+1 -> 2013 | W5: =S5+1 -> 2014 | AA5: =W5+1 -> 2015 | AE5: =AA5+1 -> 2016 | AI5: =AE5+1 -> 2017
C6: 2011 | D6: =C6+1 -> 2012 | E6: =D6+1 -> 2013 | F6: =E6+1 -> 2014 | G6: =F6+1 -> 2015 | H6: =G6+1 -> 2016 | I6: =H6+1 -> 2017 | K6: 1 | L6: =K6+1 -> 2 | M6: =L6+1 -> 3 | N6: =M6+1 -> 4 | O6: 1 | P6: =O6+1 -> 2 | Q6: =P6+1 -> 3 | R6: =Q6+1 -> 4 | S6: 1 | T6: =S6+1 -> 2 | U6: =T6+1 -> 3 | V6: =U6+1 -> 4 | W6: 1 | X6: =W6+1 -> 2 | Y6: =X6+1 -> 3 | Z6: =Y6+1 -> 4 | AA6: 1 | AB6: =AA6+1 -> 2 | AC6: =AB6+1 -> 3 | AD6: =AC6+1 -> 4 | AE6: 1 | AF6: =AE6+1 -> 2 | AG6: =AF6+1 -> 3 | AH6: =AG6+1 -> 4 | AI6: 1 | AJ6: =AI6+1 -> 2 | AK6: =AJ6+1 -> 3 | AL6: =AK6+1 -> 4
B7: Net Sales | C7: =SUM(K7:N7) -> 35810 | D7: =SUM(O7:R7) -> 35015 | E7: =SUM(S7:V7) -> 35299 | F7: =SUM(W7:Z7) -> 34244 | G7: =SUM(AA7:AD7) -> 30650.965 | H7: =SUM(AE7:AH7) -> 31331.187 | I7: =SUM(AI7:AL7) -> 32408.694 | K7: ='IS-Segments'!K8+'IS-Segments'!K23+'IS-Segments'!K38+'IS-Segments'!K53+'IS-Segments'!K68 -> 8190 | L7: ='IS-Segments'!L8+'IS-Segments'!L23+'IS-Segments'!L38+'IS-Segments'!L53+'IS-Segments'!L68 -> 9163 | M7: ='IS-Segments'!M8+'IS-Segments'!M23+'IS-Segments'!M38+'IS-Segments'!M53+'IS-Segments'!M68 -> 8778 | N7: ='IS-Segments'!N8+'IS-Segments'!N23+'IS-Segments'!N38+'IS-Segments'!N53+'IS-Segments'!N68 -> 9679 | O7: ='IS-Segments'!O8+'IS-Segments'!O23+'IS-Segments'!O38+'IS-Segments'!O53+'IS-Segments'!O68 -> 8667 | P7: ='IS-Segments'!P8+'IS-Segments'!P23+'IS-Segments'!P38+'IS-Segments'!P53+'IS-Segments'!P68 -> 8527 | Q7: ='IS-Segments'!Q8+'IS-Segments'!Q23+'IS-Segments'!Q38+'IS-Segments'!Q53+'IS-Segments'!Q68 -> 8326 | R7: ='IS-Segments'!R8+'IS-Segments'!R23+'IS-Segments'!R38+'IS-Segments'!R53+'IS-Segments'!R68 -> 9495 | ... AL7: ='IS-Segments'!AL8+'IS-Segments'!AL23+'IS-Segments'!AL38+'IS-Segments'!AL53+'IS-Segments'!AL68 -> 8678.0452
B8: % Growth y/y | C8: 0.01 | D8: =D7/C7-1 -> -0.022200503 | E8: =E7/D7-1 -> 0.0081108097 | F8: =F7/E7-1 -> -0.029887532 | G8: =G7/F7-1 -> -0.10492451 | H8: =H7/G7-1 -> 0.0221925 | I8: =I7/H7-1 -> 0.034390877 | K8: 0.11 | L8: 0.098 | M8: 0.11 | N8: 0.11 | O8: =O7/K7-1 -> 0.058241758 | P8: =P7/L7-1 -> -0.069409582 | Q8: =Q7/M7-1 -> -0.051492367 | R8: =R7/N7-1 -> -0.019010228 | S8: =S7/O7-1 -> 0.0088842737 | T8: =T7/P7-1 -> 0.0079746687 | U8: =U7/Q7-1 -> 0.017535431 | V8: =V7/R7-1 -> -0.00073723012 | ... AL8: =AL7/AH7-1 -> 0.033030201
B9: Cost of Goods Sold | C9: =SUM(K9:N9) -> -22402.5 | D9: =SUM(O9:R9) -> -21939 | E9: =SUM(S9:V9) -> -22189 | F9: =SUM(W9:Z9) -> -21647 | G9: =SUM(AA9:AD9) -> -19071.583 | H9: =SUM(AE9:AH9) -> -19337.003 | I9: =SUM(AI9:AL9) -> -19848.024 | K9: -5133.25 | L9: -5650.25 | M9: -5461 | N9: -6158 | O9: -5472 | P9: -5316 | Q9: -5206 | R9: -5945 | S9: -5502 | T9: -5364 | U9: -5328 | V9: -5995 | W9: -5437 | X9: -5331 | Y9: -5195 | Z9: -5684 | AA9: =-AA7*(1-AA29) -> -4751.3559 | AB9: =-AB7*(1-AB29) -> -4652.418 | AC9: =-AC7*(1-AC29) -> -4613.8013 | AD9: =-AD7*(1-AD29) -> -5054.0075 | AE9: =-AE7*(1-AE29) -> -4737.1043 | AF9: =-AF7*(1-AF29) -> -4726.018 | AG9: =-AG7*(1-AG29) -> -4707.529 | AH9: =-AH7*(1-AH29) -> -5166.3522 | ... AL9: =-AL7*(1-AL29) -> -5293.6076
B10: Gross Profit | C10: =SUM(K10:N10) -> 13407.5 | D10: =SUM(O10:R10) -> 13076 | E10: =SUM(S10:V10) -> 13110 | F10: =SUM(W10:Z10) -> 12597 | G10: =SUM(AA10:AD10) -> 11579.382 | H10: =SUM(AE10:AH10) -> 11994.183 | I10: =SUM(AI10:AL10) -> 12560.67 | K10: =K7+K9 -> 3056.75 | L10: =L7+L9 -> 3512.75 | M10: =M7+M9 -> 3317 | N10: =N7+N9 -> 3521 | O10: =O7+O9 -> 3195 | P10: =P7+P9 -> 3211 | Q10: =Q7+Q9 -> 3120 | R10: =R7+R9 -> 3550 | ... AL10: =AL7+AL9 -> 3384.4376
B11: MD&A Expenses | C11: =SUM(K11:N11) -> -9274.5 | D11: =SUM(O11:R11) -> -8827 | E11: =SUM(S11:V11) -> -8902 | F11: =SUM(W11:Z11) -> -8128 | G11: =SUM(AA11:AD11) -> -7474.3476 | H11: =SUM(AE11:AH11) -> -7718.0706 | I11: =SUM(AI11:AL11) -> -8076.8996 | K11: -2177.75 | L11: -2386.75 | M11: -2289 | N11: -2421 | O11: -2159 | P11: -2099 | Q11: -2055 | R11: -2514 | S11: -2303 | T11: -2269 | U11: -2125 | V11: -2205 | W11: -2152 | X11: -2050 | Y11: -2047 | Z11: -1879 | AA11: =AA16-AA10 -> -1857.9158 | AB11: =AB16-AB10 -> -1857.2847 | AC11: =AC16-AC10 -> -1845.9777 | AD11: =AD16-AD10 -> -1913.1694 | AE11: =AE16-AE10 -> -1884.4438 | AF11: =AF16-AF10 -> -1923.6612 | AG11: =AG16-AG10 -> -1918.4972 | AH11: =AH16-AH10 -> -1991.4684 | ... AL11: =AL16-AL10 -> -2082.8558
B12: Segment Income | C12: =SUM(K12:N12) -> 4762 | D12: =SUM(O12:R12) -> 4827 | E12: =SUM(S12:V12) -> 4649 | F12: =SUM(W12:Z12) -> 4927 | G12: =SUM(AA12:AD12) -> 4461.0346 | H12: =SUM(AE12:AH12) -> 4612.1126 | I12: =SUM(AI12:AL12) -> 4819.7701 | K12: ='IS-Segments'!K10+'IS-Segments'!K25+'IS-Segments'!K40+'IS-Segments'!K55+'IS-Segments'!K70 -> 998 | L12: ='IS-Segments'!L10+'IS-Segments'!L25+'IS-Segments'!L40+'IS-Segments'!L55+'IS-Segments'!L70 -> 1244 | M12: ='IS-Segments'!M10+'IS-Segments'!M25+'IS-Segments'!M40+'IS-Segments'!M55+'IS-Segments'!M70 -> 1220 | N12: ='IS-Segments'!N10+'IS-Segments'!N25+'IS-Segments'!N40+'IS-Segments'!N55+'IS-Segments'!N70 -> 1300 | O12: ='IS-Segments'!O10+'IS-Segments'!O25+'IS-Segments'!O40+'IS-Segments'!O55+'IS-Segments'!O70 -> 1141 | P12: ='IS-Segments'!P10+'IS-Segments'!P25+'IS-Segments'!P40+'IS-Segments'!P55+'IS-Segments'!P70 -> 1196 | Q12: ='IS-Segments'!Q10+'IS-Segments'!Q25+'IS-Segments'!Q40+'IS-Segments'!Q55+'IS-Segments'!Q70 -> 1226 | R12: ='IS-Segments'!R10+'IS-Segments'!R25+'IS-Segments'!R40+'IS-Segments'!R55+'IS-Segments'!R70 -> 1264 | ... AL12: ='IS-Segments'!AL10+'IS-Segments'!AL25+'IS-Segments'!AL40+'IS-Segments'!AL55+'IS-Segments'!AL70 -> 1385.5819
B13: Goodwill Amortization | C13: =SUM(K13:N13) -> -225 | D13: =SUM(O13:R13) -> -217 | E13: =SUM(S13:V13) -> -217 | F13: =SUM(W13:Z13) -> -206 | G13: =SUM(AA13:AD13) -> -196 | H13: =SUM(AE13:AH13) -> -196 | I13: =SUM(AI13:AL13) -> -196 | K13: -57 | L13: -57 | M13: -58 | N13: -53 | O13: -56 | P13: -53 | Q13: -54 | R13: -54 | S13: -54 | T13: -55 | U13: -55 | V13: -53 | W13: -54 | X13: -55 | Y13: -48 | Z13: -49 | AA13: =Z13 -> -49 | AB13: =AA13 -> -49 | AC13: =AB13 -> -49 | AD13: =AC13 -> -49 | AE13: =AD13 -> -49 | AF13: =AE13 -> -49 | AG13: =AF13 -> -49 | AH13: =AG13 -> -49 | ... AL13: =AK13 -> -49
B14: Corporate Expenses | C14: =SUM(K14:N14) -> -404 | D14: =SUM(O14:R14) -> -318 | E14: =SUM(S14:V14) -> -223 | F14: =SUM(W14:Z14) -> -193 | G14: =SUM(AA14:AD14) -> -160 | H14: =SUM(AE14:AH14) -> -140 | I14: =SUM(AI14:AL14) -> -140 | K14: -62 | L14: -61 | M14: -134 | N14: -147 | O14: -73 | P14: -42 | Q14: -84 | R14: -119 | S14: -59 | T14: -60 | U14: -64 | V14: -40 | W14: -69 | X14: -40 | Y14: -39 | Z14: -45 | AA14: -40 | AB14: =AA14 -> -40 | AC14: =AB14 -> -40 | AD14: =AC14 -> -40 | AE14: -35 | AF14: =AE14 -> -35 | AG14: =AF14 -> -35 | AH14: =AG14 -> -35 | AI14: -35 | AJ14: =AI14 -> -35 | AK14: =AJ14 -> -35 | AL14: =AK14 -> -35
B15: Unrealized Gains/Losses on Hedges | C15: =SUM(K15:N15) -> -36 | D15: =SUM(O15:R15) -> 1 | E15: =SUM(S15:V15) -> 62 | F15: =SUM(W15:Z15) -> -112 | G15: =SUM(AA15:AD15) -> 0 | H15: =SUM(AE15:AH15) -> 0 | I15: =SUM(AI15:AL15) -> 0 | K15: 65 | L15: -72 | M15: 17 | N15: -46 | O15: 18 | P15: 23 | Q15: 1 | R15: -41 | S15: 19 | T15: 24 | U15: 12 | V15: 7 | W15: 7 | X15: -54 | Y15: 39 | Z15: -104 | AA15: 0 | AB15: =AA15 -> 0 | AC15: =AB15 -> 0 | AD15: =AC15 -> 0 | AE15: =AD15 -> 0 | AF15: =AE15 -> 0 | AG15: =AF15 -> 0 | AH15: =AG15 -> 0 | AI15: =AH15 -> 0 | ... AL15: =AK15 -> 0
B16: Operating Income | C16: =SUM(K16:N16) -> 4097 | D16: =SUM(O16:R16) -> 4293 | E16: =SUM(S16:V16) -> 4271 | F16: =SUM(W16:Z16) -> 4416 | G16: =SUM(AA16:AD16) -> 4105.0346 | H16: =SUM(AE16:AH16) -> 4276.1126 | I16: =SUM(AI16:AL16) -> 4483.7701 | K16: =SUM(K12:K15) -> 944 | L16: =SUM(L12:L15) -> 1054 | M16: =SUM(M12:M15) -> 1045 | N16: =SUM(N12:N15) -> 1054 | O16: =SUM(O12:O15) -> 1030 | P16: =SUM(P12:P15) -> 1124 | Q16: =SUM(Q12:Q15) -> 1089 | R16: =SUM(R12:R15) -> 1050 | ... AL16: =SUM(AL12:AL15) -> 1301.5819
B17: % Growth y/y | C17: 0.01 | D17: =D16/C16-1 -> 0.047839883 | E17: =E16/D16-1 -> -0.0051246215 | F17: =F16/E16-1 -> 0.033949895 | G17: =G16/F16-1 -> -0.070417878 | H17: =H16/G16-1 -> 0.041675152 | I17: =I16/H16-1 -> 0.04856221 | K17: 0.066 | L17: 0.054 | M17: 0.056 | N17: 0.043 | O17: =O16/K16-1 -> 0.091101695 | P17: =P16/L16-1 -> 0.066413662 | Q17: =Q16/M16-1 -> 0.042105263 | R17: =R16/N16-1 -> -0.0037950664 | S17: =S16/O16-1 -> -0.085436893 | T17: =T16/P16-1 -> -0.12633452 | U17: =U16/Q16-1 -> -0.050505051 | V17: =V16/R16-1 -> 0.25047619 | ... AL17: =AL16/AH16-1 -> 0.04733831
B18: EBITDA | C18: =SUM(K18:N18) -> 5582 | D18: =SUM(O18:R18) -> 5638 | E18: =SUM(S18:V18) -> 5348 | F18: =SUM(W18:Z18) -> 5475 | G18: =SUM(AA18:AD18) -> 5024.5636 | H18: =SUM(AE18:AH18) -> 5216.0482 | I18: =SUM(AI18:AL18) -> 5456.0309 | K18: =K16+CF!K9 -> 1316 | L18: =L16+CF!L9 -> 1424 | M18: =M16+CF!M9 -> 1420 | N18: =N16+CF!N9 -> 1422 | O18: =O16+CF!O9 -> 1387 | P18: =P16+CF!P9 -> 1476 | Q18: =Q16+CF!Q9 -> 1445 | R18: =R16+CF!R9 -> 1330 | ... AL18: =AL16+CF!AL9 -> 1561.9232
B19: Net Interest Expense | C19: =SUM(K19:N19) -> -1308 | D19: =SUM(O19:R19) -> -1093 | E19: =SUM(S19:V19) -> -1011 | F19: =SUM(W19:Z19) -> -821 | G19: =SUM(AA19:AD19) -> -825 | H19: =SUM(AE19:AH19) -> -800 | I19: =SUM(AI19:AL19) -> -800 | K19: -302 | L19: -298 | M19: -281 | N19: -427 | O19: -280 | P19: -280 | Q19: -254 | R19: -279 | S19: -274 | T19: -235 | U19: -267 | V19: -235 | W19: -226 | X19: -216 | Y19: -193 | Z19: -186 | AA19: =-825/4 -> -206.25 | AB19: =-825/4 -> -206.25 | AC19: =-825/4 -> -206.25 | AD19: =-825/4 -> -206.25 | AE19: -200 | AF19: =AE19 -> -200 | AG19: =AF19 -> -200 | AH19: =AG19 -> -200 | AI19: -200 | AJ19: =AI19 -> -200 | AK19: =AJ19 -> -200 | AL19: =AK19 -> -200
B20: Pre-Tax Income | C20: =SUM(K20:N20) -> 2789 | D20: =SUM(O20:R20) -> 3200 | E20: =SUM(S20:V20) -> 3260 | F20: =SUM(W20:Z20) -> 3595 | G20: =SUM(AA20:AD20) -> 3280.0347 | H20: =SUM(AE20:AH20) -> 3476.1126 | I20: =SUM(AI20:AL20) -> 3683.7701 | K20: =K16+K19 -> 642 | L20: =L16+L19 -> 756 | M20: =M16+M19 -> 764 | N20: =N16+N19 -> 627 | O20: =O16+O19 -> 750 | P20: =P16+P19 -> 844 | Q20: =Q16+Q19 -> 835 | R20: =R16+R19 -> 771 | ... AL20: =AL16+AL19 -> 1101.5819
B21: Taxes | C21: =SUM(K21:N21) -> -317 | D21: =SUM(O21:R21) -> -625 | E21: =SUM(S21:V21) -> -442 | F21: =SUM(W21:Z21) -> -577 | G21: =SUM(AA21:AD21) -> -656.00693 | H21: =SUM(AE21:AH21) -> -695.22252 | I21: =SUM(AI21:AL21) -> -736.75401 | K21: -148 | L21: -144 | M21: -101 | N21: 76 | O21: -181 | P21: -172 | Q21: -166 | R21: -106 | S21: -2 | T21: -77 | U21: -34 | V21: -329 | W21: -171 | X21: -133 | Y21: -92 | Z21: -181 | AA21: =-AA20*AA33 -> -147.66066 | AB21: =-AB20*AB33 -> -157.58946 | AC21: =-AC20*AC33 -> -155.11719 | AD21: =-AD20*AD33 -> -195.63962 | AE21: =-AE20*AE33 -> -153.99304 | AF21: =-AF20*AF33 -> -166.98058 | AG21: =-AG20*AG33 -> -165.69849 | AH21: =-AH20*AH33 -> -208.55042 | ... AL21: =-AL20*AL33 -> -220.31637
B22: Minority Interest | C22: =SUM(K22:N22) -> -20 | D22: =SUM(O22:R22) -> -27 | E22: =SUM(S22:V22) -> -25 | F22: =SUM(W22:Z22) -> -17 | G22: =SUM(AA22:AD22) -> -28 | H22: =SUM(AE22:AH22) -> -28 | I22: =SUM(AI22:AL22) -> -28 | K22: -3 | L22: 0 | M22: -5 | N22: -12 | O22: -6 | P22: -5 | Q22: -7 | R22: -9 | S22: -6 | T22: -6 | U22: -6 | V22: -7 | W22: 13 | X22: -20 | Y22: -3 | Z22: -7 | AA22: -7 | AB22: =AA22 -> -7 | AC22: =AB22 -> -7 | AD22: =AC22 -> -7 | AE22: =AD22 -> -7 | AF22: =AE22 -> -7 | AG22: =AF22 -> -7 | AH22: =AG22 -> -7 | AI22: =AH22 -> -7 | ... AL22: =AK22 -> -7
B23: Net Income | C23: =SUM(K23:N23) -> 2452 | D23: =SUM(O23:R23) -> 2548 | E23: =SUM(S23:V23) -> 2793 | F23: =SUM(W23:Z23) -> 3001 | G23: =SUM(AA23:AD23) -> 2596.0277 | H23: =SUM(AE23:AH23) -> 2752.8901 | I23: =SUM(AI23:AL23) -> 2919.0161 | K23: =K20+K21+K22 -> 491 | L23: =L20+L21+L22 -> 612 | M23: =M20+M21+M22 -> 658 | N23: =N20+N21+N22 -> 691 | O23: =O20+O21+O22 -> 563 | P23: =P20+P21+P22 -> 667 | Q23: =Q20+Q21+Q22 -> 662 | R23: =R20+R21+R22 -> 656 | ... AL23: =AL20+AL21+AL22 -> 874.26549
B24: Diluted Shares Outstanding | C24: =AVERAGE(K24:N24) -> 1771.75 | D24: =AVERAGE(O24:R24) -> 1787.75 | E24: =AVERAGE(S24:V24) -> 1789 | F24: =AVERAGE(W24:Z24) -> 1708.5 | G24: =AVERAGE(AA24:AD24) -> 1664.7204 | H24: =AVERAGE(AE24:AH24) -> 1618.3763 | I24: =AVERAGE(AI24:AL24) -> 1579.6348 | K24: 1760 | L24: 1771 | M24: 1777 | N24: 1779 | O24: 1783 | P24: 1786 | Q24: 1789 | R24: 1793 | S24: 1798 | T24: 1803 | U24: 1794 | V24: 1761 | W24: 1722 | X24: 1712 | Y24: 1705 | Z24: 1695 | AA24: =Equity!G17 -> 1684 | AB24: =Equity!H17 -> 1670.9034 | AC24: =Equity!I17 -> 1658.1771 | AD24: =Equity!J17 -> 1645.8009 | AE24: =Equity!K17 -> 1633.7559 | AF24: =Equity!L17 -> 1623.3284 | AG24: =Equity!M17 -> 1613.1658 | AH24: =Equity!N17 -> 1603.255 | ... AL24: =Equity!R17 -> 1565.8987
B25: Earnings Per Share | C25: =SUM(K25:N25) -> 1.3832522 | D25: =SUM(O25:R25) -> 1.4251266 | E25: =SUM(S25:V25) -> 1.5619408 | F25: =SUM(W25:Z25) -> 1.7573236 | G25: =SUM(AA25:AD25) -> 1.560848 | H25: =SUM(AE25:AH25) -> 1.7023614 | I25: =SUM(AI25:AL25) -> 1.84922 | K25: =K23/K24 -> 0.27897727 | L25: =L23/L24 -> 0.34556748 | M25: =M23/M24 -> 0.370287 | N25: =N23/N24 -> 0.38842046 | O25: =O23/O24 -> 0.31575996 | P25: =P23/P24 -> 0.37346025 | Q25: =Q23/Q24 -> 0.37003913 | R25: =R23/R24 -> 0.36586726 | ... AL25: =AL23/AL24 -> 0.55831548
B28: Margins
B29: Gross Margin | C29: =C10/C7 -> 0.37440659 | D29: =D10/D7 -> 0.37343995 | E29: =E10/E7 -> 0.37139862 | F29: =F10/F7 -> 0.36786006 | G29: =G10/G7 -> 0.37778198 | H29: =H10/H7 -> 0.38281931 | I29: =I10/I7 -> 0.387571 | K29: =K10/K7 -> 0.37322955 | L29: =L10/L7 -> 0.38336244 | M29: =M10/M7 -> 0.37787651 | N29: =N10/N7 -> 0.36377725 | O29: =O10/O7 -> 0.36863967 | P29: =P10/P7 -> 0.37656855 | Q29: =Q10/Q7 -> 0.37472976 | R29: =R10/R7 -> 0.37388099 | ... Z29: =Z10/Z7 -> 0.35628539 | AA29: 0.371 | AB29: 0.38 | AC29: 0.38 | AD29: 0.38 | AE29: 0.376 | AF29: 0.385 | AG29: 0.385 | AH29: 0.385 | AI29: 0.38 | AJ29: 0.39 | AK29: 0.39 | AL29: 0.39
B30: Operating Margin | C30: =C16/C7 -> 0.11440938 | D30: =D16/D7 -> 0.1226046 | E30: =E16/E7 -> 0.12099493 | F30: =F16/F7 -> 0.1289569 | G30: =G16/G7 -> 0.1339284 | H30: =H16/H7 -> 0.13648103 | I30: =I16/I7 -> 0.13835084 | K30: =K16/K7 -> 0.11526252 | L30: =L16/L7 -> 0.11502783 | M30: =M16/M7 -> 0.11904762 | N30: =N16/N7 -> 0.10889555 | O30: =O16/O7 -> 0.11884158 | P30: =P16/P7 -> 0.13181658 | Q30: =Q16/Q7 -> 0.1307951 | R30: =R16/R7 -> 0.11058452 | ... AL30: =AL16/AL7 -> 0.1499856
B31: MD&A (% of sales) | C31: =-C11/C7 -> 0.2589919 | D31: =-D11/D7 -> 0.25209196 | E31: =-E11/E7 -> 0.25218845 | F31: =-F11/F7 -> 0.23735545 | G31: =-G11/G7 -> 0.24385358 | H31: =-H11/H7 -> 0.24633828 | I31: =-I11/I7 -> 0.24922016 | K31: =-K11/K7 -> 0.26590354 | L31: =-L11/L7 -> 0.26047692 | M31: =-M11/M7 -> 0.26076555 | N31: =-N11/N7 -> 0.25012915 | O31: =-O11/O7 -> 0.2491058 | P31: =-P11/P7 -> 0.24615926 | Q31: =-Q11/Q7 -> 0.2468172 | R31: =-R11/R7 -> 0.26477093 | ... AL31: =-AL11/AL7 -> 0.2400144
B32: Drivers
B33: Tax Rate % | C33: =-C21/C20 -> 0.11366081 | D33: =-D21/D20 -> 0.1953125 | E33: =-E21/E20 -> 0.13558282 | F33: =-F21/F20 -> 0.1605007 | G33: =-G21/G20 -> 0.2 | H33: =-H21/H20 -> 0.2 | I33: =-I21/I20 -> 0.2 | K33: =-K21/K20 -> 0.2305296 | L33: =-L21/L20 -> 0.19047619 | M33: =-M21/M20 -> 0.13219895 | N33: =-N21/N20 -> -0.12121212 | O33: =-O21/O20 -> 0.24133333 | P33: =-P21/P20 -> 0.20379147 | Q33: =-Q21/Q20 -> 0.1988024 | R33: =-R21/R20 -> 0.13748379 | ... Z33: =-Z21/Z20 -> 0.18488253 | AA33: 0.2 | AB33: =AA33 -> 0.2 | AC33: =AB33 -> 0.2 | AD33: =AC33 -> 0.2 | AE33: =AD33 -> 0.2 | AF33: =AE33 -> 0.2 | AG33: =AF33 -> 0.2 | AH33: =AG33 -> 0.2 | AI33: =AH33 -> 0.2 | ... AL33: =AK33 -> 0.2
B34: D&A (% of sales) | C34: =CF!C9/IS!C7 -> 0.041468863 | D34: =CF!D9/IS!D7 -> 0.038412109 | E34: =CF!E9/IS!E7 -> 0.030510779 | F34: =CF!F9/IS!F7 -> 0.030925126 | G34: =CF!G9/IS!G7 -> 0.03 | H34: =CF!H9/IS!H7 -> 0.03 | I34: =CF!I9/IS!I7 -> 0.03 | K34: =CF!K9/IS!K7 -> 0.045421245 | L34: =CF!L9/IS!L7 -> 0.040379788 | M34: =CF!M9/IS!M7 -> 0.042720437 | N34: =CF!N9/IS!N7 -> 0.038020457 | O34: =CF!O9/IS!O7 -> 0.041190723 | P34: =CF!P9/IS!P7 -> 0.041280638 | Q34: =CF!Q9/IS!Q7 -> 0.042757627 | R34: =CF!R9/IS!R7 -> 0.029489205 | ... Z34: =CF!Z9/IS!Z7 -> 0.029671574 | AA34: 0.03 | AB34: =AA34 -> 0.03 | AC34: =AB34 -> 0.03 | AD34: =AC34 -> 0.03 | AE34: =AD34 -> 0.03 | AF34: =AE34 -> 0.03 | AG34: =AF34 -> 0.03 | AH34: =AG34 -> 0.03 | AI34: =AH34 -> 0.03 | ... AL34: =AK34 -> 0.03
B35: Capex (% of sales) | C35: =-CF!C23/IS!C7 -> 0.049455459 | D35: =-CF!D23/IS!D7 -> 0.045980294 | E35: =-CF!E23/IS!E7 -> 0.04595031 | F35: =-CF!F23/IS!F7 -> 0.047950006 | G35: =-CF!G23/IS!G7 -> 0.06 | H35: =-CF!H23/IS!H7 -> 0.052422989 | I35: =-CF!I23/IS!I7 -> 0.06 | K35: =-CF!K23/IS!K7 -> 0.028937729 | L35: =-CF!L23/IS!L7 -> 0.045618247 | M35: =-CF!M23/IS!M7 -> 0.07131465 | N35: =-CF!N23/IS!N7 -> 0.050625065 | O35: =-CF!O23/IS!O7 -> 0.03865236 | P35: =-CF!P23/IS!P7 -> 0.047496189 | Q35: =-CF!Q23/IS!Q7 -> 0.058731684 | R35: =-CF!R23/IS!R7 -> 0.040126382 | ... Z35: =-CF!Z23/IS!Z7 -> 0.058097395 | AA35: 0.06 | AB35: =AA35 -> 0.06 | AC35: =AB35 -> 0.06 | AD35: =AC35 -> 0.06 | AE35: 0.06 | AF35: 0.05 | AG35: =AF35 -> 0.05 | AH35: =AG35 -> 0.05 | AI35: 0.06 | AJ35: =AI35 -> 0.06 | AK35: =AJ35 -> 0.06 | AL35: =AK35 -> 0.06

Sheet IS-Segments
K1: 40633 | L1: =EOMONTH(K1,3) -> 40724 | M1: =EOMONTH(L1,3) -> 40816 | N1: =EOMONTH(M1,3) -> 40908 | O1: =EOMONTH(N1,3) -> 40999 | P1: =EOMONTH(O1,3) -> 41090 | Q1: =EOMONTH(P1,3) -> 41182 | R1: =EOMONTH(Q1,3) -> 41274 | S1: =EOMONTH(R1,3) -> 41364 | ... AL1: =EOMONTH(AK1,3) -> 43100
B2: =Debt!B2 -> Mondelez International, Inc. (MDLZ)
B3: Segment Analysis
B4: $000, Except Where Noted
C5: Annual Summary | K5: 2011 | O5: =K5+1 -> 2012 | S5: =O5+1 -> 2013 | W5: =S5+1 -> 2014 | AA5: =W5+1 -> 2015 | AE5: =AA5+1 -> 2016 | AI5: =AE5+1 -> 2017
C6: 2011 | D6: =+C6+1 -> 2012 | E6: =+D6+1 -> 2013 | F6: =+E6+1 -> 2014 | G6: =+F6+1 -> 2015 | H6: =+G6+1 -> 2016 | I6: =+H6+1 -> 2017 | K6: 1 | L6: =K6+1 -> 2 | M6: =L6+1 -> 3 | N6: =M6+1 -> 4 | O6: 1 | P6: =O6+1 -> 2 | Q6: =P6+1 -> 3 | R6: =Q6+1 -> 4 | S6: 1 | T6: =S6+1 -> 2 | U6: =T6+1 -> 3 | V6: =U6+1 -> 4 | W6: 1 | X6: =W6+1 -> 2 | Y6: =X6+1 -> 3 | Z6: =Y6+1 -> 4 | AA6: 1 | AB6: =AA6+1 -> 2 | AC6: =AB6+1 -> 3 | AD6: =AC6+1 -> 4 | AE6: 1 | AF6: =AE6+1 -> 2 | AG6: =AF6+1 -> 3 | AH6: =AG6+1 -> 4 | AI6: 1 | AJ6: =AI6+1 -> 2 | AK6: =AJ6+1 -> 3 | AL6: =AK6+1 -> 4
B7: North America
B8: Revenues | C8: =SUM(K8:N8) -> 6833 | D8: =SUM(O8:R8) -> 6903 | E8: =SUM(S8:V8) -> 6991 | F8: =SUM(W8:Z8) -> 6936 | G8: =SUM(AA8:AD8) -> 6797.28 | H8: =SUM(AE8:AH8) -> 6899.2392 | I8: =SUM(AI8:AL8) -> 7002.7278 | K8: 1602 | L8: 1648 | M8: 1735 | N8: 1848 | O8: 1634 | P8: 1685 | Q8: 1768 | R8: 1816 | S8: 1658 | T8: 1704 | U8: 1785 | V8: 1844 | W8: 1667 | X8: 1723 | Y8: 1760 | Z8: 1786 | AA8: =W8*(1+AA9) -> 1633.66 | AB8: =X8*(1+AB9) -> 1688.54 | AC8: =Y8*(1+AC9) -> 1724.8 | AD8: =Z8*(1+AD9) -> 1750.28 | AE8: =AA8*(1+AE9) -> 1658.1649 | AF8: =AB8*(1+AF9) -> 1713.8681 | AG8: =AC8*(1+AG9) -> 1750.672 | AH8: =AD8*(1+AH9) -> 1776.5342 | ... AL8: =AH8*(1+AL9) -> 1803.1822
B9: Growth y/y% | D9: =D8/C8-1 -> 0.010244402 | E9: =E8/D8-1 -> 0.012748081 | F9: =F8/E8-1 -> -0.0078672579 | G9: =G8/F8-1 -> -0.02 | H9: =H8/G8-1 -> 0.015 | I9: =I8/H8-1 -> 0.015 | O9: 0.019975031 | P9: 0.022451456 | Q9: 0.019020173 | R9: -0.017316017 | S9: 0.014687882 | T9: 0.011275964 | U9: 0.0096153846 | V9: 0.015418502 | W9: 0.0054282268 | X9: 0.011150235 | Y9: -0.014005602 | Z9: -0.031453362 | AA9: =SUM(AA17:AA20) -> -0.02 | AB9: =SUM(AB17:AB20) -> -0.02 | AC9: =SUM(AC17:AC20) -> -0.02 | AD9: =SUM(AD17:AD20) -> -0.02 | AE9: =SUM(AE17:AE20) -> 0.015 | AF9: =SUM(AF17:AF20) -> 0.015 | AG9: =SUM(AG17:AG20) -> 0.015 | AH9: =SUM(AH17:AH20) -> 0.015 | ... AL9: =SUM(AL17:AL20) -> 0.015
B10: Operating Income | C10: =SUM(K10:N10) -> 937 | D10: =SUM(O10:R10) -> 962 | E10: =SUM(S10:V10) -> 1049 | F10: =SUM(W10:Z10) -> 1129 | G10: =SUM(AA10:AD10) -> 1114.9313 | H10: =SUM(AE10:AH10) -> 1148.6301 | I10: =SUM(AI10:AL10) -> 1189.1767 | K10: 213 | L10: 221 | M10: 244 | N10: 259 | O10: 197 | P10: 227 | Q10: 275 | R10: 263 | S10: 192 | T10: 226 | U10: 301 | V10: 330 | W10: 230 | X10: 291 | Y10: 314 | Z10: 294 | AA10: =AA8*AA12 -> 226.527 | AB10: =AB8*AB12 -> 286.6059 | AC10: =AC8*AC12 -> 310.7972 | AD10: =AD8*AD12 -> 291.0012 | AE10: =AE8*AE12 -> 233.37378 | AF10: =AF8*AF12 -> 295.26856 | AG10: =AG8*AG12 -> 320.19105 | AH10: =AH8*AH12 -> 299.79671 | ... AL10: =AL8*AL12 -> 310.37954
B11: Growth y/y% | D11: =D10/C10-1 -> 0.026680896 | E11: =E10/D10-1 -> 0.09043659 | F11: =F10/E10-1 -> 0.076263108 | G11: =G10/F10-1 -> -0.012461205 | H11: =H10/G10-1 -> 0.030225 | I11: =I10/H10-1 -> 0.0353 | O11: -0.075117371 | P11: 0.027149321 | Q11: 0.12704918 | R11: 0.015444015 | S11: -0.025380711 | T11: -0.0044052863 | U11: 0.094545455 | V11: 0.25475285 | W11: 0.19791667 | X11: 0.28761062 | Y11: 0.043189369 | Z11: -0.10909091 | AA11: =AA10/W10-1 -> -0.0151 | AB11: =AB10/X10-1 -> -0.0151 | AC11: =AC10/Y10-1 -> -0.0102 | AD11: =AD10/Z10-1 -> -0.0102 | AE11: =AE10/AA10-1 -> 0.030225 | AF11: =AF10/AB10-1 -> 0.030225 | AG11: =AG10/AC10-1 -> 0.030225 | AH11: =AH10/AD10-1 -> 0.030225 | ... AL11: =AL10/AH10-1 -> 0.0353
B12: EBIT Margin % | C12: =C10/C8 -> 0.13712864 | D12: =D10/D8 -> 0.1393597 | E12: =E10/E8 -> 0.15005006 | F12: =F10/F8 -> 0.16277393 | G12: =G10/G8 -> 0.1640261 | H12: =H10/H8 -> 0.16648649 | I12: =I10/I8 -> 0.16981622 | K12: 0.1329588 | L12: 0.13410194 | M12: 0.14063401 | N12: 0.14015152 | O12: 0.12056304 | P12: 0.1347181 | Q12: 0.15554299 | R12: 0.14482379 | S12: 0.11580217 | T12: 0.13262911 | U12: 0.16862745 | V12: 0.17895879 | W12: 0.13797241 | X12: 0.16889147 | Y12: 0.17840909 | Z12: 0.16461366 | AA12: =W12*(1+AA13) -> 0.13866227 | AB12: =X12*(1+AB13) -> 0.16973593 | AC12: =Y12*(1+AC13) -> 0.18019318 | AD12: =Z12*(1+AD13) -> 0.1662598 | AE12: =AA12*(1+AE13) -> 0.1407422 | AF12: =AB12*(1+AF13) -> 0.17228196 | AG12: =AC12*(1+AG13) -> 0.18289608 | AH12: =AD12*(1+AH13) -> 0.1687537 | ... AL12: =AH12*(1+AL13) -> 0.17212877
B13: Change y/y% | D13: =D12-C12 -> 0.0022310583 | E13: =E12-D12 -> 0.010690366 | F13: =F12-E12 -> 0.012723869 | G13: =G12-F12 -> 0.0012521626 | H13: =H12-G12 -> 0.0024603914 | I13: =I12-H12 -> 0.0033297297 | O13: =O12-K12 -> -0.012395766 | P13: =P12-L12 -> 0.00061615914 | Q13: =Q12-M12 -> 0.014908981 | R13: =R12-N12 -> 0.0046722734 | S13: =S12-O12 -> -0.0047608642 | T13: =T12-P12 -> -0.0020889929 | U13: =U12-Q12 -> 0.013084465 | V13: =V12-R12 -> 0.034134997 | ... Z13: =Z12-V12 -> -0.014345123 | AA13: 0.005 | AB13: 0.005 | AC13: 0.01 | AD13: 0.01 | AE13: 0.015 | AF13: 0.015 | AG13: 0.015 | AH13: 0.015 | AI13: 0.02 | AJ13: 0.02 | AK13: 0.02 | AL13: 0.02
B14: North America - Revenue Build
B15: Vol/Mix | C15: -0.01 | D15: -0.012 | E15: =SUMPRODUCT(O$8:R$8,S15:V15)/SUM(O$8:R$8) -> 0.023482254 | F15: =SUMPRODUCT(S$8:V$8,W15:Z15)/SUM(S$8:V$8) -> 0.0067737091 | G15: =SUMPRODUCT(W$8:Z$8,AA15:AD15)/SUM(W$8:Z$8) -> 0.015 | H15: =SUMPRODUCT(AA$8:AD$8,AE15:AH15)/SUM(AA$8:AD$8) -> 0.01 | I15: =SUMPRODUCT(AE$8:AH$8,AI15:AL15)/SUM(AE$8:AH$8) -> 0.01 | K15: 0.013 | L15: -0.03 | M15: -0.011 | N15: -0.045 | O15: -0.013 | P15: -0.024 | Q15: -0.002 | R15: -0.01 | S15: 0.009 | T15: 0.032 | U15: 0.02 | V15: 0.032 | W15: 0.01 | X15: 0.016 | Y15: 0.003 | Z15: -0.001 | AA15: 0.015 | AB15: 0.015 | AC15: 0.015 | AD15: 0.015 | AE15: 0.01 | AF15: 0.01 | AG15: 0.01 | AH15: 0.01 | AI15: 0.01 | AJ15: 0.01 | AK15: 0.01 | AL15: 0.01
B16: Pricing/Promo | C16: 0.035 | D16: 0.036 | E16: =SUMPRODUCT(O$8:R$8,S16:V16)/SUM(O$8:R$8) -> 0.0021151673 | F16: =SUMPRODUCT(S$8:V$8,W16:Z16)/SUM(S$8:V$8) -> 0.0012692033 | G16: =SUMPRODUCT(W$8:Z$8,AA16:AD16)/SUM(W$8:Z$8) -> -0.01 | H16: =SUMPRODUCT(AA$8:AD$8,AE16:AH16)/SUM(AA$8:AD$8) -> 0.005 | I16: =SUMPRODUCT(AE$8:AH$8,AI16:AL16)/SUM(AE$8:AH$8) -> 0.005 | K16: 0.004 | L16: 0.026 | M16: 0.06 | N16: 0.104 | O16: 0.035 | P16: 0.054 | Q16: 0.025 | R16: 0.032 | S16: 0.015 | T16: -0.009 | U16: 0.004 | V16: -0.001 | W16: 0.015 | X16: 0.011 | Y16: -0.005 | Z16: -0.014 | AA16: -0.01 | AB16: -0.01 | AC16: -0.01 | AD16: -0.01 | AE16: 0.005 | AF16: 0.005 | AG16: 0.005 | AH16: 0.005 | AI16: 0.005 | AJ16: 0.005 | AK16: 0.005 | AL16: 0.005
B17: Organic Growth | C17: =SUM(C15:C16) -> 0.025 | D17: =SUM(D15:D16) -> 0.024 | E17: =SUM(E15:E16) -> 0.025597421 | F17: =SUM(F15:F16) -> 0.0080429123 | G17: =SUM(G15:G16) -> 0.005 | H17: =SUM(H15:H16) -> 0.015 | I17: =SUM(I15:I16) -> 0.015 | K17: 0.017 | L17: -0.004 | M17: 0.049 | N17: 0.059 | O17: 0.022 | P17: 0.03 | Q17: 0.023 | R17: 0.022 | S17: 0.024 | T17: 0.023 | U17: 0.024 | V17: 0.031 | W17: 0.025 | X17: 0.027 | Y17: -0.002 | Z17: -0.015 | AA17: =SUM(AA15:AA16) -> 0.005 | AB17: =SUM(AB15:AB16) -> 0.005 | AC17: =SUM(AC15:AC16) -> 0.005 | AD17: =SUM(AD15:AD16) -> 0.005 | AE17: =SUM(AE15:AE16) -> 0.015 | AF17: =SUM(AF15:AF16) -> 0.015 | AG17: =SUM(AG15:AG16) -> 0.015 | AH17: =SUM(AH15:AH16) -> 0.015 | ... AL17: =SUM(AL15:AL16) -> 0.015
B18: Currency | C18: 0.007 | D18: -0.002 | E18: =SUMPRODUCT(O$8:R$8,S18:V18)/SUM(O$8:R$8) -> -0.0044161959 | F18: =SUMPRODUCT(S$8:V$8,W18:Z18)/SUM(S$8:V$8) -> -0.010155915 | G18: =SUMPRODUCT(W$8:Z$8,AA18:AD18)/SUM(W$8:Z$8) -> -0.025 | H18: =SUMPRODUCT(AA$8:AD$8,AE18:AH18)/SUM(AA$8:AD$8) -> 0 | I18: =SUMPRODUCT(AE$8:AH$8,AI18:AL18)/SUM(AE$8:AH$8) -> 0 | K18: 0 | L18: 0 | M18: 0 | N18: 0 | O18: -0.001 | P18: -0.008 | Q18: -0.003 | R18: 0.005 | S18: -0.001 | T18: 0.001 | U18: -0.007 | V18: -0.01 | W18: -0.012062726 | X18: -0.0093896714 | Y18: -0.0067226891 | Z18: -0.012472885 | AA18: -0.025 | AB18: -0.025 | AC18: -0.025 | AD18: -0.025 | AE18: 0 | AF18: 0 | AG18: 0 | AH18: 0 | AI18: 0 | AJ18: 0 | AK18: 0 | AL18: 0
B19: Acquisitions/Divestitures | C19: 0.018 | D19: -0.002 | E19: =SUMPRODUCT(O$8:R$8,S19:V19)/SUM(O$8:R$8) -> -0.0079500217 | F19: =SUMPRODUCT(S$8:V$8,W19:Z19)/SUM(S$8:V$8) -> -0.0033277071 | G19: =SUMPRODUCT(W$8:Z$8,AA19:AD19)/SUM(W$8:Z$8) -> 0 | H19: =SUMPRODUCT(AA$8:AD$8,AE19:AH19)/SUM(AA$8:AD$8) -> 0 | I19: =SUMPRODUCT(AE$8:AH$8,AI19:AL19)/SUM(AE$8:AH$8) -> 0 | K19: 0.054597701 | L19: 0 | M19: 0 | N19: 0 | O19: -0.001 | P19: 0 | Q19: -0.001 | R19: -0.006 | S19: -0.008 | T19: -0.011 | U19: -0.007 | V19: -0.006 | W19: -0.008 | X19: -0.0058685446 | Y19: 0 | Z19: 0 | AA19: 0 | AB19: 0 | AC19: 0 | AD19: 0 | AE19: 0 | AF19: 0 | AG19: 0 | AH19: 0 | AI19: 0 | AJ19: 0 | AK19: 0 | AL19: 0
B20: Other | C20: 0.011 | D20: =SUMPRODUCT(K8:N8,O20:R20)/SUM(K8:N8) -> -0.010277184 | E20: =SUMPRODUCT(O$8:R$8,S20:V20)/SUM(O$8:R$8) -> 0 | F20: =SUMPRODUCT(S$8:V$8,W20:Z20)/SUM(S$8:V$8) -> 0 | G20: =SUMPRODUCT(W$8:Z$8,AA20:AD20)/SUM(W$8:Z$8) -> 0 | H20: =SUMPRODUCT(AA$8:AD$8,AE20:AH20)/SUM(AA$8:AD$8) -> 0 | I20: =SUMPRODUCT(AE$8:AH$8,AI20:AL20)/SUM(AE$8:AH$8) -> 0 | K20: 0 | L20: 0 | M20: 0 | N20: 0 | O20: 0 | P20: 0 | Q20: 0 | R20: -0.038 | S20: 0 | T20: 0 | U20: 0 | V20: 0 | W20: 0 | X20: 0 | Y20: 0 | Z20: 0 | AA20: 0 | AB20: 0 | AC20: 0 | AD20: 0 | AE20: 0 | AF20: 0 | AG20: 0 | AH20: 0 | AI20: 0 | AJ20: 0 | AK20: 0 | AL20: 0
B22: Latin America
B23: Revenues | C23: =SUM(K23:N23) -> 5403 | D23: =SUM(O23:R23) -> 5396 | E23: =SUM(S23:V23) -> 5382 | F23: =SUM(W23:Z23) -> 5153 | G23: =SUM(AA23:AD23) -> 4736.54 | H23: =SUM(AE23:AH23) -> 5103.0413 | I23: =SUM(AI23:AL23) -> 5486.0806 | K23: 1256 | L23: 1415 | M23: 1379 | N23: 1353 | O23: 1370 | P23: 1340 | Q23: 1286 | R23: 1400 | S23: 1398 | T23: 1339 | U23: 1308 | V23: 1337 | W23: 1356 | X23: 1242 | Y23: 1315 | Z23: 1240 | AA23: =W23*(1+AA24) -> 1206.84 | AB23: =X23*(1+AB24) -> 1148.85 | AC23: =Y23*(1+AC24) -> 1196.65 | AD23: =Z23*(1+AD24) -> 1184.2 | AE23: =AA23*(1+AE24) -> 1291.3188 | AF23: =AB23*(1+AF24) -> 1252.2465 | AG23: =AC23*(1+AG24) -> 1292.382 | AH23: =AD23*(1+AH24) -> 1267.094 | ... AL23: =AH23*(1+AL24) -> 1355.7906
B24: Growth y/y% | D24: =D23/C23-1 -> -0.0012955765 | E24: =E23/D23-1 -> -0.0025945145 | F24: =F23/E23-1 -> -0.042549238 | G24: =G23/F23-1 -> -0.08081894 | H24: =H23/G23-1 -> 0.077377432 | I24: =I23/H23-1 -> 0.075060977 | O24: =O23/K23-1 -> 0.090764331 | P24: =P23/L23-1 -> -0.053003534 | Q24: =Q23/M23-1 -> -0.067440174 | R24: =R23/N23-1 -> 0.03473762 | S24: =S23/O23-1 -> 0.020437956 | T24: =T23/P23-1 -> -0.00074626866 | U24: =U23/Q23-1 -> 0.017107309 | V24: =V23/R23-1 -> -0.045 | ... Z24: =Z23/V23-1 -> -0.072550486 | AA24: =SUM(AA32:AA35) -> -0.11 | AB24: =SUM(AB32:AB35) -> -0.075 | AC24: =SUM(AC32:AC35) -> -0.09 | AD24: =SUM(AD32:AD35) -> -0.045 | AE24: =SUM(AE32:AE35) -> 0.07 | AF24: =SUM(AF32:AF35) -> 0.09 | AG24: =SUM(AG32:AG35) -> 0.08 | AH24: =SUM(AH32:AH35) -> 0.07 | ... AL24: =SUM(AL32:AL35) -> 0.07
B25: Operating Income | C25: =SUM(K25:N25) -> 824 | D25: =SUM(O25:R25) -> 814 | E25: =SUM(S25:V25) -> 678 | F25: =SUM(W25:Z25) -> 750 | G25: =SUM(AA25:AD25) -> 697.13955 | H25: =SUM(AE25:AH25) -> 754.0179 | I25: =SUM(AI25:AL25) -> 818.48234 | K25: 171 | L25: 233 | M25: 212 | N25: 208 | O25: 172 | P25: 217 | Q25: 200 | R25: 225 | S25: 150 | T25: 166 | U25: 180 | V25: 182 | W25: 187 | X25: 146 | Y25: 174 | Z25: 243 | AA25: =AA23*AA27 -> 166.43 | AB25: =AB23*AB27 -> 136.4005 | AC25: =AC23*AC27 -> 159.9234 | AD25: =AD23*AD27 -> 234.38565 | AE25: =AE23*AE27 -> 178.9705 | AF25: =AF23*AF27 -> 149.41993 | AG25: =AG23*AG27 -> 173.58086 | AH25: =AH23*AH27 -> 252.04661 | ... AL25: =AL23*AL27 -> 272.38677
B26: Growth y/y% | D26: =D25/C25-1 -> -0.012135922 | E26: =E25/D25-1 -> -0.16707617 | F26: =F25/E25-1 -> 0.10619469 | G26: =G25/F25-1 -> -0.0704806 | H26: =H25/G25-1 -> 0.081588177 | I26: =I25/H25-1 -> 0.085494587 | O26: =O25/K25-1 -> 0.0058479532 | P26: =P25/L25-1 -> -0.068669528 | Q26: =Q25/M25-1 -> -0.056603774 | R26: =R25/N25-1 -> 0.081730769 | S26: =S25/O25-1 -> -0.12790698 | T26: =T25/P25-1 -> -0.23502304 | U26: =U25/Q25-1 -> -0.1 | V26: =V25/R25-1 -> -0.19111111 | ... AL26: =AL25/AH25-1 -> 0.0807
B27: EBIT Margin % | C27: =C25/C23 -> 0.15250787 | D27: =D25/D23 -> 0.15085248 | E27: =E25/E23 -> 0.12597547 | F27: =F25/F23 -> 0.14554628 | G27: =G25/G23 -> 0.14718329 | H27: =H25/H23 -> 0.14775853 | I27: =I25/I23 -> 0.14919255 | K27: =K25/K23 -> 0.1361465 | L27: =L25/L23 -> 0.16466431 | M27: =M25/M23 -> 0.15373459 | N27: =N25/N23 -> 0.15373245 | O27: =O25/O23 -> 0.12554745 | P27: =P25/P23 -> 0.1619403 | Q27: =Q25/Q23 -> 0.155521 | R27: =R25/R23 -> 0.16071429 | ... Z27: =Z25/Z23 -> 0.19596774 | AA27: =W27*(1+AA28) -> 0.1379056 | AB27: =X27*(1+AB28) -> 0.11872786 | AC27: =Y27*(1+AC28) -> 0.13364259 | AD27: =Z27*(1+AD28) -> 0.19792742 | AE27: =AA27*(1+AE28) -> 0.13859513 | AF27: =AB27*(1+AF28) -> 0.1193215 | AG27: =AC27*(1+AG28) -> 0.1343108 | AH27: =AD27*(1+AH28) -> 0.19891706 | ... AL27: =AH27*(1+AL28) -> 0.20090623
B28: Change y/y % | D28: =D27-C27 -> -0.0016553827 | E28: =E27-D27 -> -0.02487701 | F28: =F27-E27 -> 0.01957081 | G28: =G27-F27 -> 0.0016370083 | H28: =H27-G27 -> 0.00057524078 | I28: =I27-H27 -> 0.0014340162 | O28: =O27-K27 -> -0.010599052 | P28: =P27-L27 -> -0.0027240124 | Q28: =Q27-M27 -> 0.0017864051 | R28: =R27-N27 -> 0.0069818393 | S28: =S27-O27 -> -0.018251308 | T28: =T27-P27 -> -0.037967184 | U28: =U27-Q27 -> -0.017906316 | V28: =V27-R27 -> -0.024588631 | ... Z28: =Z27-V27 -> 0.059842087 | AA28: 0 | AB28: 0.01 | AC28: 0.01 | AD28: 0.01 | AE28: 0.005 | AF28: 0.005 | AG28: 0.005 | AH28: 0.005 | AI28: 0.01 | AJ28: 0.01 | AK28: 0.01 | AL28: 0.01
B29: Latin America - Revenue Build
B30: Vol/Mix | C30: 0.044 | D30: -0.005 | E30: 0.01 | F30: -0.043 | G30: =SUMPRODUCT(W$23:Z$23,AA30:AD30)/SUM(W$23:Z$23) -> -0.042998253 | H30: =SUMPRODUCT(AA$23:AD$23,AE30:AH30)/SUM(AA$23:AD$23) -> 0.015095872 | I30: =SUMPRODUCT(AE$23:AH$23,AI30:AL30)/SUM(AE$23:AH$23) -> 0.015060977 | O30: 0.027 | P30: -0.016 | Q30: -0.045 | R30: 0.019 | S30: 0.032 | T30: -0.02 | U30: 0.038 | V30: -0.01 | W30: -0.014 | X30: -0.069 | Y30: -0.031 | Z30: -0.058 | AA30: -0.06 | AB30: -0.03 | AC30: -0.05 | AD30: -0.03 | AE30: 0.03 | AF30: 0.01 | AG30: 0.01 | AH30: 0.01 | AI30: 0.03 | AJ30: 0.01 | AK30: 0.01 | AL30: 0.01
B31: Pricing/Promo | C31: 0.108 | D31: 0.095 | E31: 0.113 | F31: 0.193 | G31: =SUMPRODUCT(W$23:Z$23,AA31:AD31)/SUM(W$23:Z$23) -> 0.1253464 | H31: =SUMPRODUCT(AA$23:AD$23,AE31:AH31)/SUM(AA$23:AD$23) -> 0.075021239 | I31: =SUMPRODUCT(AE$23:AH$23,AI31:AL31)/SUM(AE$23:AH$23) -> 0.06 | O31: 0.116 | P31: 0.1 | Q31: 0.081 | R31: 0.084 | S31: 0.094 | T31: 0.116 | U31: 0.131 | V31: 0.114 | W31: 0.161 | X31: 0.187 | Y31: 0.216 | Z31: 0.211 | AA31: 0.15 | AB31: 0.13 | AC31: 0.11 | AD31: 0.11 | AE31: 0.09 | AF31: 0.08 | AG31: 0.07 | AH31: 0.06 | AI31: 0.06 | AJ31: 0.06 | AK31: 0.06 | AL31: 0.06
B32: Organic Growth | C32: =SUM(C30:C31) -> 0.152 | D32: =SUM(D30:D31) -> 0.09 | E32: =SUM(E30:E31) -> 0.123 | F32: =SUM(F30:F31) -> 0.15 | G32: =SUM(G30:G31) -> 0.082348147 | H32: =SUM(H30:H31) -> 0.090117111 | I32: =SUM(I30:I31) -> 0.075060977 | O32: =SUM(O30:O31) -> 0.143 | P32: =SUM(P30:P31) -> 0.084 | Q32: =SUM(Q30:Q31) -> 0.036 | R32: =SUM(R30:R31) -> 0.103 | S32: =SUM(S30:S31) -> 0.126 | T32: =SUM(T30:T31) -> 0.096 | U32: =SUM(U30:U31) -> 0.169 | V32: =SUM(V30:V31) -> 0.104 | ... AL32: =SUM(AL30:AL31) -> 0.07
B33: Currency | C33: 0.019378991 | D33: -0.086803628 | E33: =SUMPRODUCT(O$8:R$8,S33:V33)/SUM(O$8:R$8) -> -0.0044161959 | F33: =SUMPRODUCT(S$8:V$8,W33:Z33)/SUM(S$8:V$8) -> -0.010155915 | G33: =SUMPRODUCT(W$23:Z$23,AA33:AD33)/SUM(W$23:Z$23) -> -0.16316709 | H33: =SUMPRODUCT(AA$23:AD$23,AE33:AH33)/SUM(AA$23:AD$23) -> -0.012739679 | I33: =SUMPRODUCT(AE$23:AH$23,AI33:AL33)/SUM(AE$23:AH$23) -> 0 | O33: -0.001 | P33: -0.008 | Q33: -0.003 | R33: 0.005 | S33: -0.001 | T33: 0.001 | U33: -0.007 | V33: -0.01 | W33: -0.012062726 | X33: -0.0093896714 | Y33: -0.0067226891 | Z33: -0.012472885 | AA33: -0.2 | AB33: -0.175 | AC33: -0.15 | AD33: -0.125 | AE33: -0.05 | AF33: 0 | AG33: 0 | AH33: 0 | AI33: 0 | AJ33: 0 | AK33: 0 | AL33: 0
B34: Acquisitions/Divestitures | C34: 0.022902444 | D34: 0 | E34: =SUMPRODUCT(O$8:R$8,S34:V34)/SUM(O$8:R$8) -> -0.0079500217 | F34: =SUMPRODUCT(S$8:V$8,W34:Z34)/SUM(S$8:V$8) -> -0.0033277071 | G34: =SUMPRODUCT(W$23:Z$23,AA34:AD34)/SUM(W$23:Z$23) -> 0 | H34: =SUMPRODUCT(AA$23:AD$23,AE34:AH34)/SUM(AA$23:AD$23) -> 0 | I34: =SUMPRODUCT(AE$23:AH$23,AI34:AL34)/SUM(AE$23:AH$23) -> 0 | O34: -0.001 | P34: 0 | Q34: -0.001 | R34: -0.006 | S34: -0.008 | T34: -0.011 | U34: -0.007 | V34: -0.006 | W34: -0.008 | X34: -0.0058685446 | Y34: 0 | Z34: 0 | AA34: 0 | AB34: 0 | AC34: 0 | AD34: 0 | AE34: 0 | AF34: 0 | AG34: 0 | AH34: 0 | AI34: 0 | AJ34: 0 | AK34: 0 | AL34: 0
B35: Other | C35: 0.0052851795 | D35: -0.0044419767 | E35: =SUMPRODUCT(O$8:R$8,S35:V35)/SUM(O$8:R$8) -> 0 | F35: =SUMPRODUCT(S$8:V$8,W35:Z35)/SUM(S$8:V$8) -> 0 | G35: =SUMPRODUCT(W$23:Z$23,AA35:AD35)/SUM(W$23:Z$23) -> 0 | H35: =SUMPRODUCT(AA$23:AD$23,AE35:AH35)/SUM(AA$23:AD$23) -> 0 | I35: =SUMPRODUCT(AE$23:AH$23,AI35:AL35)/SUM(AE$23:AH$23) -> 0 | O35: 0 | P35: 0 | Q35: 0 | R35: -0.038 | S35: 0 | T35: 0 | U35: 0 | V35: 0 | W35: 0 | X35: 0 | Y35: 0 | Z35: 0 | AA35: 0 | AB35: 0 | AC35: 0 | AD35: 0 | AE35: 0 | AF35: 0 | AG35: 0 | AH35: 0 | AI35: 0 | AJ35: 0 | AK35: 0 | AL35: 0
B37: Asia-Pacific
B38: Revenues | C38: =SUM(K38:N38) -> 4864 | D38: =SUM(O38:R38) -> 5164 | E38: =SUM(S38:V38) -> 4952 | F38: =SUM(W38:Z38) -> 4605 | G38: =SUM(AA38:AD38) -> 4304.85 | H38: =SUM(AE38:AH38) -> 4448.915 | I38: =SUM(AI38:AL38) -> 4626.8716 | K38: 1190 | L38: 1172 | M38: 1249 | N38: 1253 | O38: 1320 | P38: 1222 | Q38: 1228 | R38: 1394 | S38: 1367 | T38: 1240 | U38: 1136 | V38: 1209 | W38: 1223 | X38: 1084 | Y38: 1153 | Z38: 1145 | AA38: =W38*(1+AA39) -> 1125.16 | AB38: =X38*(1+AB39) -> 1008.12 | AC38: =Y38*(1+AC39) -> 1083.82 | AD38: =Z38*(1+AD39) -> 1087.75 | AE38: =AA38*(1+AE39) -> 1142.0374 | AF38: =AB38*(1+AF39) -> 1048.4448 | AG38: =AC38*(1+AG39) -> 1127.1728 | AH38: =AD38*(1+AH39) -> 1131.26 | ... AL38: =AH38*(1+AL39) -> 1176.5104
B39: Growth y/y% | D39: =D38/C38-1 -> 0.061677632 | E39: =E38/D38-1 -> -0.041053447 | F39: =F38/E38-1 -> -0.070072698 | G39: =G38/F38-1 -> -0.065179153 | H39: =H38/G38-1 -> 0.033465742 | I39: =I38/H38-1 -> 0.04 | O39: =O38/K38-1 -> 0.1092437 | P39: =P38/L38-1 -> 0.042662116 | Q39: =Q38/M38-1 -> -0.016813451 | R39: =R38/N38-1 -> 0.11252993 | S39: =S38/O38-1 -> 0.035606061 | T39: =T38/P38-1 -> 0.014729951 | U39: =U38/Q38-1 -> -0.074918567 | V39: =V38/R38-1 -> -0.13271162 | ... Z39: =Z38/V38-1 -> -0.052936311 | AA39: =SUM(AA47:AA50) -> -0.08 | AB39: =SUM(AB47:AB50) -> -0.07 | AC39: =SUM(AC47:AC50) -> -0.06 | AD39: =SUM(AD47:AD50) -> -0.05 | AE39: =SUM(AE47:AE50) -> 0.015 | AF39: =SUM(AF47:AF50) -> 0.04 | AG39: =SUM(AG47:AG50) -> 0.04 | AH39: =SUM(AH47:AH50) -> 0.04 | ... AL39: =SUM(AL47:AL50) -> 0.04
B40: Operating Income | C40: =SUM(K40:N40) -> 731 | D40: =SUM(O40:R40) -> 716 | E40: =SUM(S40:V40) -> 555 | F40: =SUM(W40:Z40) -> 497 | G40: =SUM(AA40:AD40) -> 465.6165 | H40: =SUM(AE40:AH40) -> 482.29502 | I40: =SUM(AI40:AL40) -> 504.09475 | K40: 185 | L40: 182 | M40: 192 | N40: 172 | O40: 187 | P40: 159 | Q40: 221 | R40: 149 | S40: 193 | T40: 137 | U40: 91 | V40: 134 | W40: 188 | X40: 112 | Y40: 97 | Z40: 100 | AA40: =AA38*AA42 -> 173.8248 | AB40: =AB38*AB42 -> 104.6808 | AC40: =AC38*AC42 -> 91.6359 | AD40: =AD38*AD42 -> 95.475 | AE40: =AE38*AE42 -> 177.31433 | AF40: =AF38*AF42 -> 109.41237 | AG40: =AG38*AG42 -> 95.777843 | AH40: =AH38*AH42 -> 99.79047 | ... AL40: =AL38*AL42 -> 104.301
B41: Growth y/y% | D41: =D40/C40-1 -> -0.020519836 | E41: =E40/D40-1 -> -0.22486034 | F41: =F40/E40-1 -> -0.1045045 | G41: =G40/F40-1 -> -0.063145875 | H41: =H40/G40-1 -> 0.035820289 | I41: =I40/H40-1 -> 0.0452 | O41: =O40/K40-1 -> 0.010810811 | P41: =P40/L40-1 -> -0.12637363 | Q41: =Q40/M40-1 -> 0.15104167 | R41: =R40/N40-1 -> -0.13372093 | S41: =S40/O40-1 -> 0.032085561 | T41: =T40/P40-1 -> -0.13836478 | U41: =U40/Q40-1 -> -0.58823529 | V41: =V40/R40-1 -> -0.10067114 | ... AL41: =AL40/AH40-1 -> 0.0452
B42: EBIT Margin % | C42: =C40/C38 -> 0.15028783 | D42: =D40/D38 -> 0.13865221 | E42: =E40/E38 -> 0.11207593 | F42: =F40/F38 -> 0.10792617 | G42: =G40/G38 -> 0.10816091 | H42: =H40/H38 -> 0.10840733 | I42: =I40/I38 -> 0.10894937 | K42: =K40/K38 -> 0.15546218 | L42: =L40/L38 -> 0.1552901 | M42: =M40/M38 -> 0.15372298 | N42: =N40/N38 -> 0.13727055 | O42: =O40/O38 -> 0.14166667 | P42: =P40/P38 -> 0.13011457 | Q42: =Q40/Q38 -> 0.17996743 | R42: =R40/R38 -> 0.10688666 | ... Z42: =Z40/Z38 -> 0.087336245 | AA42: =W42*(1+AA43) -> 0.15448896 | AB42: =X42*(1+AB43) -> 0.10383764 | AC42: =Y42*(1+AC43) -> 0.084549003 | AD42: =Z42*(1+AD43) -> 0.087772926 | AE42: =AA42*(1+AE43) -> 0.15526141 | AF42: =AB42*(1+AF43) -> 0.10435683 | AG42: =AC42*(1+AG43) -> 0.084971748 | AH42: =AD42*(1+AH43) -> 0.08821179 | ... AL42: =AH42*(1+AL43) -> 0.088652849
...

Sheet BS
K1: 40633 | L1: =EOMONTH(K1,3) -> 40724 | M1: =EOMONTH(L1,3) -> 40816 | N1: =EOMONTH(M1,3) -> 40908 | O1: =EOMONTH(N1,3) -> 40999 | P1: =EOMONTH(O1,3) -> 41090 | Q1: =EOMONTH(P1,3) -> 41182 | R1: =EOMONTH(Q1,3) -> 41274 | S1: =EOMONTH(R1,3) -> 41364 | ... AL1: =EOMONTH(AK1,3) -> 43100
B2: =IS!B2 -> Mondelez International, Inc. (MDLZ)
B3: Balance Sheet
B4: $000, Except Where Noted
C5: Annual Summary | K5: 2011 | O5: =K5+1 -> 2012 | S5: =O5+1 -> 2013 | W5: =S5+1 -> 2014 | AA5: =W5+1 -> 2015 | AE5: =AA5+1 -> 2016 | AI5: =AE5+1 -> 2017
C6: 2011 | D6: =C6+1 -> 2012 | E6: =D6+1 -> 2013 | F6: =E6+1 -> 2014 | G6: =F6+1 -> 2015 | H6: =G6+1 -> 2016 | I6: =H6+1 -> 2017 | K6: 1 | L6: =K6+1 -> 2 | M6: =L6+1 -> 3 | N6: =M6+1 -> 4 | O6: 1 | P6: =O6+1 -> 2 | Q6: =P6+1 -> 3 | R6: =Q6+1 -> 4 | S6: 1 | T6: =S6+1 -> 2 | U6: =T6+1 -> 3 | V6: =U6+1 -> 4 | W6: 1 | X6: =W6+1 -> 2 | Y6: =X6+1 -> 3 | Z6: =Y6+1 -> 4 | AA6: 1 | AB6: =AA6+1 -> 2 | AC6: =AB6+1 -> 3 | AD6: =AC6+1 -> 4 | AE6: 1 | AF6: =AE6+1 -> 2 | AG6: =AF6+1 -> 3 | AH6: =AG6+1 -> 4 | AI6: 1 | AJ6: =AI6+1 -> 2 | AK6: =AJ6+1 -> 3 | AL6: =AK6+1 -> 4
B7: Assets
B8: Cash and Cash Equivalents | C8: =N8 -> 1974 | D8: =R8 -> 4475 | E8: =V8 -> 2664 | F8: =Z8 -> 1631 | G8: =AD8 -> 1000 | H8: =AH8 -> 1000 | I8: =AL8 -> 1000 | K8: 2088 | L8: 2267 | M8: 1976 | N8: 1974 | O8: 1852 | P8: 4306 | Q8: 3873 | R8: 4475 | S8: 2759 | T8: 2476 | U8: 3692 | V8: 2664 | W8: 2422 | X8: 2132 | Y8: 1704 | Z8: 1631 | AA8: =CF!AA40 -> 1000 | AB8: =CF!AB40 -> 1000 | AC8: =CF!AC40 -> 1000 | AD8: =CF!AD40 -> 1000 | AE8: =CF!AE40 -> 1000 | AF8: =CF!AF40 -> 1000 | AG8: =CF!AG40 -> 1000 | AH8: =CF!AH40 -> 1000 | ... AL8: =CF!AL40 -> 1000
B9: Accounts Receivable | C9: =N9 -> 6361 | D9: =R9 -> 6129 | E9: =V9 -> 5403 | F9: =Z9 -> 4708 | G9: =AD9 -> 4255.7288 | H9: =AH9 -> 4339.0274 | I9: =AL9 -> 4482.3463 | K9: 7131 | L9: 6830 | M9: 6835 | N9: 6361 | O9: 7314 | P9: 5314 | Q9: 7110 | R9: 6129 | S9: 6265 | T9: 5989 | U9: 6245 | V9: 5403 | W9: 5900 | X9: 5248 | Y9: 5352 | Z9: 4708 | AA9: =WC!AA7 -> 5073.7549 | AB9: =WC!AB7 -> 4584.7679 | AC9: =WC!AC7 -> 4694.5162 | AD9: =WC!AD7 -> 4255.7288 | AE9: =WC!AE7 -> 5056.8943 | AF9: =WC!AF7 -> 4652.4697 | AG9: =WC!AG7 -> 4786.3006 | AH9: =WC!AH7 -> 4339.0274 | ... AL9: =WC!AL7 -> 4482.3463
B10: Inventories | C10: =N10 -> 5706 | D10: =R10 -> 3741 | E10: =V10 -> 3743 | F10: =Z10 -> 3480 | G10: =AD10 -> 3038.1347 | H10: =AH10 -> 3076.9669 | I10: =AL10 -> 3152.7574 | K10: 6116 | L10: 6414 | M10: 6399 | N10: 5706 | O10: 6286 | P10: 4117 | Q10: 6429 | R10: 3741 | S10: 3849 | T10: 3937 | U10: 4161 | V10: 3743 | W10: 4027 | X10: 4088 | Y10: 4122 | Z10: 3480 | AA10: =WC!AA11 -> 3466.374 | AB10: =WC!AB11 -> 3515.9457 | AC10: =WC!AC11 -> 3609.5804 | AD10: =WC!AD11 -> 3038.1347 | AE10: =WC!AE11 -> 3429.6594 | AF10: =WC!AF11 -> 3545.3113 | AG10: =WC!AG11 -> 3656.7547 | AH10: =WC!AH11 -> 3076.9669 | ... AL10: =WC!AL11 -> 3152.7574
B11: Deferred Income Taxes | C11: =N11 -> 912 | D11: =R11 -> 1074 | E11: =V11 -> 517 | F11: =Z11 -> 480 | G11: =AD11 -> 480 | H11: =AH11 -> 480 | I11: =AL11 -> 480 | K11: 969 | L11: 919 | M11: 973 | N11: 912 | O11: 980 | P11: 925 | Q11: 1074 | R11: 1074 | S11: 545 | T11: 459 | U11: 488 | V11: 517 | W11: 517 | X11: 570 | Y11: 433 | Z11: 480 | AA11: =Z11 -> 480 | AB11: =AA11 -> 480 | AC11: =AB11 -> 480 | AD11: =AC11 -> 480 | AE11: =AD11 -> 480 | AF11: =AE11 -> 480 | AG11: =AF11 -> 480 | AH11: =AG11 -> 480 | ... AL11: =AK11 -> 480
B12: Other Current Assets | C12: =N12 -> 1249 | D12: =R12 -> 203 | E12: =V12 -> 889 | F12: =Z12 -> 1408 | G12: =AD12 -> 1408 | H12: =AH12 -> 1408 | I12: =AL12 -> 1408 | K12: 1225 | L12: 1066 | M12: 1146 | N12: 1249 | O12: 1261 | P12: 1212 | Q12: 1031 | R12: 203 | S12: 877 | T12: 877 | U12: 877 | V12: 889 | W12: 836 | X12: 1062 | Y12: 1235 | Z12: 1408 | AA12: =Z12 -> 1408 | AB12: =AA12 -> 1408 | AC12: =AB12 -> 1408 | AD12: =AC12 -> 1408 | AE12: =AD12 -> 1408 | AF12: =AE12 -> 1408 | AG12: =AF12 -> 1408 | AH12: =AG12 -> 1408 | ... AL12: =AK12 -> 1408
B13: Total Current Assets | C13: =SUM(C8:C12) -> 16202 | D13: =SUM(D8:D12) -> 15622 | E13: =SUM(E8:E12) -> 13216 | F13: =SUM(F8:F12) -> 11707 | G13: =SUM(G8:G12) -> 10181.863 | H13: =SUM(H8:H12) -> 10303.994 | I13: =SUM(I8:I12) -> 10523.104 | K13: =SUM(K8:K12) -> 17529 | L13: =SUM(L8:L12) -> 17496 | M13: =SUM(M8:M12) -> 17329 | N13: =SUM(N8:N12) -> 16202 | O13: =SUM(O8:O12) -> 17693 | P13: =SUM(P8:P12) -> 15874 | Q13: =SUM(Q8:Q12) -> 19517 | R13: =SUM(R8:R12) -> 15622 | ... AL13: =SUM(AL8:AL12) -> 10523.104
B14: Gross PP&E | C14: =N14 -> 23932 | D14: =R14 -> 16856 | E14: =V14 -> 17614 | F14: =Z14 -> 18159 | G14: =AD14 -> 19998.058 | H14: =AH14 -> 21640.532 | I14: =AL14 -> 23585.054 | K14: 24837 | L14: 25420 | M14: 25435 | N14: 23932 | O14: 24658 | P14: 20461 | Q14: 25331 | R14: 16856 | S14: 16719 | T14: 16633 | U14: 17353 | V14: 17614 | W14: 17777 | X14: 18289 | Y14: 18222 | Z14: 18159 | AA14: =AA16+AA15 -> 18612.23 | AB14: =AB16+AB15 -> 19062.463 | AC14: =AC16+AC15 -> 19508.96 | AD14: =AD16+AD15 -> 19998.058 | AE14: =AE16+AE15 -> 20453.549 | AF14: =AF16+AF15 -> 20837.778 | AG14: =AG16+AG15 -> 21220.504 | AH14: =AH16+AH15 -> 21640.532 | ... AL14: =AL16+AL15 -> 23585.054
B15: Accumulated Depreciation | C15: =N15 -> 10119 | D15: =R15 -> 6846 | E15: =V15 -> 7367 | F15: =Z15 -> 8332 | G15: =AD15 -> 9251.5289 | H15: =AH15 -> 10191.465 | I15: =AL15 -> 11163.725 | K15: 10834 | L15: 11204 | M15: 11579 | N15: 10119 | O15: 10574 | P15: 10926 | Q15: 11282 | R15: 6846 | S15: 6874 | T15: 6930 | U15: 7268 | V15: 7367 | W15: 7535 | X15: 7806 | Y15: 8070 | Z15: 8332 | AA15: =Z15+CF!AA9 -> 8558.6148 | AB15: =AA15+CF!AB9 -> 8783.7318 | AC15: =AB15+CF!AC9 -> 9006.9802 | AD15: =AC15+CF!AD9 -> 9251.5289 | AE15: =AD15+CF!AE9 -> 9479.2743 | AF15: =AE15+CF!AF9 -> 9709.8118 | AG15: =AF15+CF!AG9 -> 9939.4474 | AH15: =AG15+CF!AH9 -> 10191.465 | ... AL15: =AK15+CF!AL9 -> 11163.725
B16: Net PP&E | C16: =N16 -> 13813 | D16: =R16 -> 10010 | E16: =V16 -> 10247 | F16: =Z16 -> 9827 | G16: =AD16 -> 10746.529 | H16: =AH16 -> 11449.068 | I16: =AL16 -> 12421.329 | K16: =K14-K15 -> 14003 | L16: =L14-L15 -> 14216 | M16: =M14-M15 -> 13856 | N16: =N14-N15 -> 13813 | O16: =O14-O15 -> 14084 | P16: =P14-P15 -> 9535 | Q16: =Q14-Q15 -> 14049 | R16: =R14-R15 -> 10010 | ... Z16: =Z14-Z15 -> 9827 | AA16: =Z16-CF!AA9-CF!AA23 -> 10053.615 | AB16: =AA16-CF!AB9-CF!AB23 -> 10278.732 | AC16: =AB16-CF!AC9-CF!AC23 -> 10501.98 | AD16: =AC16-CF!AD9-CF!AD23 -> 10746.529 | AE16: =AD16-CF!AE9-CF!AE23 -> 10974.274 | AF16: =AE16-CF!AF9-CF!AF23 -> 11127.966 | AG16: =AF16-CF!AG9-CF!AG23 -> 11281.056 | AH16: =AG16-CF!AH9-CF!AH23 -> 11449.068 | ... AL16: =AK16-CF!AL9-CF!AL23 -> 12421.329
B17: Goodwill | C17: =N17 -> 37297 | D17: =R17 -> 25801 | E17: =V17 -> 25597 | F17: =Z17 -> 23389 | G17: =AD17 -> 23389 | H17: =AH17 -> 23389 | I17: =AL17 -> 23389 | K17: 38592 | L17: 39063 | M17: 37592 | N17: 37297 | O17: 37940 | P17: 25825 | Q17: 25825 | R17: 25801 | S17: 25552 | T17: 25181 | U17: 25679 | V17: 25597 | W17: 25408 | X17: 25527 | Y17: 24399 | Z17: 23389 | AA17: =Z17 -> 23389 | AB17: =AA17 -> 23389 | AC17: =AB17 -> 23389 | AD17: =AC17 -> 23389 | AE17: =AD17 -> 23389 | AF17: =AE17 -> 23389 | AG17: =AF17 -> 23389 | AH17: =AG17 -> 23389 | ... AL17: =AK17 -> 23389
B18: Prepaid Pension Assets | C18: =N18 -> 31 | D18: =R18 -> 18 | E18: =V18 -> 54 | F18: =Z18 -> 53 | G18: =AD18 -> 53 | H18: =AH18 -> 53 | I18: =AL18 -> 53 | K18: 117 | L18: 153 | M18: 169 | N18: 31 | O18: 33 | P18: 16 | Q18: 16 | R18: 18 | S18: 30 | T18: 30 | U18: 30 | V18: 54 | W18: 55 | X18: 0 | Y18: 65 | Z18: 53 | AA18: =Z18 -> 53 | AB18: =AA18 -> 53 | AC18: =AB18 -> 53 | AD18: =AC18 -> 53 | AE18: =AD18 -> 53 | AF18: =AE18 -> 53 | AG18: =AF18 -> 53 | AH18: =AG18 -> 53 | ... AL18: =AK18 -> 53
B19: Other Intangible Assets | C19: =N19 -> 25186 | D19: =R19 -> 22552 | E19: =V19 -> 21994 | F19: =Z19 -> 20335 | G19: =AD19 -> 20335 | H19: =AH19 -> 20335 | I19: =AL19 -> 20335 | K19: 26351 | L19: 26509 | M19: 25416 | N19: 25186 | O19: 25602 | P19: 22349 | Q19: 22349 | R19: 22552 | S19: 22230 | T19: 21839 | U19: 22081 | V19: 21994 | W19: 21992 | X19: 22066 | Y19: 21110 | Z19: 20335 | AA19: =Z19 -> 20335 | AB19: =AA19 -> 20335 | AC19: =AB19 -> 20335 | AD19: =AC19 -> 20335 | AE19: =AD19 -> 20335 | AF19: =AE19 -> 20335 | AG19: =AF19 -> 20335 | AH19: =AG19 -> 20335 | ... AL19: =AK19 -> 20335
B20: Other Assets | C20: =N20 -> 1308 | D20: =R20 -> 1475 | E20: =V20 -> 1449 | F20: =Z20 -> 1461 | G20: =AD20 -> 1461 | H20: =AH20 -> 1461 | I20: =AL20 -> 1461 | K20: 1677 | L20: 1590 | M20: 1470 | N20: 1308 | O20: 1295 | P20: 1284 | Q20: 1284 | R20: 1475 | S20: 1346 | T20: 1332 | U20: 1521 | V20: 1449 | W20: 1561 | X20: 1504 | Y20: 1395 | Z20: 1461 | AA20: =Z20 -> 1461 | AB20: =AA20 -> 1461 | AC20: =AB20 -> 1461 | AD20: =AC20 -> 1461 | AE20: =AD20 -> 1461 | AF20: =AE20 -> 1461 | AG20: =AF20 -> 1461 | AH20: =AG20 -> 1461 | ... AL20: =AK20 -> 1461
B21: Total Assets | C21: =SUM(C16:C20)+C13 -> 93837 | D21: =SUM(D16:D20)+D13 -> 75478 | E21: =SUM(E16:E20)+E13 -> 72557 | F21: =SUM(F16:F20)+F13 -> 66772 | G21: =SUM(G16:G20)+G13 -> 66166.392 | H21: =SUM(H16:H20)+H13 -> 66991.062 | I21: =SUM(I16:I20)+I13 -> 68182.432 | K21: =K13+SUM(K16:K20) -> 98269 | L21: =L13+SUM(L16:L20) -> 99027 | M21: =M13+SUM(M16:M20) -> 95832 | N21: =N13+SUM(N16:N20) -> 93837 | O21: =O13+SUM(O16:O20) -> 96647 | P21: =P13+SUM(P16:P20) -> 74883 | Q21: =Q13+SUM(Q16:Q20) -> 83040 | R21: =R13+SUM(R16:R20) -> 75478 | ... AL21: =AL13+SUM(AL16:AL20) -> 68182.432
B22: Liabilities
B23: ST Borrowings | C23: =N23 -> 182 | D23: =R23 -> 274 | E23: =V23 -> 1636 | F23: =Z23 -> 1305 | G23: =AD23 -> 752.71254 | H23: =AH23 -> 925.56757 | I23: =AL23 -> 1351.3167 | K23: 1812 | L23: 1242 | M23: 896 | N23: 182 | O23: 3320 | P23: 245 | Q23: 260 | R23: 274 | S23: 203 | T23: 756 | U23: 2527 | V23: 1636 | W23: 2503 | X23: 2044 | Y23: 1807 | Z23: 1305 | AA23: =Debt!G19 -> 1673.3553 | AB23: =Debt!H19 -> 1673.3553 | AC23: =Debt!I19 -> 1959.6239 | AD23: =Debt!J19 -> 752.71254 | AE23: =Debt!K19 -> 2133.9887 | AF23: =Debt!L19 -> 1877.1787 | AG23: =Debt!M19 -> 2181.7985 | AH23: =Debt!N19 -> 925.56757 | ... AL23: =Debt!R19 -> 1351.3167
B24: Current Portion of LT Debt | C24: =N24 -> 3654 | D24: =R24 -> 3577 | E24: =V24 -> 1003 | F24: =Z24 -> 1530 | G24: =AD24 -> 1530 | H24: =AH24 -> 1530 | I24: =AL24 -> 1530 | K24: 3945 | L24: 4918 | M24: 4843 | N24: 3654 | O24: 1823 | P24: 1916 | Q24: 1916 | R24: 3577 | S24: 3328 | T24: 2319 | U24: 2303 | V24: 1003 | W24: 1674 | X24: 2242 | Y24: 2084 | Z24: 1530 | AA24: =Z24 -> 1530 | AB24: =AA24 -> 1530 | AC24: =AB24 -> 1530 | AD24: =AC24 -> 1530 | AE24: =AD24 -> 1530 | AF24: =AE24 -> 1530 | AG24: =AF24 -> 1530 | AH24: =AG24 -> 1530 | ... AL24: =AK24 -> 1530
B25: Accounts Payable | C25: =N25 -> 5525 | D25: =R25 -> 4642 | E25: =V25 -> 5345 | F25: =Z25 -> 5299 | G25: =AD25 -> 4767.835 | H25: =AH25 -> 4902.5204 | I25: =AL25 -> 5023.2772 | K25: 5535 | L25: 5308 | M25: 5293 | N25: 5525 | O25: 5545 | P25: 3528 | Q25: 3884.7368 | R25: 4642 | S25: 4378 | T25: 4316 | U25: 4533 | V25: 5345 | W25: 5372 | X25: 5303 | Y25: 5184 | Z25: 5299 | AA25: =WC!AA15 -> 4747.3457 | AB25: =WC!AB15 -> 4679.6756 | AC25: =WC!AC15 -> 4655.2964 | AD25: =WC!AD15 -> 4767.835 | AE25: =WC!AE15 -> 4759.4233 | AF25: =WC!AF15 -> 4779.9625 | AG25: =WC!AG15 -> 4776.02 | AH25: =WC!AH15 -> 4902.5204 | ... AL25: =WC!AL15 -> 5023.2772
B26: Income Taxes Payable & Other CL | C26: =N26 -> 9084 | D26: =R26 -> 6380 | E26: =V26 -> 6412 | F26: =Z26 -> 5830 | G26: =AD26 -> 5830 | H26: =AH26 -> 5830 | I26: =AL26 -> 5830 | K26: 8487 | L26: 8812 | M26: 9328 | N26: 9084 | O26: 8610 | P26: 8047 | Q26: 8047 | R26: 6380 | S26: 5938 | T26: 5742 | U26: 5906 | V26: 6412 | W26: 5776 | X26: 5326 | Y26: 5540 | Z26: 5830 | AA26: =Z26 -> 5830 | AB26: =AA26 -> 5830 | AC26: =AB26 -> 5830 | AD26: =AC26 -> 5830 | AE26: =AD26 -> 5830 | AF26: =AE26 -> 5830 | AG26: =AF26 -> 5830 | AH26: =AG26 -> 5830 | ... AL26: =AK26 -> 5830
B27: Total Current Liabilities | C27: =SUM(C23:C26) -> 18445 | D27: =SUM(D23:D26) -> 14873 | E27: =SUM(E23:E26) -> 14396 | F27: =SUM(F23:F26) -> 13964 | G27: =SUM(G23:G26) -> 12880.548 | H27: =SUM(H23:H26) -> 13188.088 | I27: =SUM(I23:I26) -> 13734.594 | K27: =SUM(K23:K26) -> 19779 | L27: =SUM(L23:L26) -> 20280 | M27: =SUM(M23:M26) -> 20360 | N27: =SUM(N23:N26) -> 18445 | O27: =SUM(O23:O26) -> 19298 | P27: =SUM(P23:P26) -> 13736 | Q27: =SUM(Q23:Q26) -> 14107.737 | R27: =SUM(R23:R26) -> 14873 | ... AL27: =SUM(AL23:AL26) -> 13734.594
B28: LT Debt | C28: =N28 -> 23095 | D28: =R28 -> 15574 | E28: =V28 -> 14482 | F28: =Z28 -> 13865 | G28: =AD28 -> 13865 | H28: =AH28 -> 13865 | I28: =AL28 -> 13865 | K28: 24288 | L28: 23420 | M28: 23139 | N28: 23095 | O28: 23198 | P28: 18120 | Q28: 17321 | R28: 15574 | S28: 14970 | T28: 14986 | U28: 15089 | V28: 14482 | W28: 14772 | X28: 14255 | Y28: 13988 | Z28: 13865 | AA28: =Z28 -> 13865 | AB28: =AA28 -> 13865 | AC28: =AB28 -> 13865 | AD28: =AC28 -> 13865 | AE28: =AD28 -> 13865 | AF28: =AE28 -> 13865 | AG28: =AF28 -> 13865 | AH28: =AG28 -> 13865 | ... AL28: =AK28 -> 13865
B29: Deferred Income Taxes | C29: =N29 -> 6738 | D29: =R29 -> 6302 | E29: =V29 -> 6282 | F29: =Z29 -> 5512 | G29: =AD29 -> 5512 | H29: =AH29 -> 5512 | I29: =AL29 -> 5512 | K29: 8252 | L29: 7993 | M29: 7580 | N29: 6738 | O29: 6901 | P29: 6388 | Q29: 6388 | R29: 6302 | S29: 6293 | T29: 6084 | U29: 6218 | V29: 6282 | W29: 6202 | X29: 6086 | Y29: 5753 | Z29: 5512 | AA29: =Z29 -> 5512 | AB29: =AA29 -> 5512 | AC29: =AB29 -> 5512 | AD29: =AC29 -> 5512 | AE29: =AD29 -> 5512 | AF29: =AE29 -> 5512 | AG29: =AF29 -> 5512 | AH29: =AG29 -> 5512 | ... AL29: =AK29 -> 5512
B30: Accrued Postretirement Healthcare Costs | C30: =N30 -> 3238 | D30: =R30 -> 451 | E30: =V30 -> 412 | F30: =Z30 -> 526 | G30: =AD30 -> 526 | H30: =AH30 -> 526 | I30: =AL30 -> 526 | K30: 3052 | L30: 3001 | M30: 2995 | N30: 3238 | O30: 3259 | P30: 416 | Q30: 416 | R30: 451 | S30: 456 | T30: 458 | U30: 470 | V30: 412 | W30: 416 | X30: 426 | Y30: 439 | Z30: 526 | AA30: =Z30 -> 526 | AB30: =AA30 -> 526 | AC30: =AB30 -> 526 | AD30: =AC30 -> 526 | AE30: =AD30 -> 526 | AF30: =AE30 -> 526 | AG30: =AF30 -> 526 | AH30: =AG30 -> 526 | ... AL30: =AK30 -> 526
B31: Other Liabilities | C31: =N31 -> 6993 | D31: =R31 -> 5923 | E31: =V31 -> 4453 | F31: =Z31 -> 5052 | G31: =AD31 -> 5732.6493 | H31: =AH31 -> 6132.6493 | I31: =AL31 -> 6532.6493 | K31: 5399 | L31: 5222 | M31: 5058 | N31: 6993 | O31: 6900 | P31: 4760 | Q31: 13314.263 | R31: 5923 | S31: 5714 | T31: 5613 | U31: 5321 | V31: 4453 | W31: 4469 | X31: 4591 | Y31: 4216 | Z31: 5052 | AA31: =AA21-SUM(AA27:AA30,AA33) -> 5302 | AB31: =AB21-SUM(AB27:AB30,AB33) -> 5232.6493 | AC31: =AC21-SUM(AC27:AC30,AC33) -> 5482.6493 | AD31: =AD21-SUM(AD27:AD30,AD33) -> 5732.6493 | AE31: =AE21-SUM(AE27:AE30,AE33) -> 5832.6493 | AF31: =AF21-SUM(AF27:AF30,AF33) -> 5932.6493 | AG31: =AG21-SUM(AG27:AG30,AG33) -> 6032.6493 | AH31: =AH21-SUM(AH27:AH30,AH33) -> 6132.6493 | ... AL31: =AL21-SUM(AL27:AL30,AL33) -> 6532.6493
B32: Total Liabilities | C32: =SUM(C27:C31) -> 58509 | D32: =SUM(D27:D31) -> 43123 | E32: =SUM(E27:E31) -> 40025 | F32: =SUM(F27:F31) -> 38919 | G32: =SUM(G27:G31) -> 38516.197 | H32: =SUM(H27:H31) -> 39223.737 | I32: =SUM(I27:I31) -> 40170.243 | K32: =SUM(K27:K31) -> 60770 | L32: =SUM(L27:L31) -> 59916 | M32: =SUM(M27:M31) -> 59132 | N32: =SUM(N27:N31) -> 58509 | O32: =SUM(O27:O31) -> 59556 | P32: =SUM(P27:P31) -> 43420 | Q32: =SUM(Q27:Q31) -> 51547 | R32: =SUM(R27:R31) -> 43123 | ... AL32: =SUM(AL27:AL31) -> 40170.243
B33: Stockholders' Equity | C33: =N33 -> 35217 | D33: =R33 -> 32215 | E33: =V33 -> 32373 | F33: =Z33 -> 27853 | G33: =AD33 -> 27650.196 | H33: =AH33 -> 27767.325 | I33: =AL33 -> 28012.189 | K33: 37381 | L33: 38991 | M33: 36592 | N33: 35217 | O33: 36965 | P33: 31348 | Q33: 31493 | R33: 32215 | S33: 31874 | T33: 31407 | U33: 32492 | V33: 32373 | W33: 31649 | X33: 32407 | Y33: 30956 | Z33: 27853 | AA33: =Equity!G11 -> 27734.043 | AB33: =Equity!H11 -> 27656.765 | AC33: =Equity!I11 -> 27571.507 | AD33: =Equity!J11 -> 27650.196 | AE33: =Equity!K11 -> 27597.767 | AF33: =Equity!L11 -> 27598.956 | AG33: =Equity!M11 -> 27596.644 | AH33: =Equity!N11 -> 27767.325 | ... AL33: =Equity!R11 -> 28012.189
B34: Noncontrolling Interest | C34: =N34 -> 111 | D34: =R34 -> 140 | E34: =V34 -> 159 | F34: =Z34 -> 0 | G34: =AD34 -> 0 | H34: =AH34 -> 0 | I34: =AL34 -> 0 | K34: 118 | L34: 120 | M34: 108 | N34: 111 | O34: 126 | P34: 115 | Q34: 0 | R34: 140 | S34: 144 | T34: 142 | U34: 0 | V34: 159 | W34: 127 | X34: 0 | Y34: =X34 -> 0 | Z34: =Y34 -> 0 | AA34: =Z34 -> 0 | AB34: =AA34 -> 0 | AC34: =AB34 -> 0 | AD34: =AC34 -> 0 | AE34: =AD34 -> 0 | AF34: =AE34 -> 0 | ... AL34: =AK34 -> 0
B35: Total Liabilities & Stockholders' Equity | C35: =SUM(C32:C34) -> 93837 | D35: =SUM(D32:D34) -> 75478 | E35: =SUM(E32:E34) -> 72557 | F35: =SUM(F32:F34) -> 66772 | G35: =SUM(G32:G34) -> 66166.392 | H35: =SUM(H32:H34) -> 66991.062 | I35: =SUM(I32:I34) -> 68182.432 | K35: =SUM(K32:K34) -> 98269 | L35: =SUM(L32:L34) -> 99027 | M35: =SUM(M32:M34) -> 95832 | N35: =SUM(N32:N34) -> 93837 | O35: =SUM(O32:O34) -> 96647 | P35: =SUM(P32:P34) -> 74883 | Q35: =SUM(Q32:Q34) -> 83040 | R35: =SUM(R32:R34) -> 75478 | ... AL35: =SUM(AL32:AL34) -> 68182.432
B38: Total Debt | C38: =N38 -> 26749 | D38: =R38 -> 19151 | E38: =V38 -> 15485 | F38: =Z38 -> 15395 | G38: =AD38 -> 15395 | H38: =AH38 -> 15395 | I38: =AL38 -> 15395 | K38: =K28+K24 -> 28233 | L38: =L28+L24 -> 28338 | M38: =M28+M24 -> 27982 | N38: =N28+N24 -> 26749 | O38: =O28+O24 -> 25021 | P38: =P28+P24 -> 20036 | Q38: =Q28+Q24 -> 19237 | R38: =R28+R24 -> 19151 | ... AL38: =AL28+AL24 -> 15395
