Workbook

Sheet Summary
B2: SIRI
B3: Dashboard Summary
B4: $M, unless otherwise stated
B6: TRADING STATISTICS | I6: BASE CASE FINANCIALS / METRICS | M6: 2011 | N6: 2012 | O6: 2013 | P6: 2014 | Q6: 2015 | R6: 2016 | S6: 2017 | T6: 2018 | U6: 2019 | V6: 2020
B7: Share price ($) | G7: 4.24 | I7: Revenue | M7: 3014.524 | N7: 3402.04 | O7: 3799.095 | P7: 4181.095 | Q7: =Model!O115 -> 4570.041 | R7: =Model!T115 -> 5011.1795 | S7: =Model!U115 -> 5377.8574 | T7: =Model!V115 -> 5650.2237 | U7: =Model!W115 -> 5876.8656 | V7: =Model!X115 -> 6078.8476
B8: (adj. share price; less NOL's) | G8: =G7-Model!O213 -> 3.9485568 | I8: Consensus | R8: 4930 | S8: 5300
B9: Shares outstanding (M) | G9: =Model!Q153 -> 4988.247 | I9: Adj. EBITDA | M9: 731.018 | N9: 920.346 | O9: 1166.143 | P9: 1467.776 | Q9: =Model!O143 -> 1657.617 | R9: =Model!T143 -> 1852.9617 | S9: =Model!U143 -> 2070.2924 | T9: =Model!V143 -> 2080.525 | U9: =Model!W143 -> 2140.131 | V9: =Model!X143 -> 2163.5632
B10: Market cap | G10: =G7*G9 -> 21150.167 | I10: Consensus | R10: 1840 | S10: 2010
B11: Net debt | G11: =Model!Q241-Model!Q219 -> 5620.355 | I11: EPS ($) | M11: 0.01485126 | N11: 0.019358838 | O11: 0.043727834 | P11: 0.081697284 | Q11: =Model!O154 -> 0.093775057 | R11: =Model!T154 -> 0.14390406 | S11: =Model!U154 -> 0.17196074 | T11: =Model!V154 -> 0.20134932 | U11: =Model!W154 -> 0.38375825 | V11: =Model!X154 -> 0.43658321
B12: Minority interest | G12: 205 | I12: Consensus | R12: 0.15 | S12: 0.19
B13: Enterprise value | G13: =G10+G11-G12 -> 26565.522 | I13: FCF ($) | M13: 416.286 | N13: 744.701 | O13: 995.153 | P13: 1192.196 | Q13: =Model!O194 -> 1315.193 | R13: =Model!T194 -> 1421.6176 | S13: =Model!U194 -> 1507.7139 | T13: =Model!V194 -> 1457.5578 | U13: =Model!W194 -> 2072.8354 | V13: =Model!X194 -> 2012.0162
B14: Less: NPV of NOLs | G14: =Model!O212 -> 1584.042 | I14: Consensus | R14: 1354.1 | S14: 1490.7
B15: Adjusted enterprise value | G15: =G13-G14 -> 24981.48 | I15: Fully-Taxed FCF ($) | P15: =Model!J199 -> 805 | Q15: =Model!O199 -> 950.193 | R15: =Model!T199 -> 996.59786 | S15: =Model!U199 -> 1003.2957
B17: VALUATION (Adj. EV) | E17: Base | F17: Upside | G17: Downside | I17: Revenue growth | N17: =N7/M7-1 -> 0.12854965 | O17: =O7/N7-1 -> 0.11671086 | P17: =P7/O7-1 -> 0.10055026 | Q17: =Q7/P7-1 -> 0.093024913 | R17: =R7/Q7-1 -> 0.096528341 | S17: =S7/R7-1 -> 0.073171978 | T17: =T7/S7-1 -> 0.050645884 | U17: =U7/T7-1 -> 0.040112022 | V17: =V7/U7-1 -> 0.034368995
B18: EBITDA | E18: =S9 -> 2070.2924 | F18: =S34 -> 2188.2907 | G18: =S58 -> 1867.667 | I18: EBITDA margin | M18: =M9/M7 -> 0.24249865 | N18: =N9/N7 -> 0.27052768 | O18: =O9/O7 -> 0.30695284 | P18: =P9/P7 -> 0.35105062 | Q18: =Q9/Q7 -> 0.36271381 | R18: =R9/R7 -> 0.36976558 | S18: =S9/S7 -> 0.38496602 | T18: =T9/T7 -> 0.36821993 | ... V18: =V9/V7 -> 0.35591667
B19: EV/EBITDA | E19: 15 | F19: 15 | G19: 13 | I19: FCF growth | N19: =N13/M13-1 -> 0.78891675 | O19: =O13/N13-1 -> 0.33631216 | P19: =P13/O13-1 -> 0.19800272 | Q19: =Q13/P13-1 -> 0.10316844 | R19: =R13/Q13-1 -> 0.080919406 | S19: =S13/R13-1 -> 0.060562195 | T19: =T11/S11-1 -> 0.17090285 | U19: =U11/T11-1 -> 0.90593268 | V19: =V11/U11-1 -> 0.13765166
B20: EV | E20: =E18*E19 -> 31054.386 | F20: =F18*F19 -> 32824.36 | G20: =G18*G19 -> 24279.671 | T20: =T13/S13-1 -> -0.033266307 | U20: =U13/T13-1 -> 0.42212905 | V20: =V13/U13-1 -> -0.029341069
B21: Net debt | E21: =S28 -> 6152.1858 | F21: =S52 -> 7014.4047 | G21: =S76 -> 4364.6578 | I21: EV/EBITDA | P21: =$G$13/P9 -> 18.099167 | Q21: =$G$13/Q9 -> 16.026333 | R21: =$G$13/R9 -> 14.33679 | S21: =$G$13/S9 -> 12.831773
B22: NPV of NOL's | E22: =Model!U212 -> 907.24816 | F22: =E22 -> 907.24816 | G22: =F22 -> 907.24816 | I22: Adj. EV/EBITDA | P22: =$G$15/P9 -> 17.019954 | Q22: =$G$15/Q9 -> 15.070719 | R22: =$G$15/R9 -> 13.48192 | S22: =$G$15/S9 -> 12.066644 | T22: =$G$13/T9 -> 12.768663 | U22: =$G$13/U9 -> 12.413036 | V22: =$G$13/V9 -> 12.278598
B23: Minority interest | E23: =G12 -> 205 | F23: =E23 -> 205 | G23: =F23 -> 205 | I23: P/EPS | P23: =$G$7/P11 -> 51.89891 | Q23: =$G$7/Q11 -> 45.214582 | R23: =$G$7/R11 -> 29.464074 | S23: =$G$7/S11 -> 24.656791
B24: Equity Value | E24: =E20-E21-E23 -> 24697.2 | F24: =F20-F21-F23 -> 25604.956 | G24: =G20-G21-G23 -> 19710.013 | I24: FCF yield | P24: =P25/$G$7 -> 0.056368159 | Q24: =Q25/$G$7 -> 0.062183574 | R24: =R25/$G$7 -> 0.068425955 | S24: =S25/$G$7 -> 0.08081657 | T24: =$G$7/T11 -> 21.05793 | U24: =$G$7/U11 -> 11.048622 | V24: =$G$7/V11 -> 9.7117797
B25: TSO (M) | E25: =Drivers!F58 -> 4400 | F25: =Drivers!F59 -> 4200 | G25: =Drivers!F60 -> 4850 | I25: FCF/share ($) | P25: =P13/$G$9 -> 0.239001 | Q25: =Q13/$G$9 -> 0.26365836 | R25: =R13/Drivers!E58 -> 0.29012605 | S25: =S13/Drivers!F58 -> 0.34266225 | T25: =T13/$G$10 -> 0.06891472 | U25: =U13/$G$10 -> 0.098005625 | V25: =V13/$G$10 -> 0.095130035
B26: Implied price | E26: =E24/E25 -> 5.613 | F26: =F24/F25 -> 6.096418 | G26: =G24/G25 -> 4.0639202 | I26: Fully-Taxed FCF yield | P26: =P27/$G$8 -> 0.036122922 | Q26: =Q27/$G$8 -> 0.044275209 | R26: =R27/$G$8 -> 0.050935994 | S26: =S27/$G$8 -> 0.057748127 | T26: =T13/$G$9 -> 0.29219841 | U26: =U13/$G$9 -> 0.41554385 | V26: =V13/$G$9 -> 0.40335135
B27: Premium/(Discount) | E27: =E26/$G$7-1 -> 0.32382075 | F27: =F26/$G$7-1 -> 0.43783444 | G27: =G26/$G$7-1 -> -0.041528248 | I27: Fully-Taxed FCF/share ($) | P27: =Model!J200 -> 0.14263341 | Q27: =Model!O200 -> 0.17482318 | R27: =Model!T200 -> 0.20112367 | S27: =Model!U200 -> 0.22802176 | T27: =Model!V262 -> 6814.628 | U27: =Model!W262 -> 6861.7926 | V27: =Model!X262 -> 6969.7765
B28: Probability | E28: 0.5 | F28: 0.25 | G28: 0.25 | I28: Net debt | P28: =Model!J262 -> 4346.139 | Q28: =Model!O262 -> 5331.776 | R28: =Model!T262 -> 5333.2474 | S28: =Model!U262 -> 6152.1858 | T28: =T27/T9 -> 3.2754367 | U28: =U27/U9 -> 3.2062489 | V28: =V27/V9 -> 3.2214342
I29: Net debt / EBITDA | P29: =P28/P9 -> 2.961037 | Q29: =Q28/Q9 -> 3.2165307 | R29: =R28/R9 -> 2.8782287 | S29: =S28/S9 -> 2.9716507
B30: Weighted average price ($) | G30: =(E26*E28)+(F26*F28)+(G26*G28) -> 5.3465845
B31: Premium/(Discount) | G31: =G30/G7-1 -> 0.26098692 | I31: UPSIDE CASE FINANCIALS / METRICS | M31: 2011 | N31: 2012 | O31: 2013 | P31: 2014 | Q31: 2015 | R31: 2016 | S31: 2017 | T31: 2018 | U31: 2019 | V31: 2020
I32: Revenue | M32: 3014.524 | N32: 3402.04 | O32: 3799.095 | P32: 4181.095 | Q32: =IF(Drivers!$E$4=2,Model!O115,Q32) -> 4570.041 | R32: =IF(Drivers!$E$4=2,Model!T115,R32) -> 5011.1795 | S32: =IF(Drivers!$E$4=2,Model!U115,S32) -> 5455.218 | T32: =T7*(1+LTV!J13) -> 5736.8295 | U32: =U7*(1+LTV!K13) -> 6004.9961 | V32: =V7*(1+LTV!L13) -> 6250.5455
B33: VALUATION (SIRI FCF) | E33: Base | F33: Upside | G33: Downside | I33: Consensus | Q33: 4497.86 | R33: 4787.21 | S33: 5127.91
B34: FCF | E34: =S13 -> 1507.7139 | F34: =S38 -> 1596.036 | G34: =S62 -> 1385.7829 | I34: EBITDA | M34: 731.018 | N34: 920.346 | O34: 1166.143 | P34: 1467.776 | Q34: =IF(Drivers!$E$4=2,Model!O143,Q34) -> 1657.617 | R34: =IF(Drivers!$E$4=2,Model!T143,R34) -> 1866.9417 | S34: =IF(Drivers!$E$4=2,Model!U143,S34) -> 2188.2907 | T34: =T9*(1+LTV!J17) -> 2135.2511 | U34: =U9*(1+LTV!K17) -> 2218.1754 | V34: =V9*(1+LTV!L17) -> 2263.6647
B35: FCF Yield | E35: 0.07 | F35: 0.07 | G35: 0.075 | I35: Consensus | Q35: 1603.4 | R35: 1828.38 | S35: 1963
B36: Equity Value | E36: =E34/E35 -> 21538.77 | F36: =F34/F35 -> 22800.514 | G36: =G34/G35 -> 18477.105 | I36: EPS ($) | M36: 0.01485126 | N36: 0.019358838 | O36: 0.043727834 | P36: 0.081697284 | Q36: =IF(Drivers!$E$4=2,Model!O154,Q36) -> 0.093775057 | R36: =IF(Drivers!$E$4=2,Model!T154,R36) -> 0.14665732 | S36: =IF(Drivers!$E$4=2,Model!U154,S36) -> 0.19769616 | T36: =T11*(1+LTV!J25) -> 0.21107735 | U36: =U11*(1+LTV!K25) -> 0.39322136 | V36: =V11*(1+LTV!L25) -> 0.4381
B37: Add: NPV of NOL's | E37: =E22 -> 907.24816 | F37: =E37 -> 907.24816 | G37: =F37 -> 907.24816 | I37: Consensus | Q37: =Q12 -> 0 | R37: =R12 -> 0.15 | S37: =S12 -> 0.19
B38: Shares Outstanding | E38: =E25 -> 4400 | F38: =F25 -> 4200 | G38: =G25 -> 4850 | I38: FCF ($) | M38: 416.286 | N38: 744.701 | O38: 995.153 | P38: 1192.196 | Q38: =IF(Drivers!$E$4=2,Model!O194,Q38) -> 1315.193 | R38: =IF(Drivers!$E$4=2,Model!T194,R38) -> 1444.6176 | S38: =IF(Drivers!$E$4=2,Model!U194,S38) -> 1596.036 | T38: 1458.7497 | U38: 1051.4623 | V38: 1119.2372
B39: Implied Price | E39: =(E36+E37)/E38 -> 5.1013678 | F39: =(F36+F37)/F38 -> 5.6447052 | G39: =(G36+G37)/G38 -> 3.9967739 | I39: Consensus | Q39: =Q14 -> 0 | R39: =R14 -> 1354.1 | S39: =S14 -> 1490.7
B40: Premium/(Discount) | E40: =E39/$G$7-1 -> 0.20315279 | F40: =F39/$G$7-1 -> 0.33129839 | G40: =G39/$G$7-1 -> -0.057364651 | I40: Fully-Taxed FCF ($) | P40: =P15 -> 805 | Q40: =IF(Drivers!$E$4=2,Model!O199,Q40) -> 950.193 | R40: =IF(Drivers!$E$4=2,Model!T199,R40) -> 1010.3979 | S40: =IF(Drivers!$E$4=2,Model!U199,S40) -> 1042.4867
B41: Probability | E41: 0.5 | F41: 0.25 | G41: 0.25 | T41: =T32/S32-1 -> 0.051622409 | U41: =U32/T32-1 -> 0.046744749 | V41: =V32/U32-1 -> 0.040890836
I42: Revenue growth | N42: =N32/M32-1 -> 0.12854965 | O42: =O32/N32-1 -> 0.11671086 | P42: =P32/O32-1 -> 0.10055026 | Q42: =Q32/P32-1 -> 0.093024913 | R42: =R32/Q32-1 -> 0.096528341 | S42: =S32/R32-1 -> 0.088609581 | T42: =T34/T32 -> 0.37220055 | U42: =U34/U32 -> 0.36938831 | V42: =V34/V32 -> 0.36215475
B43: Weighted average price ($) | G43: =(E39*E41)+(F39*F41)+(G39*G41) -> 4.9610537 | I43: EBITDA margin | M43: 0.24249865 | N43: 0.27052768 | O43: 0.30695284 | P43: 0.35105062 | Q43: =Q34/Q32 -> 0.36271381 | R43: =R34/R32 -> 0.37255534 | S43: =S34/S32 -> 0.40113717 | T43: =T36/S36-1 -> 0.067685629 | U43: =U36/T36-1 -> 0.86292545 | V43: =V36/U36-1 -> 0.11413073
...

Sheet Model
B2: SIRI
B3: Model
B4: $M, unless otherwise stated | C4: 2011A | D4: 2012A | E4: 2013A | F4: 1Q14A | G4: 2Q14A | H4: 3Q14A | I4: 4Q14A | J4: 2014A | K4: 1Q15A | L4: 2Q15A | M4: 3Q15A | N4: 4Q15A | O4: 2015A | P4: 1Q16A | Q4: 2Q16A | R4: 3Q16A | S4: 4Q16E | T4: 2016E | U4: 2017E | V4: 2018E | W4: 2019E | X4: 2020E
A6: x | B6: 1. Segment Revenue Build
B8: Summary
B9: Total Subs - Beginning | C9: 20190.964 | D9: 21892.824 | E9: 23900.336 | F9: 25559.31 | G9: 25826.109 | H9: 26301.581 | I9: 26734.398 | J9: 25559.31 | K9: 27311.087 | L9: 27742 | M9: =L12 -> 28434 | N9: =M12 -> 28954 | O9: =J12 -> 27311.087 | P9: 29594 | Q9: =P12 -> 29931 | R9: =Q12 -> 30646 | S9: =R12 -> 31000 | T9: =O12 -> 29600 | U9: =T12 -> 31237.4 | V9: =U12 -> 32566.549 | W9: =V12 -> 33647.958 | X9: =W12 -> 34513.942
B10: Total Adds | C10: 8696.02 | D10: 9617.186 | E10: 10136.381 | F10: 2200.0105 | G10: 2549.6555 | H10: 2593.2041 | I10: 2683.4721 | J10: =SUM(F10:I10) -> 10026.342 | K10: 2516.5707 | L10: 2703.401 | M10: 2850 | N10: 2850 | O10: =SUM(K10:N10) -> 10919.972 | P10: 2799 | Q10: 2855.9 | R10: 2951.1 | S10: 3117.4 | T10: =SUM(P10:S10) -> 11723.4 | U10: =U53+U54+U21+U55 -> 10571.256 | V10: =V53+V54+V21+V55 -> 10674.928 | W10: =W53+W54+W21+W55 -> 10778.904 | X10: =X53+X54+X21+X55 -> 10882.745
B11: Total Disconnects | C11: -6994.16 | D11: -7609.674 | E11: -8477.407 | F11: -1933.2115 | G11: -2074.1835 | H11: -2160.3871 | I11: -2106.7831 | J11: =SUM(F11:I11) -> -8274.5652 | K11: -2085.6577 | L11: -2011.401 | M11: -2330 | N11: -2204 | O11: =SUM(K11:N11) -> -8631.0586 | P11: -2462 | Q11: -2489 | R11: -2534 | S11: -2601 | T11: =SUM(P11:S11) -> -10086 | U11: =U58+U78 -> -9242.1073 | V11: =V58+V78 -> -9593.5191 | W11: =W58+W78 -> -9912.9204 | X11: =X58+X78 -> -10207.93
B12: Total Subs - Ending | C12: 21892.824 | D12: 23900.336 | E12: 25559.31 | F12: =SUM(F9:F11) -> 25826.109 | G12: =SUM(G9:G11) -> 26301.581 | H12: =SUM(H9:H11) -> 26734.398 | I12: =SUM(I9:I11) -> 27311.087 | J12: 27311.087 | K12: =SUM(K9:K11) -> 27742 | L12: =SUM(L9:L11) -> 28434 | M12: =SUM(M9:M11) -> 28954 | N12: =SUM(N9:N11) -> 29600 | O12: =SUM(O9:O11) -> 29600 | P12: =SUM(P9:P11) -> 29931 | Q12: 30646 | R12: 31000 | S12: =SUM(S9:S11) -> 31516.4 | T12: =SUM(T9:T11) -> 31237.4 | U12: =SUM(U9:U11) -> 32566.549 | V12: =SUM(V9:V11) -> 33647.958 | W12: =SUM(W9:W11) -> 34513.942 | X12: =SUM(X9:X11) -> 35188.756
B13: Growth y/y % | D13: =D12/C12-1 -> 0.091697261 | E13: =E12/D12-1 -> 0.069412162 | F13: 0.060479996 | G13: 0.04916804 | H13: 0.045044525 | I13: 0.068537727 | J13: =J12/E12-1 -> 0.068537727 | K13: =K12/F12-1 -> 0.074184268 | L13: =L12/G12-1 -> 0.081075697 | M13: =M12/H12-1 -> 0.0830242 | N13: =N12/I12-1 -> 0.083808931 | O13: =O12/J12-1 -> 0.083808931 | P13: =P12/K12-1 -> 0.07890563 | Q13: =Q12/L12-1 -> 0.07779419 | ... T13: =T12/O12-1 -> 0.055317568 | U13: =U12/T12-1 -> 0.042549928 | V13: =V12/U12-1 -> 0.033206132 | W13: =W12/V12-1 -> 0.02573659 | X13: =X12/W12-1 -> 0.019551937
B14: Net Adds | D14: =D12-D9 -> 2007.512 | E14: =E12-E9 -> 1658.974 | F14: =F12-F9 -> 266.799 | G14: =G12-G9 -> 475.472 | H14: =H12-H9 -> 432.817 | I14: =I12-I9 -> 576.689 | J14: =J12-J9 -> 1751.777 | K14: =K12-K9 -> 430.913 | L14: =L12-L9 -> 692 | M14: 525 | N14: =N12-N9 -> 646 | O14: =O12-O9 -> 2288.913 | P14: 465 | Q14: 587 | R14: 345 | S14: =S12-S9 -> 516.4 | T14: =T12-T9 -> 1637.4 | U14: =U12-U9 -> 1329.1491 | V14: =V12-V9 -> 1081.4091 | W14: =W12-W9 -> 865.98369 | X14: =X12-X9 -> 674.81442
B17: OEM Subscribers
B19: Starting: OEM Subs | D19: 13710.284 | E19: 15544.743 | J19: 16645.842 | O19: =J24 -> 17606.331 | P19: =O24 -> 18718.818 | T19: =O24 -> 18718.818 | U19: =T24 -> 19935.926 | V19: =U24 -> 20761.747 | W19: =V24 -> 21267.505 | X19: =W24 -> 21508.205
B20: Unpaid Promo OEM Conversions to Pay | D20: 1336.9153 | E20: 1478.6311 | J20: 2177.2845 | O20: =J20*1.02 -> 2220.8302 | P20: =O20*1.001 -> 2223.0511 | T20: =O20*1.02 -> 2265.2468 | U20: =T20*1.02 -> 2310.5518 | V20: =U20*1.02 -> 2356.7628 | W20: =V20*1.02 -> 2403.8981 | X20: =W20*1.02 -> 2451.976
B21: Paid Promo Additions | D21: 6244.4023 | E21: 6169.1029 | J21: 4997.4829 | O21: =O83 -> 4909.4158 | P21: =P83 -> -247.40586 | T21: =T83 -> 5210.4085 | U21: =U83 -> 5253.0085 | V21: =V83 -> 5295.6085 | W21: =W83 -> 5338.2085 | X21: =X83 -> 5380.8085
B22: Paid Promo Disconnects (non-converts) | D22: -3377.7963 | E22: -3924.8875 | J22: -3424.7365 | O22: =(1-O95)*O47 -> -3275.2258 | P22: =(1-P95)*P47 -> -3384.4 | T22: =(1-T95)*T47 -> -3340.7304 | U22: =(1-U95)*U47 -> -3566.2297 | V22: =(1-V95)*V47 -> -3805.9271 | W22: =(1-W95)*W47 -> -4060.6786 | X22: =(1-X95)*X47 -> -4331.3905
B23: Self-Pay Disconnects | D23: -2369.0632 | E23: -2621.7475 | J23: -2789.5415 | O23: =-((O19-O21)*O93)*12 -> -2742.5337 | P23: =-((P19-P21)*P93)*12 -> -4324.2989 | T23: =-((T19-T21)*T93)*12 -> -2917.8164 | U23: =-((U19-U21)*U93)*12 -> -3171.5102 | V23: =-((V19-V21)*V93)*12 -> -3340.6858 | W23: =-((W19-W21)*W93)*12 -> -3440.728 | X23: =-((X19-X21)*X93)*12 -> -3483.5176
B24: Ending: OEM Subs | D24: =SUM(D19:D23) -> 15544.743 | E24: =SUM(E19:E23) -> 16645.842 | F24: =SUM(F19:F23) -> 0 | G24: =SUM(G19:G23) -> 0 | H24: =SUM(H19:H23) -> 0 | I24: =SUM(I19:I23) -> 0 | J24: =SUM(J19:J23) -> 17606.331 | K24: =SUM(K19:K23) -> 0 | ... P24: =SUM(P19:P23) -> 12985.764 | T24: =SUM(T19:T23) -> 19935.926 | U24: =SUM(U19:U23) -> 20761.747 | V24: =SUM(V19:V23) -> 21267.505 | W24: =SUM(W19:W23) -> 21508.205 | X24: =SUM(X19:X23) -> 21526.081
B25: Average OEM Subscribers | D25: =(D24+D19)/2 -> 14627.513 | E25: =(E24+E19)/2 -> 16095.292 | F25: =(F24+F19)/2 -> 0 | G25: =(G24+G19)/2 -> 0 | H25: =(H24+H19)/2 -> 0 | I25: =(I24+I19)/2 -> 0 | J25: =(J24+J19)/2 -> 17126.086 | K25: =(K24+K19)/2 -> 0 | ... P25: =(P24+P19)/2 -> 15852.291 | T25: =(T24+T19)/2 -> 19327.372 | U25: =(U24+U19)/2 -> 20348.836 | V25: =(V24+V19)/2 -> 21014.626 | W25: =(W24+W19)/2 -> 21387.855 | X25: =(X24+X19)/2 -> 21517.143
B26: Gross Additions | D26: =D24-D19 -> 1834.4582 | E26: =E24-E19 -> 1101.099 | F26: =F24-F19 -> 0 | G26: =G24-G19 -> 0 | H26: =H24-H19 -> 0 | I26: =I24-I19 -> 0 | J26: =J24-J19 -> 960.48941 | K26: =K24-K19 -> 0 | ... P26: =P24-P19 -> -5733.0538 | T26: =T24-T19 -> 1217.1086 | U26: =U24-U19 -> 825.82038 | V26: =V24-V19 -> 505.75841 | W26: =W24-W19 -> 240.69988 | X26: =X24-X19 -> 17.876358
B28: Used Subscribers
B30: Starting: Used Subs | D30: 1963.051 | E30: 2715.6262 | F30: 3793.6445 | G30: 4035.5461 | H30: 4280.3342 | I30: 4617.9438 | J30: 3793.6445 | K30: 5100.6255 | L30: 5483.7317 | M30: =L34 -> 5810.2091 | N30: =M34 -> 6070.2091 | O30: =J34 -> 5100.6255 | P30: =O34 -> 6521.1155 | T30: =O34 -> 6521.1155 | U30: =T34 -> 7692.6058 | V30: =U34 -> 8632.1094 | W30: =V34 -> 9356.4748 | X30: =W34 -> 9886.584
B31: Used Unpaid Promo Converts | D31: 856.96932 | E31: 1041.7914 | F31: 319.91054 | G31: 290.09331 | H31: 294.89021 | I31: 305.63516 | J31: 1210.5292 | K31: 299.21886 | L31: 356.29751 | M31: 300 | N31: 300 | O31: =-O48*O96 -> 1446.4228 | P31: 300 | T31: =-T48*T96 -> 1430.6436 | U31: =-U48*U96 -> 1455.2328 | V31: =-V48*V96 -> 1478.7043 | W31: =-W48*W96 -> 1500.8849 | X31: =-X48*X96 -> 1521.5867
B32: Unsolicited Reconnects | D32: 162.27828 | E32: 531.89686 | F32: 94.594776 | G32: 130.0292 | H32: 248.36446 | I32: 390.34219 | J32: 863.33063 | K32: 322.03052 | L32: 194.43931 | M32: 200 | N32: 200 | O32: =SUM(K32:N32) -> 916.46983 | P32: 200 | T32: =O32*1.02 -> 934.79923 | U32: =T32*1.02 -> 953.49521 | V32: =U32*1.02 -> 972.56511 | W32: =V32*1.02 -> 992.01642 | X32: =W32*1.02 -> 1011.8567
B33: Deactivations | D33: -266.67248 | E33: -495.66992 | F33: -172.60373 | G33: -175.3344 | H33: -205.64509 | I33: -213.29563 | J33: -766.87885 | K33: -238.14315 | L33: -224.25945 | M33: -240 | N33: -240 | O33: =SUM(K33:N33) -> -942.4026 | P33: -240 | T33: =-T94*T37*12 -> -1193.9526 | U33: =-U94*U37*12 -> -1469.2244 | V33: =-V94*V37*12 -> -1726.9041 | W33: =-W94*W37*12 -> -1962.792 | X33: =-X94*X37*12 -> -2174.2907
B34: Ending: Used Subs | D34: =SUM(D30:D33) -> 2715.6262 | E34: =SUM(E30:E33) -> 3793.6445 | F34: =SUM(F30:F33) -> 4035.5461 | G34: =SUM(G30:G33) -> 4280.3342 | H34: =SUM(H30:H33) -> 4617.9438 | I34: =SUM(I30:I33) -> 5100.6255 | J34: =SUM(J30:J33) -> 5100.6255 | K34: =SUM(K30:K33) -> 5483.7317 | ... P34: =SUM(P30:P33) -> 6781.1155 | T34: =SUM(T30:T33) -> 7692.6058 | U34: =SUM(U30:U33) -> 8632.1094 | V34: =SUM(V30:V33) -> 9356.4748 | W34: =SUM(W30:W33) -> 9886.584 | X34: =SUM(X30:X33) -> 10245.737
B35: Used+Unsolicited Gross Adds | D35: 1019.2476 | E35: 1573.6882 | F35: 414.50532 | G35: 420.12252 | H35: 543.25467 | I35: 695.97735 | J35: 2073.8599 | K35: 621.24938 | L35: 550.73682 | M35: 600 | N35: 600 | O35: =SUM(K35:N35) -> 2371.9862 | P35: 600 | T35: =T32+T31 -> 2365.4428 | U35: =U32+U31 -> 2408.728 | V35: =V32+V31 -> 2451.2694 | W35: =W32+W31 -> 2492.9013 | X35: =X32+X31 -> 2533.4435
B36: Gross Additions | D36: =SUM(D31:D33) -> 752.57512 | E36: =SUM(E31:E33) -> 1078.0183 | F36: =SUM(F31:F33) -> 241.90158 | G36: =SUM(G31:G33) -> 244.78812 | H36: =SUM(H31:H33) -> 337.60958 | I36: =SUM(I31:I33) -> 482.68172 | J36: =SUM(J31:J33) -> 1306.981 | K36: =SUM(K31:K33) -> 383.10623 | ... P36: =SUM(P31:P33) -> 260 | T36: =SUM(T31:T33) -> 1171.4903 | U36: =SUM(U31:U33) -> 939.50365 | V36: =SUM(V31:V33) -> 724.36534 | W36: =SUM(W31:W33) -> 530.10929 | X36: =SUM(X31:X33) -> 359.15282
B37: Average Used Subscribers | D37: =(D34+D30)/2 -> 2339.3386 | E37: =(E34+E30)/2 -> 3254.6353 | F37: =(F34+F30)/2 -> 3914.5953 | G37: =(G34+G30)/2 -> 4157.9401 | H37: =(H34+H30)/2 -> 4449.139 | I37: =(I34+I30)/2 -> 4859.2846 | J37: =(J34+J30)/2 -> 4447.135 | K37: =(K34+K30)/2 -> 5292.1786 | ... P37: =(P34+P30)/2 -> 6651.1155 | T37: =(T34+T30)/2 -> 7106.8606 | U37: =(U34+U30)/2 -> 8162.3576 | V37: =(V34+V30)/2 -> 8994.2921 | W37: =(W34+W30)/2 -> 9621.5294 | X37: =(X34+X30)/2 -> 10066.16
B40: Unpaid Promo (OEM + USED)
B42: OEM Unpaid Promo: Starting | D42: 949.83429 | E42: 811.73311 | F42: 1452.7866 | G42: 1462.6464 | H42: 1711.8951 | I42: 1725.0981 | J42: 1452.7866 | K42: 1676.4921 | L42: 1624.6532 | M42: =L50 -> 1824.6174 | N42: =M50 -> 2024.5816 | O42: =J50 -> 1676.4921 | P42: =O50 -> 2224.5457 | T42: =O50 -> 2224.5457 | U42: =T50 -> 3394.5618 | V42: =U50 -> 4378.4837 | W42: =V50 -> 5162.3917 | X42: =W50 -> 5639.3701
B43: Used Unpaid Promo: Starting | D43: 466.08371 | E43: 958.20489 | F43: 999.72044 | G43: 906.5416 | H43: 921.53192 | I43: 955.10988 | J43: 999.72044 | K43: 935.05892 | L43: 1149.3468 | M43: =L51 -> 1165.916 | N43: =M51 -> 1182.4853 | O43: =J51 -> 935.05892 | P43: =O51 -> 1199.0545 | T43: =O51 -> 1199.0545 | U43: =T51 -> 3060.0732 | V43: =U51 -> 4882.1538 | W43: =V51 -> 6654.1194 | X43: =W51 -> 8364.2344
B44: Beginning Unpaid Trials | D44: 1415.918 | E44: 1769.938 | F44: 2452.507 | G44: 2369.188 | H44: 2633.427 | I44: 2680.208 | J44: 2452.507 | K44: 2611.551 | L44: 2774 | M44: =L49 -> 2990.5334 | N44: =M49 -> 3207.0668 | O44: =J49 -> 2611.551 | P44: =O49 -> 3423.6002 | T44: =O49 -> 3423.6002 | U44: =T49 -> 6454.635 | V44: =U49 -> 9260.6375 | W44: =V49 -> 11816.511 | X44: =W49 -> 14003.604
B45: OEM Unpaid "Gross Adds" | D45: 2865.7575 | E45: 4042.2788 | F45: 1220.5153 | G45: 1468.1207 | H45: 1439.7823 | I45: 1388.9757 | J45: 5517.394 | K45: 1345.2379 | L45: 1553.8418 | M45: =L45 -> 1553.8418 | N45: =M45 -> 1553.8418 | O45: =SUM(K45:N45) -> 6006.7634 | P45: =O45 -> 6006.7634 | T45: =T104*T103 -> 6737.9 | U45: =U104*U103 -> 6830.2 | V45: =V104*V103 -> 6922.5 | W45: =W104*W103 -> 6922.5 | X45: =X104*X103 -> 6922.5
B46: Used "Gross Adds" | D46: 3012.6192 | E46: 3130.9249 | F46: 906.5416 | G46: 921.53192 | H46: 955.10988 | I46: 935.05892 | J46: 3718.2423 | K46: 1149.3468 | L46: 1165.916 | M46: =L46 -> 1165.916 | N46: =M46 -> 1165.916 | O46: =SUM(K46:N46) -> 4647.0949 | P46: =O46 -> 4647.0949 | T46: =T68 -> 6331.78 | U46: =U68 -> 6516.38 | V46: =V68 -> 6700.98 | W46: =W68 -> 6885.58 | X46: =X68 -> 7070.18
B47: OEM Rolling Off Unpaid Promo | D47: -3003.8587 | E47: -3401.2254 | F47: -1210.6555 | G47: -1218.872 | H47: -1426.5792 | I47: -1437.5818 | J47: -5293.6885 | K47: -1397.0767 | L47: -1353.8777 | M47: =L47 -> -1353.8777 | N47: =M47 -> -1353.8777 | O47: =SUM(K47:N47) -> -5458.7097 | P47: =O47 -> -5458.7097 | T47: =O47*1.02 -> -5567.8839 | U47: =T47*1.05 -> -5846.2781 | V47: =U47*1.05 -> -6138.592 | W47: =V47*1.05 -> -6445.5216 | X47: =W47*1.05 -> -6767.7977
B48: Used Rolling Off Unpaid Promo | D48: -2520.498 | E48: -3089.4093 | F48: -999.72044 | G48: -906.5416 | H48: -921.53192 | I48: -955.10988 | J48: -3782.9038 | K48: -935.05892 | L48: -1149.3468 | M48: =L48 -> -1149.3468 | N48: =M48 -> -1149.3468 | O48: =SUM(K48:N48) -> -4383.0993 | P48: =O48 -> -4383.0993 | T48: =O48*1.02 -> -4470.7613 | U48: =T48*1.05 -> -4694.2994 | V48: =U48*1.05 -> -4929.0143 | W48: =V48*1.05 -> -5175.4651 | X48: =W48*1.05 -> -5434.2383
B49: Ending Unpaid Promo Trials | D49: 1769.938 | E49: 2452.507 | F49: 2369.188 | G49: 2633.427 | H49: 2680.208 | I49: 2611.551 | J49: 2611.551 | K49: 2774 | L49: 2990.5334 | M49: =SUM(M44:M48) -> 3207.0668 | N49: =SUM(N44:N48) -> 3423.6002 | O49: =SUM(O44:O48) -> 3423.6002 | P49: =SUM(P44:P48) -> 4235.6494 | T49: =SUM(T44:T48) -> 6454.635 | U49: =SUM(U44:U48) -> 9260.6375 | V49: =SUM(V44:V48) -> 11816.511 | W49: =SUM(W44:W48) -> 14003.604 | X49: =SUM(X44:X48) -> 15794.248
B50: OEM Unpaid Promo: Ending | D50: 811.73311 | E50: 1452.7866 | F50: 1462.6464 | G50: 1711.8951 | H50: 1725.0981 | I50: 1676.4921 | J50: 1676.4921 | K50: 1624.6532 | L50: 1824.6174 | M50: =M47+M45+M42 -> 2024.5816 | N50: =N47+N45+N42 -> 2224.5457 | O50: =O47+O45+O42 -> 2224.5457 | P50: =P47+P45+P42 -> 2772.5994 | T50: =T47+T45+T42 -> 3394.5618 | U50: =U47+U45+U42 -> 4378.4837 | V50: =V47+V45+V42 -> 5162.3917 | W50: =W47+W45+W42 -> 5639.3701 | X50: =X47+X45+X42 -> 5794.0723
B51: Used Unpaid Promo: Ending | D51: 958.20489 | E51: 999.72044 | F51: 906.5416 | G51: 921.53192 | H51: 955.10988 | I51: 935.05892 | J51: 935.05892 | K51: 1149.3468 | L51: 1165.916 | M51: =M48+M46+M43 -> 1182.4853 | N51: =N48+N46+N43 -> 1199.0545 | O51: =O48+O46+O43 -> 1199.0545 | P51: =P48+P46+P43 -> 1463.05 | T51: =T48+T46+T43 -> 3060.0732 | U51: =U48+U46+U43 -> 4882.1538 | V51: =V48+V46+V43 -> 6654.1194 | W51: =W48+W46+W43 -> 8364.2344 | X51: =X48+X46+X43 -> 10000.176
...

Sheet SOTP
B2: LMCA/BATRA/LSXMA
B3: SOTP/NAV Analysis
B4: $m Unless Noted
B6: LMCA (Liberty Media Group)
C8: Price | E8: Shares | F8: Base Case
B9: Live Nation | C9: 23.18 | E9: 69.6 | F9: =E9*C9 -> 1613.328
B10: Time Warner | C10: 74.57 | E10: 4.3 | F10: =$C$10*$E10 -> 320.651
B11: Time Inc. | C11: 15.06 | E11: 0.5 | F11: =$C$11*$E11 -> 7.53
B12: Viacom/Other | C12: 38.88 | E12: 1.8 | F12: =$C$12*$E12+60 -> 129.984
B13: Total: Public Assets | F13: =SUM(F9:F12) -> 2071.493
B15: Liberty Braves Stake | D15: 0.2 | F15: 170
B16: Inter-Group Note | F16: 165
B17: Other | F17: 127
B18: Total: Private Assets | F18: =SUM(F15:F17) -> 462
B20: Cash | F20: 424
B21: Liberty 1.375% converts due 2023 | F21: -995
B22: Net Asset Value | F22: =F21+F20+F18+F13 -> 1962.493
B23: Shares Outstanding | F23: 84.8
B24: Per Share Value | F24: =F22/F23 -> 23.142606
B26: LMCA Price | F26: 19.3
B27: Discount | F27: =F26/F24-1 -> -0.16604034
B29: BATRA (Liberty Braves Group)
B31: Atlanta Braves Valuation | F31: 1175
B32: Mixed-Use Development | F32: 450
B33: Cash | F33: 50
B34: Total Assets | F34: =SUM(F31:F33) -> 1675
B36: Stadium Debt at Completion | F36: -330
B37: Mixed-Use Debt at Completion | F37: -285
B38: Other Debt as of 9/30/2015 | F38: -44
B39: Inter-Group Note | F39: -165
B40: Total Liabilities | F40: -824
B42: Less: Liberty Group Interest (20%) | F42: =-(F34+F40)*0.2 -> -170.2
B43: Net Asset Value | F43: =F34+F42+F40 -> 680.8
B44: Shares Outstanding | F44: 33.5
B45: Per Share Value | F45: =F43/F44 -> 20.322388
B47: LSXMA (Liberty SiriusXM Group)
B49: SIRI Shares Owned | F49: 3162.2
B50: Assumed Price (current) | F50: =Summary!G7 -> 4.24
B51: Equity Value | F51: =F49*F50 -> 13407.728
B52: Add: Cash | F52: 50
...

Sheet LTV
F4: SIRI: Used Car Conversion | G4: 2015E | H4: 2016E | I4: 2017E | J4: 2018E | K4: 2019E | L4: 2020E
F5: Base | G5: 0.31 | H5: 0.29 | I5: 0.275 | J5: 0.265 | K5: 0.255 | L5: 0.253725
F6: Bull | G6: 0.32 | H6: 0.32 | I6: 0.32 | J6: 0.31 | K6: 0.30853805 | L6: 0.30708341
G9: 2015E | H9: 2016E | I9: 2017E | J9: 2018E | K9: 2019E | L9: 2020E
E11: Base | F11: Revenues | G11: 4530.9313 | H11: 4838.7578 | I11: 5214.8856 | J11: 5501.6153 | K11: 5801.8758 | L11: 6111.7463
E12: Bull | F12: Revenues | G12: 4532.4648 | H12: 4856.3771 | I12: 5263.0099 | J12: 5585.9432 | K12: 5928.3713 | L12: 6284.3734
F13: % difference | G13: =G12/G11-1 -> 0.00033846939 | H13: =H12/H11-1 -> 0.0036412864 | I13: =I12/I11-1 -> 0.0092282576 | J13: =J12/J11-1 -> 0.015327844 | K13: =K12/K11-1 -> 0.021802524 | L13: =L12/L11-1 -> 0.028245132
E15: Base | F15: EBITDA | G15: 1469.1382 | H15: 1643.806 | I15: 1836.6633 | J15: 1993.47 | K15: 2164.4172 | L15: 2342.1364
E16: Bull | F16: EBITDA | G16: 1469.9962 | H16: 1654.5679 | I16: 1866.228 | J16: 2045.9062 | K16: 2243.3473 | L16: 2450.5
F17: % difference | G17: =G16/G15-1 -> 0.00058402449 | H17: =H16/H15-1 -> 0.0065469553 | I17: =I16/I15-1 -> 0.016096984 | J17: =J16/J15-1 -> 0.026303975 | K17: =K16/K15-1 -> 0.036467112 | L17: =L16/L15-1 -> 0.046266978
E19: Base | F19: Net Income | G19: 448.98173 | H19: 576.31498 | I19: 668.51237 | J19: 730.3741 | K19: 799.49646 | L19: 869.35936
E20: Bull | F20: Net Income | G20: 449.53347 | H20: 583.11283 | I20: 687.67948 | J20: 765.28539 | K20: 852.7862 | L20: 942.32074
F21: % difference | G21: =G20/G19-1 -> 0.0012288683 | H21: =H20/H19-1 -> 0.011795364 | I21: =I20/I19-1 -> 0.028671287 | J21: =J20/J19-1 -> 0.047799186 | K21: =K20/K19-1 -> 0.06665413 | L21: =L20/L19-1 -> 0.083925445
E23: Base | F23: EPS | G23: 0.078724599 | H23: 0.11429799 | I23: 0.15166784 | J23: 0.1899339 | K23: 0.2365553 | L23: 0.10961916
E24: Bull | F24: EPS | G24: 0.078826115 | H24: 0.11569319 | I24: 0.15610905 | J24: 0.19911039 | K24: 0.24238853 | L24: 0.11
F25: % difference | G25: =G24/G23-1 -> 0.0012895087 | H25: =H24/H23-1 -> 0.012206647 | I25: =I24/I23-1 -> 0.029282453 | J25: =J24/J23-1 -> 0.048314176 | K25: =K24/K23-1 -> 0.024659045 | L25: =L24/L23-1 -> 0.0034742299 | N25: SIRI - Customer LTV Analysis
N26: Method 1:
E27: Base | F27: FCF | G27: 1130.4515 | H27: 1232.5199 | I27: 1325.1726 | J27: 1383.2755 | K27: 1505.8748 | L27: 1085.4022
E28: Bull | F28: FCF | G28: 1131.8257 | H28: 1249.6078 | I28: 1367.5964 | J28: 1453.1468 | K28: 1573.9001 | L28: 1129.1277 | N28: Normalized Capex: $150m
F29: % difference | G29: =G28/G27-1 -> 0.0012156271 | H29: =H28/H27-1 -> 0.013864262 | I29: =I28/I27-1 -> 0.032013771 | J29: =J28/J27-1 -> 0.050511421 | K29: =K28/K27-1 -> 0.045173274 | L29: =L28/L27-1 -> 0.040285034 | N29: 2014 Revenues: 4,188m
N30: 2014 Gross Adds: 10,080m
N31: 2014 Self-Pay Subscribers: 22,522m
N32: 2014 ARPU: $12.50
R34: 2014 | S34: =R34+1 -> 2015 | T34: =S34+1 -> 2016 | U34: =T34+1 -> 2017 | V34: =U34+1 -> 2018 | W34: =V34+1 -> 2019 | X34: =W34+1 -> 2020
N35: Annualized ARPU (grows 2% y/y) | R35: =12.5*12 -> 150 | S35: =R35*1.02 -> 153 | T35: =S35*1.02 -> 156.06 | U35: =T35*1.02 -> 159.1812 | V35: =U35*1.02 -> 162.36482 | W35: =V35*1.02 -> 165.61212 | X35: =W35*1.02 -> 168.92436
N36: Subscriber Acquisition Cost** (2014) | R36: 42
N37: Royalties/User | R37: =(4188*0.1)/23000 -> 0.018208696 | S37: =R37 -> 0.018208696 | T37: =S37 -> 0.018208696 | U37: =T37 -> 0.018208696 | V37: =U37 -> 0.018208696 | W37: =V37 -> 0.018208696 | X37: =W37 -> 0.018208696
N38: Equipment | R38: 0.05 | S38: 0.05 | T38: 0.05 | U38: 0.05 | V38: 0.05 | W38: 0.05 | X38: 0.05
N39: Cost of Revenue / User | R39: 0.32 | S39: 0.32 | T39: 0.32 | U39: 0.32 | V39: 0.32 | W39: 0.32 | X39: 0.32
N40: Other Fixed Overhead | R40: 0.03 | S40: 0.03 | T40: 0.03 | U40: 0.03 | V40: 0.03 | W40: 0.03 | X40: 0.03
N41: Capex / User | R41: =150/10080 -> 0.014880952 | S41: =150/10080 -> 0.014880952 | T41: =150/10080 -> 0.014880952 | U41: =150/10080 -> 0.014880952 | V41: =150/10080 -> 0.014880952 | W41: =150/10080 -> 0.014880952 | X41: =150/10080 -> 0.014880952
N42: FCF / User | R42: =R35-SUM(R36:R41) -> 107.56691 | S42: =S35-SUM(S36:S41) -> 152.56691 | T42: =T35-SUM(T36:T41) -> 155.62691 | U42: =U35-SUM(U36:U41) -> 158.74811 | V42: =V35-SUM(V36:V41) -> 161.93173 | W42: =W35-SUM(W36:W41) -> 165.17903 | X42: =X35-SUM(X36:X41) -> 168.49127
P44: Cumulative: | Q44: =SUM(R42:X42) -> 1070.1109
P45: FY2020 Subs (m) | Q45: 40000 | S45: Current EV: | U45: =Summary!G13 -> 26565.522
P46: EV | Q46: =(Q45*Q44)/1000 -> 42804.435 | S46: "LTV" EV: | U46: =Q47 -> 26578.187
P47: Discounted (10%) | Q47: =Q46/((1.1)^5) -> 26578.187 | S47: Difference: | U47: =U45/U46-1 -> -0.00047649049
N51: Method 2:
R53: 2014 | S53: =R53+1 -> 2015 | T53: =S53+1 -> 2016 | U53: =T53+1 -> 2017 | V53: =U53+1 -> 2018 | W53: =V53+1 -> 2019 | X53: =W53+1 -> 2020
N54: Annualized ARPU (grows 2% y/y) | R54: =12.5*12 -> 150 | S54: =R54*1.02 -> 153 | T54: =S54*1.02 -> 156.06 | U54: =T54*1.02 -> 159.1812 | V54: =U54*1.02 -> 162.36482 | W54: =V54*1.02 -> 165.61212 | X54: =W54*1.02 -> 168.92436
N55: Gross Margin % | R55: 0.595 | S55: =R55+0.0025 -> 0.5975 | T55: =S55+0.0025 -> 0.6 | U55: =T55+0.0025 -> 0.6025 | V55: =U55+0.0025 -> 0.605 | W55: =V55+0.0025 -> 0.6075 | X55: =W55+0.0025 -> 0.61
...

Sheet Drivers
B2: SIRI
B3: Drivers + Unit Economics
C4: Scenario Toggle: | E4: 1 | G4: (1 = base | 2 = bull | 3 = bear)
E6: 2016E | F6: 2017E | G6: 2018E | H6: 2019E | I6: 2020E
B8: U.S. Auto Sales | C8: =E4 -> 1 | E8: =CHOOSE($C$8,E10,E11,E12) -> 17750 | F8: =CHOOSE($C$8,F10,F11,F12) -> 17750 | G8: =CHOOSE($C$8,G10,G11,G12) -> 17750 | H8: =CHOOSE($C$8,H10,H11,H12) -> 17750 | I8: =CHOOSE($C$8,I10,I11,I12) -> 17750
B10: 1. Base | E10: 17750 | F10: =E10 -> 17750 | G10: =F10 -> 17750 | H10: =G10 -> 17750 | I10: =H10 -> 17750
B11: 2. Bull | E11: 18000 | F11: =E11 -> 18000 | G11: 18000 | H11: 18000 | I11: 18000 | N11: =LTV!P52/(0.018+0.07) -> 0
B12: 3. Bear | E12: =E10-500 -> 17250 | F12: =F10-500 -> 17250 | G12: =G10-500 -> 17250 | H12: =H10-500 -> 17250 | I12: =I10-500 -> 17250 | N12: =(150*0.6) -> 90 | O12: 0.118
B14: New OEM Conversion Rate | C14: =C8 -> 1 | E14: =CHOOSE($C$14,E16,E17,E18) -> 0.4 | F14: =CHOOSE($C$14,F16,F17,F18) -> 0.39 | G14: =CHOOSE($C$14,G16,G17,G18) -> 0.38 | H14: =CHOOSE($C$14,H16,H17,H18) -> 0.37 | I14: =CHOOSE($C$14,I16,I17,I18) -> 0.36
B16: 1. Base | E16: 0.4 | F16: =E16-0.01 -> 0.39 | G16: =F16-0.01 -> 0.38 | H16: =G16-0.01 -> 0.37 | I16: =H16-0.01 -> 0.36
B17: 2. Bull | E17: 0.42 | F17: =E17-0.01 -> 0.41 | G17: =F17-0.01 -> 0.4 | H17: =G17-0.01 -> 0.39 | I17: =H17-0.01 -> 0.38
B18: 3. Bear | E18: 0.37 | F18: =E18-0.01 -> 0.36 | G18: =F18-0.01 -> 0.35 | H18: =G18-0.01 -> 0.34 | I18: =H18-0.01 -> 0.33
B20: Used Conversion Rate | C20: =C14 -> 1 | E20: =CHOOSE($C$20,E22,E23,E24) -> 0.32 | F20: =CHOOSE($C$20,F22,F23,F24) -> 0.31 | G20: =CHOOSE($C$20,G22,G23,G24) -> 0.3 | H20: =CHOOSE($C$20,H22,H23,H24) -> 0.29 | I20: =CHOOSE($C$20,I22,I23,I24) -> 0.28
B22: 1. Base | E22: 0.32 | F22: 0.31 | G22: 0.3 | H22: 0.29 | I22: 0.28
B23: 2. Bull | E23: 0.33 | F23: =E23-0.005 -> 0.325 | G23: =F23-0.005 -> 0.32 | H23: =G23-0.005 -> 0.315 | I23: =H23-0.005 -> 0.31
B24: 3. Bear | E24: 0.3 | F24: =E24-0.02 -> 0.28 | G24: 0.27 | H24: 0.26 | I24: 0.25
B26: Self-Pay Monthly Churn | C26: =C20 -> 1 | E26: =CHOOSE($C$26,E28,E29,E30) -> 0.018 | F26: =CHOOSE($C$26,F28,F29,F30) -> 0.018 | G26: =CHOOSE($C$26,G28,G29,G30) -> 0.018 | H26: =CHOOSE($C$26,H28,H29,H30) -> 0.018 | I26: =CHOOSE($C$26,I28,I29,I30) -> 0.018
B28: 1. Base | E28: 0.018 | F28: 0.018 | G28: 0.018 | H28: 0.018 | I28: 0.018
B29: 2. Bull | E29: 0.017 | F29: 0.017 | G29: 0.017 | H29: 0.017 | I29: 0.017
B30: 3. Bear | E30: 0.021 | F30: 0.021 | G30: 0.021 | H30: 0.021 | I30: 0.021
B32: Used Monthly Churn | C32: =C26 -> 1 | E32: =CHOOSE($C$32,E34,E35,E36) -> 0.014 | F32: =CHOOSE($C$32,F34,F35,F36) -> 0.015 | G32: =CHOOSE($C$32,G34,G35,G36) -> 0.016 | H32: =CHOOSE($C$32,H34,H35,H36) -> 0.017 | I32: =CHOOSE($C$32,I34,I35,I36) -> 0.018
B34: 1. Base | E34: 0.014 | F34: =E34+0.001 -> 0.015 | G34: =F34+0.001 -> 0.016 | H34: =G34+0.001 -> 0.017 | I34: =H34+0.001 -> 0.018
B35: 2. Bull | E35: 0.0125 | F35: 0.013 | G35: =F35+0.0005 -> 0.0135 | H35: =G35+0.0005 -> 0.014 | I35: =H35+0.0005 -> 0.0145
B36: 3. Bear | E36: 0.015 | F36: =E36+0.0015 -> 0.0165 | G36: =F36+0.0015 -> 0.018 | H36: =G36+0.0015 -> 0.0195 | I36: =H36+0.0015 -> 0.021
B38: ARPU | C38: =C32 -> 1 | E38: =CHOOSE($C$38,E40,E41,E42) -> 12.7 | F38: =CHOOSE($C$38,F40,F41,F42) -> 12.9 | G38: =CHOOSE($C$38,G40,G41,G42) -> 13.05 | H38: =CHOOSE($C$38,H40,H41,H42) -> 13.15 | I38: =CHOOSE($C$38,I40,I41,I42) -> 13.25 | O38: Customer Economics
O39: Annualized ARPU
B40: 1. Base | E40: 12.7 | F40: 12.9 | G40: 13.05 | H40: 13.15 | I40: 13.25 | O40: Fixed Costs
B41: 2. Bull | E41: 12.8 | F41: 13 | G41: 13.1 | H41: =G41*1.015 -> 13.2965 | I41: =H41*1.015 -> 13.495947 | O41: Customer Service + Billing per Subscriber
B42: 3. Bear | E42: 12.4 | F42: 12.55 | G42: 12.75 | H42: 12.85 | I42: 13 | O42: SAC per Installation
B44: SAC | C44: =C38 -> 1 | E44: =CHOOSE($C$44,E46,E47,E48) -> 33 | F44: =CHOOSE($C$44,F46,F47,F48) -> 32 | G44: =CHOOSE($C$44,G46,G47,G48) -> 31 | H44: =CHOOSE($C$44,H46,H47,H48) -> 30 | I44: =CHOOSE($C$44,I46,I47,I48) -> 29 | P44: REV SHARE?
P45: Royalty Rate | X45: 0.095 | Y45: 0.1 | Z45: 0.1 | AA45: 0.1 | AB45: 0.1 | AC45: 0.1 | AD45: 0.105 | AE45: =AD45+0.005 -> 0.11 | AF45: =AE45+0.005 -> 0.115 | AG45: =AF45+0.005 -> 0.12 | AH45: =AG45+0.005 -> 0.125
B46: 1. Base | E46: 33 | F46: =E46-1 -> 32 | G46: =F46-1 -> 31 | H46: =G46-1 -> 30 | I46: =H46-1 -> 29
B47: 2. Bull | E47: 31 | F47: 30 | G47: =F47-1 -> 29 | H47: =G47-1 -> 28 | I47: =H47-1 -> 27
B48: 3. Bear | E48: 35 | F48: =E48-0.25 -> 34.75 | G48: =F48-0.25 -> 34.5 | H48: =G48-0.25 -> 34.25 | I48: =H48-0.25 -> 34
B50: Royalty / Rev Share Growth | C50: =C44 -> 1 | E50: =CHOOSE($C$50,E52,E53,E54) -> 0.1 | F50: =CHOOSE($C$50,F52,F53,F54) -> 0.1 | G50: =CHOOSE($C$50,G52,G53,G54) -> 0.1 | H50: =CHOOSE($C$50,H52,H53,H54) -> 0.1 | I50: =CHOOSE($C$50,I52,I53,I54) -> 0.1
B52: 1. Base | E52: 0.1 | F52: 0.1 | G52: 0.1 | H52: 0.1 | I52: 0.1
B53: 2. Bull | E53: 0.07 | F53: 0.07 | G53: 0.07 | H53: 0.07 | I53: 0.07
B54: 3. Bear | E54: 0.12 | F54: 0.12 | G54: 0.12 | H54: 0.12 | I54: 0.12
B56: Share Count | C56: =C44 -> 1 | E56: =CHOOSE($C$56,E58,E59,E60) -> 4900 | F56: =CHOOSE($C$56,F58,F59,F60) -> 4400 | G56: =CHOOSE($C$56,G58,G59,G60) -> 3900 | H56: =CHOOSE($C$56,H58,H59,H60) -> 3400 | I56: =CHOOSE($C$56,I58,I59,I60) -> 2900
B58: 1. Base | E58: 4900 | F58: =E58-500 -> 4400 | G58: =F58-500 -> 3900 | H58: =G58-500 -> 3400 | I58: =H58-500 -> 2900
...
