Workbook
Name CASE: 'Scenario Drivers'!$B$6

Sheet Summary
B2: ULTA
B3: Financial Dashboard - FY End 1/31
B5: TRADING STATISTICS | E5: 42736 | G5: SUMMARY FINANCIALS | I5: 2013 | N5: =I5+1 -> 2014 | S5: =N5+1 -> 2015 | X5: 2016E | AC5: 2017E | AH5: 2018E
B6: Price | E6: 265.02 | G6: Revenue | I6: =Model!G58 -> 2670.573 | J6: =Model!H58 -> 713.77 | K6: =Model!I58 -> 734.236 | L6: =Model!J58 -> 745.722 | M6: =Model!K58 -> 1047.641 | N6: =Model!L58 -> 3241.4 | O6: =Model!M58 -> 868.122 | P6: =Model!N58 -> 876.999 | ... AH6: =Model!AF58 -> 5842.697
B7: Diluted Shares | E7: =Model!T68 -> 62.692 | G7: EBITDA | I7: =Model!G72 -> 433.871 | J7: =Model!H72 -> 713.77 | K7: =Model!I72 -> 734.236 | L7: =Model!J72 -> 745.722 | M7: =Model!K72 -> 137.467 | N7: =Model!L72 -> 542.216 | O7: =Model!M72 -> 145.549 | P7: =Model!N72 -> 157.231 | ... AH7: =Model!AF72 -> 1031.9383
B8: Market Cap | E8: =E7*E6 -> 16614.634 | G8: EPS | I8: =Model!G69 -> 3.1468485 | J8: =Model!H69 -> 0 | K8: =Model!I69 -> 0 | L8: =Model!J69 -> 0 | M8: =Model!K69 -> 1.3496451 | N8: =Model!L69 -> 3.9782679 | O8: =Model!M69 -> 1.0370382 | P8: =Model!N69 -> 1.1515137 | ... AH8: =Model!AF69 -> 7.8534549
B9: Net Debt (Cash) | E9: =-Model!T106 -> -133.108 | G9: FCF | I9: =Model!G73 -> 83.108 | J9: =Model!H73 -> 713.77 | K9: =Model!I73 -> 734.236 | L9: =Model!J73 -> 745.722 | M9: =Model!K73 -> 87.264 | N9: =Model!L73 -> 147.589 | O9: =Model!M73 -> 11.672 | P9: =Model!N73 -> 250.52 | ... AH9: =Model!AF73 -> 260.79577
B10: Enterprise Value | E10: =E8+E9 -> 16481.526 | G10: FCF/Share | I10: =Model!G74 -> 1.2892757 | J10: =Model!H74 -> #DIV/0! | K10: =Model!I74 -> #DIV/0! | L10: =Model!J74 -> #DIV/0! | M10: =Model!K74 -> 1.3496451 | N10: =Model!L74 -> 2.2828572 | O10: =Model!M74 -> 0.18080706 | P10: =Model!N74 -> 3.8894582 | ... AH10: =Model!AF74 -> 4.159953
B12: EPS Valuation | C12: Bear | D12: Base | E12: Bull | G12: Gross Margin % | I12: =Model!G77 -> 0.3524517 | J12: =Model!H77 -> 1 | K12: =Model!I77 -> 1 | L12: =Model!J77 -> 1 | M12: =Model!K77 -> 0.33383287 | N12: =Model!L77 -> 0.35071821 | O12: =Model!M77 -> 0.34924124 | P12: =Model!N77 -> 0.34945878 | ... AH12: =Model!AF77 -> 0.36489883
B13: 2018 EPS | C13: =IF(CASE=1,$AH$8,C13) -> 8.6060125 | D13: =IF(CASE=2,$AH$8,D13) -> 7.8534549 | E13: =IF(CASE=3,$AH$8,E13) -> 10.158756 | G13: EBITDA Margin % | I13: =I7/I6 -> 0.16246364 | J13: =J7/J6 -> 1 | K13: =K7/K6 -> 1 | L13: =L7/L6 -> 1 | M13: =M7/M6 -> 0.13121575 | N13: =N7/N6 -> 0.16727834 | O13: =O7/O6 -> 0.16765961 | P13: =P7/P6 -> 0.17928299 | ... AH13: =AH7/AH6 -> 0.1766202
B14: P/E Multiple | C14: 25 | D14: 30 | E14: 35 | G14: FCF/Net Income % | I14: =Model!G82 -> 0.40970377 | J14: =Model!H82 -> 1 | K14: =Model!I82 -> 1 | L14: =Model!J82 -> 1 | M14: =Model!K82 -> 1 | N14: =Model!L82 -> 0.57383194 | O14: =Model!M82 -> 0.17434948 | P14: =Model!N82 -> 3.3776915 | ... AH14: =Model!AF82 -> 0.52969719
B15: Share Price | C15: =C14*C13 -> 215.15031 | D15: =D14*D13 -> 235.60365 | E15: =E14*E13 -> 355.55647
B16: Upside/(Downside) | C16: =C15/$E$6-1 -> -0.18817329 | D16: =D15/$E$6-1 -> -0.11099673 | E16: =E15/$E$6-1 -> 0.34162127 | G16: Revenue Growth y/y % | N16: =N6/I6-1 -> 0.21374701 | O16: =O6/J6-1 -> 0.21624893 | P16: =P6/K6-1 -> 0.19443748 | Q16: =Q6/L6-1 -> 0.22123258 | R16: =R6/M6-1 -> 0.21062463 | S16: =S6/N6-1 -> 0.21062535 | T16: =T6/O6-1 -> 0.23682616 | U16: =U6/P6-1 -> 0.21917471 | ... AH16: =AH6/AC6-1 -> 0.082500223
B17: Probability | C17: 0.25 | D17: 0.5 | E17: 0.25 | G17: EBITDA Growth y/y % | N17: =N7/I7-1 -> 0.24971708 | O17: =O7/J7-1 -> -0.79608417 | P17: =P7/K7-1 -> -0.78585768 | Q17: =Q7/L7-1 -> -0.79471975 | R17: =R7/M7-1 -> 0.56756894 | S17: =S7/N7-1 -> 0.23816154 | T17: =T7/O7-1 -> 0.34010539 | U17: =U7/P7-1 -> 0.23025358 | ... AH17: =AH7/AC7-1 -> 0.082713828
G18: EPS Growth y/y % | N18: =N8/I8-1 -> 0.26420702 | O18: =O8/J8-1 -> #DIV/0! | P18: =P8/K8-1 -> #DIV/0! | Q18: =Q8/L8-1 -> #DIV/0! | R18: =R8/M8-1 -> 0.24898149 | S18: =S8/N8-1 -> 0.25213083 | T18: =T8/O8-1 -> 0.40034807 | U18: =U8/P8-1 -> 0.24435171 | ... AH18: =AH8/AC8-1 -> 0.082412553
B19: Weighted Average Price (P/E Multiple) | E19: =(C15*C17)+D17*D15+E17*E15 -> 260.47852
G20: P/E | S20: =$E$6/S8 -> 53.202852 | T20: =$E$6/T8 -> 182.49371 | U20: =$E$6/U8 -> 184.95513 | V20: =$E$6/V8 -> 189.81645 | W20: =$E$6/W8 -> 123.7926 | X20: =$E$6/X8 -> 41.266669 | Y20: =$E$6/Y8 -> 157.45767 | Z20: =$E$6/Z8 -> 162.46459 | ... AH20: =$E$6/AH8 -> 33.745658
B21: EBITDA Valuation | C21: Bear | D21: Base | E21: Bull | G21: EV/EBITDA | S21: =$E$10/S7 -> 24.54979 | T21: =$E$10/T7 -> 84.498546 | U21: =$E$10/U7 -> 85.204906 | V21: =$E$10/V7 -> 85.356261 | W21: =$E$10/W7 -> 61.324647 | X21: =$E$10/X7 -> 19.382401 | Y21: =$E$10/Y7 -> 74.384417 | Z21: =$E$10/Z7 -> 75.579214 | ... AH21: =$E$10/AH7 -> 15.971425
B22: 2018 EBITDA | C22: =IF(CASE=1,$AH$7,C22) -> 1130.3793 | D22: =IF(CASE=2,$AH$7,D22) -> 1031.9383 | E22: =IF(CASE=3,$AH$7,E22) -> 1334.585 | G22: FCF Yield % | S22: =S10/$E$6 -> 0.0045029308 | T22: =T10/$E$6 -> 0.0067088305 | U22: =U10/$E$6 -> -0.002557744 | V22: =V10/$E$6 -> -0.0016982017 | W22: =W10/$E$6 -> 0.0072895894 | X22: =X10/$E$6 -> 0.0097765609 | Y22: =Y10/$E$6 -> 0.0068450406 | Z22: =Z10/$E$6 -> 0.00072585281 | ... AH22: =AH10/$E$6 -> 0.015696751
B23: EBITDA Multiple | C23: 10 | D23: 15 | E23: 20
B24: Enterprise Value | C24: =C23*C22 -> 11303.793 | D24: =D23*D22 -> 15479.075 | E24: =E23*E22 -> 26691.7 | G24: ROE | I24: =Model!G101 -> 0.20222332 | J24: =Model!H101 -> #DIV/0! | K24: =Model!I101 -> #DIV/0! | L24: =Model!J101 -> #DIV/0! | M24: =Model!K101 -> 0.069950598 | N24: =Model!L101 -> 0.20617006 | O24: =Model!M101 -> 0.2055158 | P24: =Model!N101 -> 0.22077573 | ... AH24: =Model!AF101 -> 0.19138486
B25: Add: Net Cash (2018) | C25: =IF(CASE=1,Model!$AF$106,C25) -> 762.6126 | D25: =IF(CASE=2,Model!$AF$106,D25) -> 769.56387 | E25: =IF(CASE=3,Model!$AF$106,E25) -> 787.77938 | G25: ROIC | I25: =Model!G102 -> 0.20210569 | J25: =Model!H102 -> #DIV/0! | K25: =Model!I102 -> #DIV/0! | L25: =Model!J102 -> #DIV/0! | M25: =Model!K102 -> 0.069765429 | N25: =Model!L102 -> 0.20545343 | O25: =Model!M102 -> 0.20456107 | P25: =Model!N102 -> 0.21995417 | ... AH25: =Model!AF102 -> 0.19100198
B26: Market Cap | C26: =C24+C25 -> 12066.405 | D26: =D24+D25 -> 16248.639 | E26: =E24+E25 -> 27479.48
B27: Shares Outstanding | C27: =Model!AF68 -> 62.692 | D27: =C27 -> 62.692 | E27: =D27 -> 62.692
B28: Share Price | C28: =C26/C27 -> 192.47121 | D28: =D26/D27 -> 259.18201 | E28: =E26/E27 -> 438.32514
B29: Upside/(Downside) | C29: =C28/$E$6-1 -> -0.27374835 | D29: =D28/$E$6-1 -> -0.022028475 | E29: =E28/$E$6-1 -> 0.65393232
B30: Probability | C30: 0.25 | D30: 0.5 | E30: 0.25
B32: Weighted Average (EBITDA Multiple) | E32: =(C28*C30)+D30*D28+E30*E28 -> 287.2901
B34: Weighted Average Target Price: | E34: =AVERAGE(E32,E19) -> 273.88431
B35: Upside/(Downside) | E35: =E34/$E$6-1 -> 0.033447691

Sheet Model
B2: ULTA | C2: =D2-1 -> 2009 | D2: =E2-1 -> 2010 | E2: =F2-1 -> 2011 | F2: =G2-1 -> 2012 | G2: 2013 | H2: 1Q | I2: 2Q | J2: 3Q | K2: 4Q | L2: =G2+1 -> 2014 | M2: 1Q | N2: 2Q | O2: 3Q | P2: 4Q | Q2: =L2+1 -> 2015 | R2: 1Q | S2: 2Q | T2: 3Q | U2: 4QE | V2: 2016E | W2: 1QE | X2: 2QE | Y2: 3QE | Z2: 4QE | AA2: 2017E | AB2: 1QE | AC2: 2QE | AD2: 3QE | AE2: 4QE | AF2: 2018E
B3: Earnings Model - FY End 1/31 | G3: 41670 | H3: =EOMONTH(G3,3) -> 41759 | I3: =EOMONTH(H3,3) -> 41851 | J3: =EOMONTH(I3,3) -> 41943 | K3: =EOMONTH(J3,3) -> 42035 | L3: =K3 -> 42035 | M3: =EOMONTH(L3,3) -> 42124 | N3: =EOMONTH(M3,3) -> 42216 | O3: =EOMONTH(N3,3) -> 42308 | P3: =EOMONTH(O3,3) -> 42400 | Q3: =P3 -> 42400 | R3: =EOMONTH(Q3,3) -> 42490 | S3: =EOMONTH(R3,3) -> 42582 | T3: =EOMONTH(S3,3) -> 42674 | U3: =EOMONTH(T3,3) -> 42766 | V3: =U3 -> 42766 | W3: =EOMONTH(V3,3) -> 42855 | X3: =EOMONTH(W3,3) -> 42947 | Y3: =EOMONTH(X3,3) -> 43039 | Z3: =EOMONTH(Y3,3) -> 43131 | AA3: =Z3 -> 43131 | AB3: =EOMONTH(AA3,3) -> 43220 | AC3: =EOMONTH(AB3,3) -> 43312 | AD3: =EOMONTH(AC3,3) -> 43404 | AE3: =EOMONTH(AD3,3) -> 43496 | AF3: =AE3 -> 43496
B6: SEGMENT DATA
B8: STORE DATA:
B9: Stores: BOP | G9: 550 | L9: =G12 -> 675 | M9: 774 | N9: 797 | O9: 817 | P9: 860 | Q9: =L12 -> 774 | R9: 874 | S9: =R12 -> 886 | T9: =S12 -> 907 | U9: =T12 -> 949 | V9: =Q12 -> 874 | W9: =V12 -> 970 | X9: =W12 -> 995 | Y9: =X12 -> 1020 | Z9: =Y12 -> 1045 | AA9: =V12 -> 970 | AB9: =AA12 -> 1070 | AC9: =AB12 -> 1095 | AD9: =AC12 -> 1120 | AE9: =AD12 -> 1145 | AF9: =AA12 -> 1070
B10: (+) Opened | G10: 127 | L10: 100 | M10: 24 | N10: 20 | O10: 45 | P10: 14 | Q10: =SUM(M10:P10) -> 103 | R10: 13 | S10: 24 | T10: 42 | U10: =100-T10-S10-R10 -> 21 | V10: =SUM(R10:U10) -> 100 | W10: 25 | X10: 25 | Y10: 25 | Z10: 25 | AA10: =SUM(W10:Z10) -> 100 | AB10: 25 | AC10: 25 | AD10: 25 | AE10: 25 | AF10: =SUM(AB10:AE10) -> 100
B11: (-) Closed | G11: -2 | L11: -1 | M11: -1 | N11: 0 | O11: -2 | P11: 0 | Q11: =SUM(M11:P11) -> -3 | R11: -1 | S11: -3 | T11: 0 | U11: 0 | V11: =SUM(R11:U11) -> -4 | W11: 0 | X11: 0 | Y11: 0 | Z11: 0 | AA11: =SUM(W11:Z11) -> 0 | AB11: 0 | AC11: 0 | AD11: 0 | AE11: 0 | AF11: =SUM(AB11:AE11) -> 0
B12: Stores EOP | G12: =SUM(G9:G11) -> 675 | H12: =SUM(H9:H11) -> 0 | I12: =SUM(I9:I11) -> 0 | J12: =SUM(J9:J11) -> 0 | K12: =SUM(K9:K11) -> 0 | L12: 774 | M12: =SUM(M9:M11) -> 797 | N12: =SUM(N9:N11) -> 817 | O12: =SUM(O9:O11) -> 860 | P12: =SUM(P9:P11) -> 874 | Q12: =SUM(Q9:Q11) -> 874 | R12: =SUM(R9:R11) -> 886 | S12: =SUM(S9:S11) -> 907 | T12: =SUM(T9:T11) -> 949 | ... AF12: =SUM(AF9:AF11) -> 1170
B13: growth y/y % | L13: =L12/G12-1 -> 0.14666667 | Q13: =Q12/L12-1 -> 0.12919897 | R13: =R12/M12-1 -> 0.11166876 | S13: =S12/N12-1 -> 0.11015912 | T13: =T12/O12-1 -> 0.10348837 | U13: =U12/P12-1 -> 0.10983982 | V13: =V12/Q12-1 -> 0.10983982 | W13: =W12/R12-1 -> 0.12302483 | X13: =X12/S12-1 -> 0.12458655 | ... AF13: =AF12/AA12-1 -> 0.093457944
B14: Average Stores Open | G14: =AVERAGE(G12,G9) -> 612.5 | L14: =AVERAGE(L12,L9) -> 724.5 | M14: =AVERAGE(M12,M9) -> 785.5 | N14: =AVERAGE(N12,N9) -> 807 | O14: =AVERAGE(O12,O9) -> 838.5 | P14: =AVERAGE(P12,P9) -> 867 | Q14: =AVERAGE(Q12,Q9) -> 824 | R14: =AVERAGE(R12,R9) -> 880 | S14: =AVERAGE(S12,S9) -> 896.5 | ... AF14: =AVERAGE(AF12,AF9) -> 1120
B15: growth y/y % | L15: =L14/G14-1 -> 0.18285714 | Q15: =Q14/L14-1 -> 0.13733609 | R15: =R14/M14-1 -> 0.12030554 | S15: =S14/N14-1 -> 0.11090458 | T15: =T14/O14-1 -> 0.10673822 | U15: =U14/P14-1 -> 0.10668973 | V15: =V14/Q14-1 -> 0.11893204 | W15: =W14/R14-1 -> 0.11647727 | X15: =X14/S14-1 -> 0.12381484 | ... AF15: =AF14/AA14-1 -> 0.098039216
B17: Gross Sq. Feet BOP (m) | G17: 5874.393 | H17: =G20 -> 7158.286 | I17: =H20 -> 7414.3155 | J17: =I20 -> 7670.345 | K17: =J20 -> 7926.3745 | L17: =G20 -> 7158.286 | M17: 8182.404 | N17: =M20 -> 8425.381 | O17: =N20 -> 8628.213 | P17: =O20 -> 9080.084 | Q17: =L20 -> 8182.404 | R17: 9225.957 | S17: =R20 -> 9348.577 | T17: =S20 -> 9555.192 | U17: =T20 -> 10012.142 | V17: =Q20 -> 9225.957 | W17: =V20 -> 10233.54 | X17: =W20 -> 10497.108 | Y17: =X20 -> 10760.677 | Z17: =Y20 -> 11024.245 | AA17: =V20 -> 10233.54 | AB17: =AA20 -> 11287.814 | AC17: =AB20 -> 11551.383 | AD17: =AC20 -> 11814.951 | AE17: =AD20 -> 12078.52 | AF17: =AA20 -> 11287.814
B18: (+) Opened | G18: =G20-G17 -> 1283.893 | H18: =$L$18/4 -> 256.0295 | I18: =$L$18/4 -> 256.0295 | J18: =$L$18/4 -> 256.0295 | K18: =$L$18/4 -> 256.0295 | L18: =L20-L17 -> 1024.118 | M18: 253.429 | N18: 202.832 | O18: 474.278 | P18: 145.873 | Q18: =SUM(M18:P18) -> 1076.412 | R18: 132.81 | S18: 253.023 | T18: 456.95 | U18: =(U10*U52)/1000 -> 221.39764 | V18: =SUM(R18:U18) -> 1064.1806 | W18: =(W10*W52)/1000 -> 263.56862 | X18: =(X10*X52)/1000 -> 263.56862 | Y18: =(Y10*Y52)/1000 -> 263.56862 | Z18: =(Z10*Z52)/1000 -> 263.56862 | AA18: =SUM(W18:Z18) -> 1054.2745 | AB18: =(AB10*AB52)/1000 -> 263.56862 | AC18: =(AC10*AC52)/1000 -> 263.56862 | AD18: =(AD10*AD52)/1000 -> 263.56862 | AE18: =(AE10*AE52)/1000 -> 263.56862 | AF18: =SUM(AB18:AE18) -> 1054.2745
B19: (-) Closed | M19: -10.452 | N19: 0 | O19: -22.407 | P19: 0 | Q19: =SUM(M19:P19) -> -32.859 | R19: -10.19 | S19: -46.408 | T19: 0 | U19: 0 | V19: =SUM(R19:U19) -> -56.598 | W19: =(W11*W53)/1000 -> 0 | X19: =(X11*X53)/1000 -> 0 | Y19: =(Y11*Y53)/1000 -> 0 | Z19: =(Z11*Z53)/1000 -> 0 | AA19: =SUM(W19:Z19) -> 0 | AB19: =(AB11*AB53)/1000 -> 0 | AC19: =(AC11*AC53)/1000 -> 0 | AD19: =(AD11*AD53)/1000 -> 0 | AE19: =(AE11*AE53)/1000 -> 0 | AF19: =SUM(AB19:AE19) -> 0
B20: Gross Sq. Feet EOP | G20: 7158.286 | H20: =SUM(H17:H19) -> 7414.3155 | I20: =SUM(I17:I19) -> 7670.345 | J20: =SUM(J17:J19) -> 7926.3745 | K20: =SUM(K17:K19) -> 8182.404 | L20: =M17 -> 8182.404 | M20: =SUM(M17:M19) -> 8425.381 | N20: =SUM(N17:N19) -> 8628.213 | O20: =SUM(O17:O19) -> 9080.084 | P20: =SUM(P17:P19) -> 9225.957 | Q20: =P20 -> 9225.957 | R20: =SUM(R17:R19) -> 9348.577 | S20: =SUM(S17:S19) -> 9555.192 | T20: =SUM(T17:T19) -> 10012.142 | U20: =SUM(U17:U19) -> 10233.54 | V20: =SUM(V17:V19) -> 10233.54 | W20: =SUM(W17:W19) -> 10497.108 | X20: =SUM(X17:X19) -> 10760.677 | Y20: =SUM(Y17:Y19) -> 11024.245 | ... AF20: =SUM(AF17:AF19) -> 12342.089
B21: growth y/y % | M21: =M20/H20-1 -> 0.13636667 | N21: =N20/I20-1 -> 0.12487939 | O21: =O20/J20-1 -> 0.14555324 | P21: =P20/K20-1 -> 0.12753624 | Q21: =Q20/L20-1 -> 0.12753624 | R21: =R20/M20-1 -> 0.10957321 | S21: =S20/N20-1 -> 0.1074358 | T21: =T20/O20-1 -> 0.10264861 | ... AF21: =AF20/AA20-1 -> 0.093399347
B22: Average Sq. Footage | G22: =AVERAGE(G20,G17) -> 6516.3395 | H22: =AVERAGE(H20,H17) -> 7286.3008 | I22: =AVERAGE(I20,I17) -> 7542.3303 | J22: =AVERAGE(J20,J17) -> 7798.3598 | K22: =AVERAGE(K20,K17) -> 8054.3893 | L22: =AVERAGE(L20,L17) -> 7670.345 | M22: =AVERAGE(M20,M17) -> 8303.8925 | N22: =AVERAGE(N20,N17) -> 8526.797 | ... AF22: =AVERAGE(AF20,AF17) -> 11814.951
B23: growth y/y % | L23: =L22/G22-1 -> 0.17709413 | M23: =M22/H22-1 -> 0.13965821 | N23: =N22/I22-1 -> 0.13052554 | O23: =O22/J22-1 -> 0.135386 | P23: =P22/K22-1 -> 0.13640156 | Q23: =Q22/L22-1 -> 0.13478344 | R23: =R22/M22-1 -> 0.11842332 | S23: =S22/N22-1 -> 0.10849179 | ... AF23: =AF22/AA22-1 -> 0.097974735
B25: SSS DATA:
B26: Retail | P26: =P28-P27 -> 0.012 | R26: =R28-R27 -> 0.062 | S26: =S28-S27 -> 0.046 | T26: =T28-T27 -> 0.04
B27: Salon | P27: 0.092 | R27: 0.077 | S27: 0.08 | T27: 0.103
B28: Retail+Salon Comp | G28: 0.061 | L28: 0.081 | M28: 0.097 | N28: 0.089 | O28: 0.109 | P28: 0.104 | R28: 0.139 | S28: 0.126 | T28: 0.143
B29: E-Commerce Comp | G29: 0.766 | L29: 0.564 | M29: 0.498 | N29: 0.434 | O29: 0.563 | P29: 0.442 | R29: 0.388 | S29: 0.549 | T29: 0.591
B30: Total Comp | G30: 0.079 | L30: 0.099 | M30: 0.114 | N30: 0.101 | O30: 0.128 | P30: 0.125 | Q30: 0.118 | R30: 0.152 | S30: 0.144 | T30: 0.167 | U30: 0.14 | V30: =SUMPRODUCT(R30:U30,R47:U47)/V47 -> 0.14990456 | W30: ='Scenario Drivers'!W8 -> 0.14 | X30: ='Scenario Drivers'!X8 -> 0.13 | Y30: ='Scenario Drivers'!Y8 -> 0.12 | Z30: ='Scenario Drivers'!Z8 -> 0.11 | AA30: =SUMPRODUCT(W30:Z30,W47:Z47)/AA47 -> 0.12358813 | AB30: ='Scenario Drivers'!AB8 -> 0.1 | AC30: ='Scenario Drivers'!AC8 -> 0.09 | AD30: ='Scenario Drivers'!AD8 -> 0.08 | AE30: ='Scenario Drivers'!AE8 -> 0.07 | AF30: =SUMPRODUCT(AB30:AE30,AB47:AE47)/AF47 -> 0.083702941
B31: Transactions | P31: 0.086 | Q31: 0.084 | R31: 0.11 | S31: 0.097 | T31: 0.111
B32: Ticket | P32: 0.039 | Q32: 0.034 | R32: 0.042 | S32: 0.047 | T32: 0.056
B33: Total | L33: =L30 -> 0.099 | M33: =M30 -> 0.114 | N33: =N30 -> 0.101 | O33: 0.128 | P33: 0.125 | Q33: 0.118 | R33: =SUM(R31:R32) -> 0.152 | S33: =SUM(S31:S32) -> 0.144 | T33: =SUM(T31:T32) -> 0.167 | U33: 0.14
B34: 2-yr stack% | L34: =L33+G33 -> 0.099 | M34: =M33+H33 -> 0.114 | N34: =N33+I33 -> 0.101 | O34: =O33+J33 -> 0.128 | P34: =P33+K33 -> 0.125 | Q34: =Q33+L33 -> 0.217 | R34: =R33+M33 -> 0.266 | S34: =S33+N33 -> 0.245 | ... AF34: =AF33+AA33 -> 0
B36: Salon Sales | L36: 175.5 | M36: 51.3 | N36: 51.6 | O36: 51.7 | P36: 54.6 | Q36: =SUM(M36:P36) -> 209.2 | R36: 58.9 | S36: 59 | T36: 60.4 | U36: =P36*(1+U37) -> 62.79 | V36: =SUM(R36:U36) -> 241.09 | W36: =R36*(1+W37) -> #REF! | X36: =S36*(1+X37) -> #REF! | Y36: =T36*(1+Y37) -> #REF! | Z36: =U36*(1+Z37) -> #REF! | AA36: =SUM(W36:Z36) -> #REF! | AB36: =W36*(1+AB37) -> #REF! | AC36: =X36*(1+AC37) -> #REF! | AD36: =Y36*(1+AD37) -> #REF! | AE36: =Z36*(1+AE37) -> #REF! | AF36: =SUM(AB36:AE36) -> #REF!
B37: y/y % | G37: =G36/B36-1 -> #VALUE! | H37: =H36/C36-1 -> #DIV/0! | I37: =I36/D36-1 -> #DIV/0! | J37: =J36/E36-1 -> #DIV/0! | K37: =K36/F36-1 -> #DIV/0! | L37: =L36/G36-1 -> #DIV/0! | M37: =M36/H36-1 -> #DIV/0! | N37: =N36/I36-1 -> #DIV/0! | ... T37: =T36/O36-1 -> 0.16827853 | U37: 0.15 | V37: =V36/Q36-1 -> 0.15243786 | W37: ='Scenario Drivers'!#REF! -> #REF! | X37: ='Scenario Drivers'!#REF! -> #REF! | Y37: ='Scenario Drivers'!#REF! -> #REF! | Z37: ='Scenario Drivers'!#REF! -> #REF! | AA37: =AA36/V36-1 -> #REF! | AB37: ='Scenario Drivers'!#REF! -> #REF! | AC37: ='Scenario Drivers'!#REF! -> #REF! | AD37: ='Scenario Drivers'!#REF! -> #REF! | AE37: ='Scenario Drivers'!#REF! -> #REF! | AF37: =AF36/AA36-1 -> #REF!
B38: E-Commerce Sales | L38: 149.9 | M38: 44 | N38: 36.1 | O38: 46.2 | P38: 94.8 | Q38: =SUM(M38:P38) -> 221.1 | R38: 61 | S38: 55.9 | T38: 73.6 | U38: =P38*(1+U39) -> 132.72 | V38: =SUM(R38:U38) -> 323.22 | W38: =R38*(1+W39) -> #REF! | X38: =S38*(1+X39) -> #REF! | Y38: =T38*(1+Y39) -> #REF! | Z38: =U38*(1+Z39) -> #REF! | AA38: =SUM(W38:Z38) -> #REF! | AB38: =W38*(1+AB39) -> #REF! | AC38: =X38*(1+AC39) -> #REF! | AD38: =Y38*(1+AD39) -> #REF! | AE38: =Z38*(1+AE39) -> #REF! | AF38: =SUM(AB38:AE38) -> #REF!
B39: y/y % | G39: =G38/B38-1 -> #VALUE! | H39: =H38/C38-1 -> #DIV/0! | I39: =I38/D38-1 -> #DIV/0! | J39: =J38/E38-1 -> #DIV/0! | K39: =K38/F38-1 -> #DIV/0! | L39: =L38/G38-1 -> #DIV/0! | M39: =M38/H38-1 -> #DIV/0! | N39: =N38/I38-1 -> #DIV/0! | ... T39: =T38/O38-1 -> 0.59307359 | U39: 0.4 | V39: =V38/Q38-1 -> 0.46187246 | W39: ='Scenario Drivers'!#REF! -> #REF! | X39: ='Scenario Drivers'!#REF! -> #REF! | Y39: ='Scenario Drivers'!#REF! -> #REF! | Z39: ='Scenario Drivers'!#REF! -> #REF! | AA39: =AA38/V38-1 -> #REF! | AB39: ='Scenario Drivers'!#REF! -> #REF! | AC39: ='Scenario Drivers'!#REF! -> #REF! | AD39: ='Scenario Drivers'!#REF! -> #REF! | AE39: ='Scenario Drivers'!#REF! -> #REF! | AF39: =AF38/AA38-1 -> #REF!
B40: Balance (Retail) | L40: =L58-L38-L36 -> 2916 | M40: =M58-M38-M36 -> 772.822 | N40: =N58-N38-N36 -> 789.299 | O40: =O58-O38-O36 -> 812.8 | P40: =P58-P38-P36 -> 1118.9 | Q40: =Q58-Q38-Q36 -> 3493.821 | R40: =R58-R38-R36 -> 953.816 | S40: =S58-S38-S36 -> 954.315 | T40: =T58-T38-T36 -> 997.2 | U40: =P40*(1+U41) -> 1342.68 | V40: =SUM(R40:U40) -> 4248.011 | W40: =R40*(1+W41) -> #REF! | X40: =S40*(1+X41) -> #REF! | Y40: =T40*(1+Y41) -> #REF! | Z40: =U40*(1+Z41) -> #REF! | AA40: =SUM(W40:Z40) -> #REF! | AB40: =W40*(1+AB41) -> #REF! | AC40: =X40*(1+AC41) -> #REF! | AD40: =Y40*(1+AD41) -> #REF! | AE40: =Z40*(1+AE41) -> #REF! | AF40: =SUM(AB40:AE40) -> #REF!
B41: y/y % | G41: =G40/B40-1 -> #VALUE! | H41: =H40/C40-1 -> #DIV/0! | I41: =I40/D40-1 -> #DIV/0! | J41: =J40/E40-1 -> #DIV/0! | K41: =K40/F40-1 -> #DIV/0! | L41: =L40/G40-1 -> #DIV/0! | M41: =M40/H40-1 -> #DIV/0! | N41: =N40/I40-1 -> #DIV/0! | ... T41: =T40/O40-1 -> 0.22687008 | U41: 0.2 | V41: =V40/Q40-1 -> 0.21586395 | W41: ='Scenario Drivers'!#REF! -> #REF! | X41: ='Scenario Drivers'!#REF! -> #REF! | Y41: ='Scenario Drivers'!#REF! -> #REF! | Z41: ='Scenario Drivers'!#REF! -> #REF! | AA41: =AA40/V40-1 -> #REF! | AB41: ='Scenario Drivers'!#REF! -> #REF! | AC41: ='Scenario Drivers'!#REF! -> #REF! | AD41: ='Scenario Drivers'!#REF! -> #REF! | AE41: ='Scenario Drivers'!#REF! -> #REF! | AF41: =AF40/AA40-1 -> #REF!
B42: 2-year stack | R42: =R30+M30 -> 0.266 | S42: =S30+N30 -> 0.245 | T42: =T30+O30 -> 0.295 | U42: =U30+P30 -> 0.265 | V42: =V30+Q30 -> 0.26790456 | W42: =W30+R30 -> 0.292 | X42: =X30+S30 -> 0.274 | Y42: =Y30+T30 -> 0.287 | ... AF42: =AF30+AA30 -> 0.20729107
B43: 3-year stack
B45: Same-Store Sales | L45: =G47*(1+L30) -> 2934.9597 | M45: =H47*(1+M30) -> 795.13978 | N45: =I47*(1+N30) -> 808.39384 | O45: =J47*(1+O30) -> 841.17442 | P45: =K47*(1+P30) -> 1178.5961 | Q45: =L47*(1+Q30) -> 3623.8852 | R45: =M47*(1+R30) -> 1000.0765 | S45: =N47*(1+S30) -> 1003.2869 | ... U45: =P47*(1+U30) -> 1445.862 | V45: =SUM(R45:U45) -> 4512.0123 | W45: =R45*(1+W30) -> 1140.0873 | X45: =S45*(1+X30) -> 1133.7141 | Y45: =T45*(1+Y30) -> 1190.3213 | Z45: =U45*(1+Z30) -> 1604.9068 | AA45: =SUM(W45:Z45) -> 5069.0296 | AB45: =W45*(1+AB30) -> 1254.096 | AC45: =X45*(1+AC30) -> 1235.7484 | AD45: =Y45*(1+AD30) -> 1285.547 | AE45: =Z45*(1+AE30) -> 1717.2503 | AF45: =SUM(AB45:AE45) -> 5492.6417
B46: New Store Sales | L46: =L47-L45 -> 306.44027 | M46: =M47-M45 -> 72.98222 | N46: =N47-N45 -> 68.605164 | O46: =O47-O45 -> 69.525584 | P46: =P47-P45 -> 89.703875 | Q46: =Q47-Q45 -> 300.2358 | R46: =R47-R45 -> 73.639456 | S46: =S47-S45 -> 65.928144 | T46: =T47-T45 -> 68.4131 | U46: =P46*(1+U48) -> 96.357159 | V46: =SUM(R46:U46) -> 304.33786 | W46: =R46*(1+W48) -> 79.623054 | X46: =S46*(1+X48) -> 71.674995 | Y46: =T46*(1+Y48) -> 73.840434 | Z46: =U46*(1+Z48) -> 103.24145 | AA46: =SUM(W46:Z46) -> 328.37994 | AB46: =W46*(1+AB48) -> 85.089605 | AC46: =X46*(1+AC48) -> 76.473844 | AD46: =Y46*(1+AD48) -> 78.664639 | AE46: =Z46*(1+AE48) -> 109.82715 | AF46: =SUM(AB46:AE46) -> 350.05524
B47: Net Sales | G47: =G58 -> 2670.573 | H47: =H58 -> 713.77 | I47: =I58 -> 734.236 | J47: =J58 -> 745.722 | K47: =K58 -> 1047.641 | L47: =L58 -> 3241.4 | M47: =M58 -> 868.122 | N47: =N58 -> 876.999 | ... T47: =T58 -> 1131.2 | U47: =SUM(U45:U46) -> 1542.2192 | V47: =SUM(R47:U47) -> 4816.3502 | W47: =SUM(W45:W46) -> 1219.7103 | X47: =SUM(X45:X46) -> 1205.3891 | Y47: =SUM(Y45:Y46) -> 1264.1618 | Z47: =SUM(Z45:Z46) -> 1708.1483 | AA47: =SUM(W47:Z47) -> 5397.4095 | AB47: =SUM(AB45:AB46) -> 1339.1856 | AC47: =SUM(AC45:AC46) -> 1312.2223 | AD47: =SUM(AD45:AD46) -> 1364.2117 | AE47: =SUM(AE45:AE46) -> 1827.0774 | AF47: =SUM(AB47:AE47) -> 5842.697
B48: New Store Sales Growth % | M48: =M46/H47 -> 0.10224893 | N48: =N46/I47 -> 0.093437483 | O48: =O46/J47 -> 0.093232577 | P48: =P46/K47 -> 0.085624632 | Q48: =Q46/L47 -> 0.092625347 | R48: =R46/M47 -> 0.08482616 | S48: =S46/N47 -> 0.075174708 | T48: =T46/O47 -> 0.075121445 | U48: =U49*U23 -> 0.07416942 | V48: =V46/Q47 -> 0.077555677 | W48: =W49*W23 -> 0.081255321 | X48: =X49*X23 -> 0.087168399 | Y48: =Y49*Y23 -> 0.079331801 | Z48: =Z49*Z23 -> 0.071445585 | AA48: =AA46/V47 -> 0.068180245 | AB48: =AB49*AB23 -> 0.068655381 | AC48: =AC49*AC23 -> 0.066952908 | AD48: =AD49*AD23 -> 0.065332825 | AE48: =AE49*AE23 -> 0.063789294 | AF48: =AF46/AA47 -> 0.064856157
...

Sheet Scenario Drivers
B2: ULTA | C2: =D2-1 -> 2009 | D2: =E2-1 -> 2010 | E2: =F2-1 -> 2011 | F2: =G2-1 -> 2012 | G2: 2013 | H2: 1Q | I2: 2Q | J2: 3Q | K2: 4Q | L2: =G2+1 -> 2014 | M2: 1Q | N2: 2Q | O2: 3Q | P2: 4Q | Q2: =L2+1 -> 2015 | R2: 1QA | S2: 2QA | T2: 3QA | U2: 4QE | V2: 2016E | W2: 1QE | X2: 2QE | Y2: 3QE | Z2: 4QE | AA2: 2017E | AB2: 1QE | AC2: 2QE | AD2: 3QE | AE2: 4QE | AF2: 2018E
B3: Scenario Drivers
B5: CASE TOGGLE:
B6: 2
B8: SSS Growth % | G8: =Model!G30 -> 0.079 | H8: =Model!H30 -> 0 | I8: =Model!I30 -> 0 | J8: =Model!J30 -> 0 | K8: =Model!K30 -> 0 | L8: =Model!L30 -> 0.099 | M8: =Model!M30 -> 0.114 | N8: =Model!N30 -> 0.101 | ... V8: =Model!V30 -> 0.14990456 | W8: =CHOOSE(CASE,W9,W10,W11) -> 0.14 | X8: =CHOOSE(CASE,X9,X10,X11) -> 0.13 | Y8: =CHOOSE(CASE,Y9,Y10,Y11) -> 0.12 | Z8: =CHOOSE(CASE,Z9,Z10,Z11) -> 0.11 | AA8: =Model!AA30 -> 0.12358813 | AB8: =CHOOSE(CASE,AB9,AB10,AB11) -> 0.1 | AC8: =CHOOSE(CASE,AC9,AC10,AC11) -> 0.09 | AD8: =CHOOSE(CASE,AD9,AD10,AD11) -> 0.08 | AE8: =CHOOSE(CASE,AE9,AE10,AE11) -> 0.07 | AF8: =Model!AF30 -> 0.083702941
B9: 1. Bear | W9: 0.1 | X9: =W9-0.01 -> 0.09 | Y9: =X9-0.01 -> 0.08 | Z9: =Y9-0.01 -> 0.07 | AB9: =Z9-0.01 -> 0.06 | AC9: =AB9-0.01 -> 0.05 | AD9: =AC9-0.01 -> 0.04 | AE9: =AD9-0.01 -> 0.03
B10: 2. Base | W10: 0.14 | X10: =W10-0.01 -> 0.13 | Y10: =X10-0.01 -> 0.12 | Z10: =Y10-0.01 -> 0.11 | AB10: =Z10-0.01 -> 0.1 | AC10: =AB10-0.01 -> 0.09 | AD10: =AC10-0.01 -> 0.08 | AE10: =AD10-0.01 -> 0.07
B11: 3. Bull | W11: 0.16 | X11: =W11-0.005 -> 0.155 | Y11: =X11-0.005 -> 0.15 | Z11: =Y11-0.005 -> 0.145 | AB11: =Z11-0.01 -> 0.135 | AC11: =AB11-0.005 -> 0.13 | AD11: =AC11-0.005 -> 0.125 | AE11: =AD11-0.005 -> 0.12
B13: New Store Productivity % | H13: =Model!H49 -> 0 | I13: =Model!I49 -> 0 | J13: =Model!J49 -> 0 | K13: =Model!K49 -> 0 | M13: =Model!M49 -> 0.7321369 | N13: =Model!N49 -> 0.71585593 | O13: =Model!O49 -> 0.68864266 | P13: =Model!P49 -> 0.62773939 | Q13: =Model!Q49 -> 0.68721607 | R13: =Model!R49 -> 0.7162961 | S13: =Model!S49 -> 0.69290686 | T13: =Model!T49 -> 0.71557094 | ... V13: =Model!V49 -> 0.65822913 | W13: =CHOOSE(CASE,W14,W15,W16) -> 0.7 | X13: =CHOOSE(CASE,X14,X15,X16) -> 0.7 | Y13: =CHOOSE(CASE,Y14,Y15,Y16) -> 0.7 | Z13: =CHOOSE(CASE,Z14,Z15,Z16) -> 0.7 | AA13: =Model!AA49 -> 0.64347488 | AB13: =CHOOSE(CASE,AB14,AB15,AB16) -> 0.675 | AC13: =CHOOSE(CASE,AC14,AC15,AC16) -> 0.675 | AD13: =CHOOSE(CASE,AD14,AD15,AD16) -> 0.675 | AE13: =CHOOSE(CASE,AE14,AE15,AE16) -> 0.675 | AF13: =Model!AF49 -> 0.66196819
B14: 1. Bear | W14: 0.65 | X14: =W14 -> 0.65 | Y14: =X14 -> 0.65 | Z14: =Y14 -> 0.65 | AB14: =W14-0.025 -> 0.625 | AC14: =X14-0.025 -> 0.625 | AD14: =Y14-0.025 -> 0.625 | AE14: =Z14-0.025 -> 0.625
B15: 2. Base | W15: 0.7 | X15: =W15 -> 0.7 | Y15: =X15 -> 0.7 | Z15: =Y15 -> 0.7 | AB15: =W15-0.025 -> 0.675 | AC15: =X15-0.025 -> 0.675 | AD15: =Y15-0.025 -> 0.675 | AE15: =Z15-0.025 -> 0.675
B16: 3. Bull | W16: 0.75 | X16: =W16 -> 0.75 | Y16: =X16 -> 0.75 | Z16: =Y16 -> 0.75 | AB16: =W16-0.025 -> 0.725 | AC16: =X16-0.025 -> 0.725 | AD16: =Y16-0.025 -> 0.725 | AE16: =Z16-0.025 -> 0.725
B18: Gross Margin % | G18: =Model!G77 -> 0.3524517 | H18: =Model!H77 -> 1 | I18: =Model!I77 -> 1 | J18: =Model!J77 -> 1 | K18: =Model!K77 -> 0.33383287 | L18: =Model!L77 -> 0.35071821 | M18: =Model!M77 -> 0.34924124 | N18: =Model!N77 -> 0.34945878 | ... V18: =Model!V77 -> 0.36490036 | W18: =CHOOSE(CASE,W19,W20,W21) -> 0.36362502 | X18: =CHOOSE(CASE,X19,X20,X21) -> 0.35992574 | Y18: =CHOOSE(CASE,Y19,Y20,Y21) -> 0.37749381 | Z18: =CHOOSE(CASE,Z19,Z20,Z21) -> 0.36 | AA18: =Model!AA77 -> 0.36489994 | AB18: =CHOOSE(CASE,AB19,AB20,AB21) -> 0.36362502 | AC18: =CHOOSE(CASE,AC19,AC20,AC21) -> 0.35992574 | AD18: =CHOOSE(CASE,AD19,AD20,AD21) -> 0.37749381 | AE18: =CHOOSE(CASE,AE19,AE20,AE21) -> 0.36 | AF18: =Model!AF77 -> 0.36489883
B19: 1. Bear | W19: =R$18-0.01 -> 0.35362502 | X19: =S$18-0.01 -> 0.34992574 | Y19: =T$18-0.01 -> 0.36749381 | Z19: =U$18-0.01 -> 0.35 | AB19: =W$18-0.01 -> 0.35362502 | AC19: =X$18-0.01 -> 0.34992574 | AD19: =Y$18-0.01 -> 0.36749381 | AE19: =Z$18-0.01 -> 0.35
B20: 2. Base | W20: =R$18 -> 0.36362502 | X20: =S$18 -> 0.35992574 | Y20: =T$18 -> 0.37749381 | Z20: =U$18 -> 0.36 | AB20: =W$18 -> 0.36362502 | AC20: =X$18 -> 0.35992574 | AD20: =Y$18 -> 0.37749381 | AE20: =Z$18 -> 0.36
B21: 3. Bull | W21: =R$18+0.01 -> 0.37362502 | X21: =S$18+0.01 -> 0.36992574 | Y21: =T$18+0.01 -> 0.38749381 | Z21: =U$18+0.01 -> 0.37 | AB21: =W$18+0.01 -> 0.37362502 | AC21: =X$18+0.01 -> 0.36992574 | AD21: =Y$18+0.01 -> 0.38749381 | AE21: =Z$18+0.01 -> 0.37
B23: SG&A/Sales % | G23: =Model!G85 -> 0.22331912 | H23: =Model!H85 -> 0 | I23: =Model!I85 -> 0 | J23: =Model!J85 -> 0 | K23: =Model!K85 -> 0.20112042 | L23: =Model!L85 -> 0.21965817 | M23: =Model!M85 -> 0.22172575 | N23: =Model!N85 -> 0.20973456 | ... V23: =Model!V85 -> 0.22773598 | W23: =CHOOSE(CASE,W24,W25,W26) -> 0.22419709 | X23: =CHOOSE(CASE,X24,X25,X26) -> 0.22107808 | Y23: =CHOOSE(CASE,Y24,Y25,Y26) -> 0.24793494 | Z23: =CHOOSE(CASE,Z24,Z25,Z26) -> 0.22 | AA23: =Model!AA85 -> 0.22773205 | AB23: =CHOOSE(CASE,AB24,AB25,AB26) -> 0.22419709 | AC23: =CHOOSE(CASE,AC24,AC25,AC26) -> 0.22107808 | AD23: =CHOOSE(CASE,AD24,AD25,AD26) -> 0.24793494 | AE23: =CHOOSE(CASE,AE24,AE25,AE26) -> 0.22 | AF23: =Model!AF85 -> 0.22772666
B24: 1. Bear | W24: =R$23-0.01 -> 0.21419709 | X24: =S$23-0.01 -> 0.21107808 | Y24: =T$23-0.01 -> 0.23793494 | Z24: =U$23-0.01 -> 0.21 | AB24: =W$23-0.01 -> 0.21419709 | AC24: =X$23-0.01 -> 0.21107808 | AD24: =Y$23-0.01 -> 0.23793494 | AE24: =Z$23-0.01 -> 0.21
B25: 2. Base | W25: =R$23 -> 0.22419709 | X25: =S$23 -> 0.22107808 | Y25: =T$23 -> 0.24793494 | Z25: =U$23 -> 0.22 | AB25: =W$23 -> 0.22419709 | AC25: =X$23 -> 0.22107808 | AD25: =Y$23 -> 0.24793494 | AE25: =Z$23 -> 0.22
B26: 3. Bull | W26: =R$23+0.01 -> 0.23419709 | X26: =S$23+0.01 -> 0.23107808 | Y26: =T$23+0.01 -> 0.25793494 | Z26: =U$23+0.01 -> 0.23 | AB26: =W$23+0.01 -> 0.23419709 | AC26: =X$23+0.01 -> 0.23107808 | AD26: =Y$23+0.01 -> 0.25793494 | AE26: =Z$23+0.01 -> 0.23
